BEGIN:VCALENDAR
VERSION:2.0
PRODID:-//jEvents 2.0 for Joomla//EN
CALSCALE:GREGORIAN
METHOD:PUBLISH
BEGIN:VEVENT
UID:93cbe0e249a0b8fa42357519fe3a1366
CATEGORIES:Polar Conferences, Meetings and Events
CREATED:20170213T093642
SUMMARY:Conversations from the North Conference
LOCATION: Aberdeen  UK
DESCRIPTION:The University of Aberdeen is convening a major international conference on
  the theme:Conversations from the North: Scholars of many disciplines and i
 nhabitants of many places in dialogue with one another, with animals and pl
 ants, and with the land.\nThe conference is being held in association with 
 the 11th Rectors’ Forum of the University of the Arctic, and will take plac
 e in Aberdeen from August 27th to 29th 2017.\nThe goal of the conference is
  to celebrate the University’s emergence as a world-leading centre for inte
 rdisciplinary research on the circumpolar North.\nThe conference will be fu
 lly interdisciplinary, with themes including:\nthe Anthropocene in the Arct
 ic movements and encounters of northern peoples in the long term health, de
 mography and culture change in the North land, sovereignty and indigenous r
 ights political regimes and international relations in the circumpolar Nort
 h.\nA call for abstracts, for both oral and poster presentations, is now op
 en, with a submission deadline of February 14th 2017. Full instructions for
  submission, along with details of the conference theme, programme and regi
 stration, are available at http://www.abdn.ac.uk/uarctic/abstract-submissio
 n/ .\nWe welcome your submissions. Please feel free to distribute this call
  among your own networks. Should you have any inquiries, don’t hesitate to 
 contact us at This email address is being protected from spambots. You need
  JavaScript enabled to view it.
				document.getElementById('cloak661a279ae
 035c33720b328facda81d48').innerHTML = '';
				var prefix = '&#109;a' + 'i&#
 108;' + '&#116;o';
				var path = 'hr' + 'ef' + '=';
				var addy661a279ae0
 35c33720b328facda81d48 = 'th&#101;n&#111;rth' + '&#64;';
				addy661a279ae0
 35c33720b328facda81d48 = addy661a279ae035c33720b328facda81d48 + '&#97;bdn' 
 + '&#46;' + '&#97;c' + '&#46;' + '&#117;k';
				var addy_text661a279ae035c3
 3720b328facda81d48 = 'th&#101;n&#111;rth' + '&#64;' + '&#97;bdn' + '&#46;' 
 + '&#97;c' + '&#46;' + '&#117;k';document.getElementById('cloak661a279ae035
 c33720b328facda81d48').innerHTML += '<a ' + path + '\'' + prefix + ':' + ad
 dy661a279ae035c33720b328facda81d48 + '\'>'+addy_text661a279ae035c33720b328f
 acda81d48+'';
		 .\n \n \n
X-ALT-DESC;FMTTYPE=text/html:<p style="text-align: justify;"><strong>The University of Aberdeen is conve
 ning a major international conference on the theme:Conversations from the N
 orth: Scholars of many disciplines and inhabitants of many places in dialog
 ue with one another, with animals and plants, and with the land.</strong></
 p><p style="text-align: justify;">The conference is being held in associati
 on with the 11th Rectors’ Forum of the University of the Arctic, and will t
 ake place in Aberdeen from <strong>August 27th to 29th 2017.</strong></p><p
  style="text-align: justify;">The goal of the conference is to celebrate th
 e University’s emergence as a world-leading centre for interdisciplinary re
 search on the circumpolar North.</p><p style="text-align: justify;"><strong
 >The conference will be fully interdisciplinary, with themes including:</st
 rong></p><p style="text-align: justify;">the Anthropocene in the Arctic mov
 ements and encounters of northern peoples in the long term health, demograp
 hy and culture change in the North land, sovereignty and indigenous rights 
 political regimes and international relations in the circumpolar North.</p>
 <p style="text-align: justify;">A call for abstracts, for both oral and pos
 ter presentations, is now open, with a submission deadline of<strong> Febru
 ary 14th 2017.</strong> Full instructions for submission, along with detail
 s of the conference theme, programme and registration, are available at <a 
 href="http://www.abdn.ac.uk/uarctic/abstract-submission/">http://www.abdn.a
 c.uk/uarctic/abstract-submission/</a> .</p><p style="text-align: justify;">
 We welcome your submissions. Please feel free to distribute this call among
  your own networks. Should you have any inquiries, don’t hesitate to contac
 t us at <span id="cloak661a279ae035c33720b328facda81d48">This email address
  is being protected from spambots. You need JavaScript enabled to view it.<
 /span><script type='text/javascript'>
				document.getElementById('cloak661
 a279ae035c33720b328facda81d48').innerHTML = '';
				var prefix = '&#109;a' 
 + 'i&#108;' + '&#116;o';
				var path = 'hr' + 'ef' + '=';
				var addy661a
 279ae035c33720b328facda81d48 = 'th&#101;n&#111;rth' + '&#64;';
				addy661a
 279ae035c33720b328facda81d48 = addy661a279ae035c33720b328facda81d48 + '&#97
 ;bdn' + '&#46;' + '&#97;c' + '&#46;' + '&#117;k';
				var addy_text661a279a
 e035c33720b328facda81d48 = 'th&#101;n&#111;rth' + '&#64;' + '&#97;bdn' + '&
 #46;' + '&#97;c' + '&#46;' + '&#117;k';document.getElementById('cloak661a27
 9ae035c33720b328facda81d48').innerHTML += '<a ' + path + '\'' + prefix + ':
 ' + addy661a279ae035c33720b328facda81d48 + '\'>'+addy_text661a279ae035c3372
 0b328facda81d48+'<\/a>';
		</script> .</p><p style="text-align: justify;"><
 strong> </strong></p><p style="text-align: justify;"> </p>
DTSTAMP:20260424T235628Z
DTSTART;TZID=UTC;VALUE=DATE:20170827
DTEND;TZID=UTC;VALUE=DATE:20170830
SEQUENCE:0
TRANSP:OPAQUE
END:VEVENT
END:VCALENDAR