BEGIN:VCALENDAR
VERSION:2.0
PRODID:-//jEvents 2.0 for Joomla//EN
CALSCALE:GREGORIAN
METHOD:PUBLISH
BEGIN:VEVENT
UID:64ee79af5eca36c9be8c8204487b8ea9
CATEGORIES:Polar Online Events
CREATED:20220610T092435
SUMMARY:IARPC Program Manager Chat - Early Career Opportunities in Arctic Research
LOCATION:Online
DESCRIPTION:The Interagency Arctic Research Policy Committee (IARPC) announces their up
 coming IARPC Program Manager Chat webinar, Early Career Opportunities in Ar
 ctic Research. This webinar will take place 23 June 2022 from 11:00 a.m. to
  12:30 p.m. AKDT.\nJoin IARPC for a federal program manager chat about rese
 arch, funding, internship, employment, and other opportunities available fo
 r early career researchers in Arctic sciences.\nStaff from NASA, the Smiths
 onian Institution, the U.S. Geological Survey, the Department of Energy, NO
 AA, the U.S. Coast Guard, and the National Science Foundation will share in
 formation about opportunities offered by their agencies. After short presen
 tations, there will be ample time for questions with the panel of program o
 fficers.\nThis webinar will be recorded and posted on this page and on the 
 .\nFor more information, including webinar connection information, go to th
 e <a href="https://www.arcus.org/civicrm/mailing/url?u=37150&amp;qid=663404
 4" target="_blank" rel="nofollow noopener" data-saferedirecturl="https://ww
 w.google.com/url?q=https://www.arcus.org/civicrm/mailing/url?u=37150&amp;qi
 d=6634044&amp;source=gmail&amp;ust=1654932686407000&amp;usg=AOvVaw2D23hPay9
 czWy1gs0Zhwdb">event webpage</a>.\nFor questions contact: Liz Weinberg at T
 his email address is being protected from spambots. You need JavaScript ena
 bled to view it.
				document.getElementById('cloak075603d0c8ab64a3906aaa38
 850bec00').innerHTML = '';
				var prefix = '&#109;a' + 'i&#108;' + '&#116;
 o';
				var path = 'hr' + 'ef' + '=';
				var addy075603d0c8ab64a3906aaa388
 50bec00 = 'l&#105;z' + '&#64;';
				addy075603d0c8ab64a3906aaa38850bec00 = 
 addy075603d0c8ab64a3906aaa38850bec00 + '&#105;&#97;rpcc&#111;ll&#97;b&#111;
 r&#97;t&#105;&#111;ns' + '&#46;' + '&#111;rg';
				var addy_text075603d0c8a
 b64a3906aaa38850bec00 = 'l&#105;z[&#97;t]&#105;&#97;rpcc&#111;ll&#97;b&#111
 ;r&#97;t&#105;&#111;ns.&#111;rg';document.getElementById('cloak075603d0c8ab
 64a3906aaa38850bec00').innerHTML += '<a ' + path + '\'' + prefix + ':' + ad
 dy075603d0c8ab64a3906aaa38850bec00 + '\'>'+addy_text075603d0c8ab64a3906aaa3
 8850bec00+'';
		\n
X-ALT-DESC;FMTTYPE=text/html:<p>The<strong> Interagency Arctic Research Policy Committee (IARPC)</strong
 > announces their upcoming IARPC Program Manager Chat webinar, <em>Early Ca
 reer Opportunities in Arctic Research</em>. This webinar will take place <s
 trong>23 June 2022 from 11:00 a.m. to 12:30 p.m. AKDT</strong>.</p><p>Join 
 IARPC for a federal program manager chat about research, funding, internshi
 p, employment, and other opportunities available for early career researche
 rs in Arctic sciences.</p><p>Staff from NASA, the Smithsonian Institution, 
 the U.S. Geological Survey, the Department of Energy, NOAA, the U.S. Coast 
 Guard, and the National Science Foundation will share information about opp
 ortunities offered by their agencies. After short presentations, there will
  be ample time for questions with the panel of program officers.</p><p>This
  webinar will be recorded and posted on this page and on the <a href="https
 ://www.arcus.org/civicrm/mailing/url?u=37151&amp;qid=6634044" target="_blan
 k" rel="nofollow noopener" data-saferedirecturl="https://www.google.com/url
 ?q=https://www.arcus.org/civicrm/mailing/url?u=37151&amp;qid=6634044&amp;so
 urce=gmail&amp;ust=1654932686407000&amp;usg=AOvVaw0OlDgrRsJ2p1xET_wgiVUM">I
 ARPC YouTube channel</a>.</p><p>For more information, including webinar con
 nection information, go to the <a href="https://www.arcus.org/civicrm/maili
 ng/url?u=37150&amp;qid=6634044" target="_blank" rel="nofollow noopener" dat
 a-saferedirecturl="https://www.google.com/url?q=https://www.arcus.org/civic
 rm/mailing/url?u=37150&amp;qid=6634044&amp;source=gmail&amp;ust=16549326864
 07000&amp;usg=AOvVaw2D23hPay9czWy1gs0Zhwdb">event webpage</a>.</p><p>For qu
 estions contact: Liz Weinberg at <span id="cloak66ad288c18d5fc655f55f39dacc
 4996e"><span id="cloak075603d0c8ab64a3906aaa38850bec00">This email address 
 is being protected from spambots. You need JavaScript enabled to view it.</
 span><script type='text/javascript'>
				document.getElementById('cloak0756
 03d0c8ab64a3906aaa38850bec00').innerHTML = '';
				var prefix = '&#109;a' +
  'i&#108;' + '&#116;o';
				var path = 'hr' + 'ef' + '=';
				var addy07560
 3d0c8ab64a3906aaa38850bec00 = 'l&#105;z' + '&#64;';
				addy075603d0c8ab64a
 3906aaa38850bec00 = addy075603d0c8ab64a3906aaa38850bec00 + '&#105;&#97;rpcc
 &#111;ll&#97;b&#111;r&#97;t&#105;&#111;ns' + '&#46;' + '&#111;rg';
				var 
 addy_text075603d0c8ab64a3906aaa38850bec00 = 'l&#105;z[&#97;t]&#105;&#97;rpc
 c&#111;ll&#97;b&#111;r&#97;t&#105;&#111;ns.&#111;rg';document.getElementByI
 d('cloak075603d0c8ab64a3906aaa38850bec00').innerHTML += '<a ' + path + '\''
  + prefix + ':' + addy075603d0c8ab64a3906aaa38850bec00 + '\'>'+addy_text075
 603d0c8ab64a3906aaa38850bec00+'<\/a>';
		</script></span></p>
DTSTAMP:20260420T034744Z
DTSTART;TZID=UTC;VALUE=DATE:20220623
DTEND;TZID=UTC;VALUE=DATE:20220624
SEQUENCE:0
TRANSP:OPAQUE
END:VEVENT
END:VCALENDAR