BEGIN:VCALENDAR
VERSION:2.0
PRODID:-//jEvents 2.0 for Joomla//EN
CALSCALE:GREGORIAN
METHOD:PUBLISH
BEGIN:VEVENT
UID:f90175769cb24a4419934cfd0e736e8b
CATEGORIES:Polar Conferences, Meetings and Events
CREATED:20220531T135626
SUMMARY:5th International Arctic Metrology Workshop (online)
DESCRIPTION:5th International Arctic Metrology Workshop (online)\nA workshop will be ho
 sted at SIOS organised by Andrea Merlone from the National Institute of Met
 rology of Italy (INRiM)\nThe series of “International Arctic Metrology Work
 shops” has been established to facilitate the cooperation between the inter
 national metrology community and the researchers operating in the Arctic. T
 he key topics are focusing on improving data quality through instrument cal
 ibration and uncertainty evaluation, including ad hoc infrastructures, labo
 ratories and projects.\nWednesday 8th of June 15:00-18:00\nThursday 9th of 
 June 09:00-12:00\n\nRegister by 6 June at:\n (https://sios-svalbard.org/Met
 rologyWS)<a href="https://sios-svalbard.org/MetrologyWS">https://sios-svalb
 ard.org/MetrologyWS</a>\n
X-ALT-DESC;FMTTYPE=text/html:<p><span lang="EN-GB">5th International Arctic Metrology Workshop (online)<
 /span></p><p><span lang="EN-GB">A workshop will be hosted at SIOS organised
  by Andrea Merlone from the National Institute of Metrology of Italy (INRiM
 )</span></p><p><span lang="EN-GB">The series of “International Arctic Metro
 logy Workshops” has been established to facilitate the cooperation between 
 the international metrology community and the researchers operating in the 
 Arctic. The key topics are focusing on improving data quality through instr
 ument calibration and uncertainty evaluation, including ad hoc infrastructu
 res, laboratories and projects.</span></p><p><span lang="EN-GB">Wednesday 8
 th of June 15:00-18:00</span></p><p><span lang="EN-GB">Thursday 9<sup>th</s
 up>&nbsp;of June 09:00-12:00</span></p><p><span lang="EN-GB"></span></p><p>
 <span lang="EN-GB">Register by 6 June at:</span></p><p><a href="https://sio
 s-svalbard.org/MetrologyWS" target="_blank" rel="noopener" data-saferedirec
 turl="https://www.google.com/url?q=https://sios-svalbard.org/MetrologyWS&am
 p;source=gmail&amp;ust=1653739596814000&amp;usg=AOvVaw2YS88ox5uvuFomJEdArlT
 0"></a><a href="https://sios-svalbard.org/MetrologyWS">https://sios-svalbar
 d.org/MetrologyWS</a></p>
DTSTAMP:20260419T171302Z
DTSTART;TZID=UTC:20220608T080000
DTEND;TZID=UTC:20220609T170000
SEQUENCE:0
TRANSP:OPAQUE
END:VEVENT
END:VCALENDAR