BEGIN:VCALENDAR
VERSION:2.0
PRODID:-//jEvents 2.0 for Joomla//EN
CALSCALE:GREGORIAN
METHOD:PUBLISH
BEGIN:VEVENT
UID:f6004387b3c8957b689ee196443bc4a3
CATEGORIES:Polar Online Events
CREATED:20220523T130302
SUMMARY:ICPM Early Career Scientist Webinar Series: Seasonal sea ice prediction
LOCATION:Online
DESCRIPTION:Please join us on May 31st at 14 UTC for the International Commission on Me
 teorology (ICPM)’s Early Career Scientist Webinar Series presentation by Pr
 of. François Massonnet on “Seasonal sea ice prediction in the Southern Ocea
 n: where are we?”\nSee the flyer (images/Articles/Files/icpm_webinar_flyer_
 francois5.pdf) for details on how to join us for this virtual presentation.
 \n
X-ALT-DESC;FMTTYPE=text/html:<p>Please join us on May 31<sup>st</sup> at 14 UTC for the International Co
 mmission on Meteorology (ICPM)’s Early Career Scientist Webinar Series pres
 entation by <strong>Prof. François Massonnet</strong> on “<strong>Seasonal 
 sea ice prediction in the Southern Ocean: where are we?</strong>”</p><p><a 
 href="images/Articles/Files/icpm_webinar_flyer_francois5.pdf" target="_blan
 k">See the flyer</a> for details on how to join us for this virtual present
 ation.</p>
DTSTAMP:20260420T131548Z
DTSTART;TZID=UTC;VALUE=DATE:20220531
DTEND;TZID=UTC;VALUE=DATE:20220601
SEQUENCE:0
TRANSP:OPAQUE
END:VEVENT
END:VCALENDAR