BEGIN:VCALENDAR
VERSION:2.0
PRODID:-//jEvents 2.0 for Joomla//EN
CALSCALE:GREGORIAN
METHOD:PUBLISH
BEGIN:VEVENT
UID:ae168d43f7edd3fecfe57eae9f61e9a6
CATEGORIES:Polar Conferences, Meetings and Events
CREATED:20220523T125923
SUMMARY:EGU Cryosphere Division Social
LOCATION:Vienna\, Austria
DESCRIPTION:For those attending EGU22 in person next week, we hope you can join us for 
 our Division Social - the first one in 3 years! Details below: \n - When an
 d Where: 19:00 – 22:30 Wed 25 May, Wieden Bräu (https://g.page/wiedenbraeu?
 share)\n - Nearest metro station: Taubstummengasse (Line U1)\n - Descriptio
 n: Finally, our infamous Cryo meet-up sessions return, this year at Wieden 
 Bräu, a pub-turned-taproom near the city centre and an easy train ride from
  the conference centre. Food and drink are both available for order, though
  we encourage attendees to eat prior to arriving to not overwhelm the kitch
 en staff! This event is open for everyone within the CR Division regardless
  of age or career stage.EGU Cryosphere Team\n
X-ALT-DESC;FMTTYPE=text/html:<div>For those attending EGU22 in person next week, we hope you can join us
  for our Division Social - the first one in 3 years! Details below:&nbsp;</
 div><div><ul><li><span style="text-decoration: underline;">When and Where</
 span>: 19:00 – 22:30 Wed 25 May,&nbsp;<a href="https://g.page/wiedenbraeu?s
 hare" target="_blank" rel="noopener" data-saferedirecturl="https://www.goog
 le.com/url?q=https://g.page/wiedenbraeu?share&amp;source=gmail&amp;ust=1653
 395835250000&amp;usg=AOvVaw3UXsACuav-WV6pdNSvtESL">Wieden Bräu</a></li><li>
 <span style="text-decoration: underline;">Nearest metro station</span>: Tau
 bstummengasse (Line U1)</li><li><span style="text-decoration: underline;">D
 escription</span>: Finally, our infamous Cryo meet-up sessions return, this
  year at Wieden&nbsp;Bräu, a pub-turned-taproom near the city centre and an
  easy train ride&nbsp;from the conference centre. Food and drink are both a
 vailable for order,&nbsp;though we encourage attendees to eat prior to arri
 ving to not overwhelm&nbsp;the kitchen staff! This event is open for everyo
 ne within the CR Division&nbsp;regardless of age or career stage.</li></ul>
 <p>EGU Cryosphere Team</p></div>
DTSTAMP:20260420T214215Z
DTSTART;TZID=UTC;VALUE=DATE:20220525
DTEND;TZID=UTC;VALUE=DATE:20220526
SEQUENCE:0
TRANSP:OPAQUE
END:VEVENT
END:VCALENDAR