BEGIN:VCALENDAR
VERSION:2.0
PRODID:-//jEvents 2.0 for Joomla//EN
CALSCALE:GREGORIAN
METHOD:PUBLISH
BEGIN:VEVENT
UID:0ac02f3955ed16a99a42c6dccd1d4f3c
CATEGORIES:Polar Online Events
CREATED:20220516T082306
SUMMARY:INSTANT Antarctic geological Boundary Conditions discussion
LOCATION:Online
DESCRIPTION:<p>The Antarctic geological Boundary Conditions (ABC) component of the SCAR
 -INSTANT programme is (finally) ‘launching’ by having an online meeting to 
 discuss community priorities around understanding Antarctic boundary condit
 ions (e.g. geology, geomorphology, bed etc.) and their links with the overl
 ying modern and past ice sheet (see registration link below for info on are
 as for discussion).</p><p>We have planned a 1.5-2 hour online meeting (repe
 ated twice to enable those in different time zones to contribute at less an
 tisocial times) in which we will outline ABC and then have a series of disc
 ussions around possible work packages. Here, we are hopeful that the commun
 ity will come together and tell us what they either are doing, or what they
  want to do, and in doing so, we hope to populate some workpackages with sc
 ientists of <strong>all career stages</strong>. There is no need to prepare
  before the meeting – just turn up (see below) and get involved even if you
  have never been involved in SCAR activities before.</p><p>The meetings are
  scheduled for:</p><p>Meeting 1: <strong>6pm UTC on June 8<sup>th</sup> </s
 trong></p><p>Meeting 2: <strong>3am UTC on June 9<sup>th</sup></strong></p>
 <p><strong>To attend, please register by June 1<sup>st</sup> via the follow
 ing link so that we can enable a secure meeting: <a href="https://forms.off
 ice.com/r/iNuSdSddR6" data-saferedirecturl="https://www.google.com/url?q=ht
 tps://forms.office.com/r/iNuSdSddR6&amp;source=gmail&amp;ust=16527754957540
 00&amp;usg=AOvVaw3-U8OpC9Fc1JMRVHgVzXhZ"></a><a href="https://forms.office.
 com/r/iNuSdSddR6" target="_blank" rel="noopener">https://forms.office.com/r
 /iNuSdSddR6</a></strong></p><p>Zoom links will then be sent out prior to th
 e meeting.</p><p>In the meantime, the ABC plan is available at: <a href="ht
 tps://www.scar-instant.org/index.php/research-themes/theme-2-solid-earth-ic
 e-interactions/sc4-antarctic-geological-boundary-conditions-abc" target="_b
 lank" rel="noopener" data-saferedirecturl="https://www.google.com/url?q=htt
 ps://www.scar-instant.org/index.php/research-themes/theme-2-solid-earth-ice
 -interactions/sc4-antarctic-geological-boundary-conditions-abc&amp;source=g
 mail&amp;ust=1652775495754000&amp;usg=AOvVaw3eXJxPX-x0XZ2a-v_qIlvu">SC4 Ant
 arctic Geological Boundary Conditions (scar-instant.org)</a></p><p>If there
  are any questions, please get in touch with&nbsp;Stewart Jamieson (<span i
 d="cloak4f4d9e7a4d375dec901ccde46adcdb6e">This email address is being prote
 cted from spambots. You need JavaScript enabled to view it.</span><script t
 ype='text/javascript'>
				document.getElementById('cloak4f4d9e7a4d375dec90
 1ccde46adcdb6e').innerHTML = '';
				var prefix = '&#109;a' + 'i&#108;' + '
 &#116;o';
				var path = 'hr' + 'ef' + '=';
				var addy4f4d9e7a4d375dec901
 ccde46adcdb6e = 'St&#101;w&#97;rt.J&#97;m&#105;&#101;s&#111;n' + '&#64;';
	
 			addy4f4d9e7a4d375dec901ccde46adcdb6e = addy4f4d9e7a4d375dec901ccde46adcd
 b6e + 'd&#117;rh&#97;m' + '&#46;' + '&#97;c' + '&#46;' + '&#117;k';
				var
  addy_text4f4d9e7a4d375dec901ccde46adcdb6e = 'St&#101;w&#97;rt.J&#97;m&#105
 ;&#101;s&#111;n[&#97;t]d&#117;rh&#97;m.&#97;c.&#117;k';document.getElementB
 yId('cloak4f4d9e7a4d375dec901ccde46adcdb6e').innerHTML += '<a ' + path + '\
 '' + prefix + ':' + addy4f4d9e7a4d375dec901ccde46adcdb6e + '\'>'+addy_text4
 f4d9e7a4d375dec901ccde46adcdb6e+'<\/a>';
		</script>) or Mickey Mackie (<sp
 an id="cloakae0d84b86e4acac93d66b5a1c4048b93">This email address is being p
 rotected from spambots. You need JavaScript enabled to view it.</span><scri
 pt type='text/javascript'>
				document.getElementById('cloakae0d84b86e4aca
 c93d66b5a1c4048b93').innerHTML = '';
				var prefix = '&#109;a' + 'i&#108;'
  + '&#116;o';
				var path = 'hr' + 'ef' + '=';
				var addyae0d84b86e4acac
 93d66b5a1c4048b93 = '&#101;m&#97;ck&#105;&#101;' + '&#64;';
				addyae0d84b
 86e4acac93d66b5a1c4048b93 = addyae0d84b86e4acac93d66b5a1c4048b93 + '&#117;f
 l' + '&#46;' + '&#101;d&#117;';
				var addy_textae0d84b86e4acac93d66b5a1c4
 048b93 = '&#101;m&#97;ck&#105;&#101;[&#97;t]&#117;fl.&#101;d&#117;';documen
 t.getElementById('cloakae0d84b86e4acac93d66b5a1c4048b93').innerHTML += '<a 
 ' + path + '\'' + prefix + ':' + addyae0d84b86e4acac93d66b5a1c4048b93 + '\'
 >'+addy_textae0d84b86e4acac93d66b5a1c4048b93+'<\/a>';
		</script>), or if y
 ou cannot attend but wish to have input, then feel free to email us.</p>
DTSTAMP:20260422T005609Z
DTSTART;TZID=UTC;VALUE=DATE:20220608
DTEND;TZID=UTC;VALUE=DATE:20220610
SEQUENCE:0
TRANSP:OPAQUE
END:VEVENT
END:VCALENDAR