BEGIN:VCALENDAR
VERSION:2.0
PRODID:-//jEvents 2.0 for Joomla//EN
CALSCALE:GREGORIAN
METHOD:PUBLISH
BEGIN:VEVENT
UID:b94e9d6947b0a57bc50703b29393b538
CATEGORIES:Polar Conferences, Meetings and Events
CREATED:20220516T081433
SUMMARY:9th Polar and Alpine Microbiology Meeting (PAM2022)
LOCATION:Potsdam\, Germany
DESCRIPTION:Please note that after two years of pandemic we are pleased to invite you t
 o the 9th Polar and Alpine Microbiology Meeting (PAM2022) that will take pl
 ace in person in German Research Centre for Geosciences (GFZ), Potsdam, Ger
 many between the 9th and 14th of Oct 2022.\nFor more information and regula
 r updates please bookmark this link  (https://events.gfz-potsdam.de/pam2022
 )<a href="https://events.gfz-potsdam.de/pam2022" target="_blank" rel="noope
 ner">https://events.gfz-potsdam.de/pam2022</a> \nImportant dates: \nAbstrac
 t submission: 15 July 2022\nEarly bird registration: 15 August 2022\nThe ob
 jectives of PAM2022 is to bring together researchers from all over the worl
 d to discuss various aspects of microbial diversity, function and activity 
 related to cold-adapted microorganisms in polar and alpine environments. Ou
 r aim is to foster discussions about recent developments in the field and t
 o exchange ideas and experiences on an international scale.\nThe conference
  will cover different aspects of polar and alpine microbiology:\n\n - Micro
 bial diversity and biogeography in permafrost environments\n - Metabolic ac
 tivity at subzero temperature\n - Mechanisms of microbial adaptation and su
 rvival in polar environments\n - Permafrost astrobiology\n - Plant-microbe 
 interaction\n - Microbial communities and global change\n - Carbon and nitr
 ogen turnover\n - Microbial gene pool of cold environments\n - Biotechnolog
 y for cyrospheric microorganisms\n - Eukaryotic microbial diversity (e.g. a
 lgae and fungi)\n - Viruses in polar and alpine environmentsWe are looking 
 forward to meeting you in Potsdam in October 2022 and would appreciate if y
 ou could spread the word about this meeting.\n
X-ALT-DESC;FMTTYPE=text/html:<p>Please note that after two years of pandemic we are pleased to invite yo
 u to the <strong>9th Polar and Alpine Microbiology Meeting (PAM2022)</stron
 g> that will take place in person in German Research Centre for Geosciences
  (GFZ), Potsdam, Germany between the 9th and 14th of Oct 2022.</p><p>For mo
 re information and regular updates please bookmark this link <a href="https
 ://events.gfz-potsdam.de/pam2022" data-saferedirecturl="https://www.google.
 com/url?q=https://events.gfz-potsdam.de/pam2022&amp;source=gmail&amp;ust=16
 52773648076000&amp;usg=AOvVaw31_kit5cdR-3OjNg9svE2E"></a><a href="https://e
 vents.gfz-potsdam.de/pam2022" target="_blank" rel="noopener">https://events
 .gfz-potsdam.de/pam2022</a>&nbsp;</p><p>Important dates: <br />Abstract sub
 mission:&nbsp;15 July 2022<br />Early bird registration: 15 August 2022</p>
 <p>The objectives of PAM2022 is to bring together researchers from all over
  the world to discuss various aspects of microbial diversity, function and 
 activity related to cold-adapted microorganisms in polar and alpine environ
 ments. Our aim is to foster discussions about recent developments in the fi
 eld and to exchange ideas and experiences on an international scale.</p><p>
 The conference will cover different aspects of polar and alpine microbiolog
 y:</p><ul><li>Microbial diversity and biogeography in permafrost environmen
 ts</li><li>Metabolic activity at subzero temperature</li><li>Mechanisms of 
 microbial adaptation and survival in polar environments</li><li>Permafrost 
 astrobiology</li><li>Plant-microbe interaction</li><li>Microbial communitie
 s and global change</li><li>Carbon and nitrogen turnover</li><li>Microbial 
 gene pool of cold environments</li><li>Biotechnology for cyrospheric microo
 rganisms</li><li>Eukaryotic microbial diversity (e.g. algae and fungi)</li>
 <li>Viruses in polar and alpine environments</li></ul><p>We are looking for
 ward to meeting you in Potsdam in October 2022 and would appreciate if you 
 could spread the word about this meeting.</p>
DTSTAMP:20260420T035742Z
DTSTART;TZID=UTC;VALUE=DATE:20221009
DTEND;TZID=UTC;VALUE=DATE:20221015
SEQUENCE:0
TRANSP:OPAQUE
END:VEVENT
END:VCALENDAR