BEGIN:VCALENDAR
VERSION:2.0
PRODID:-//jEvents 2.0 for Joomla//EN
CALSCALE:GREGORIAN
METHOD:PUBLISH
BEGIN:VEVENT
UID:2b0a836962f5ee0f0cb00ef8af3d22fe
CATEGORIES:APECS Events
CREATED:20220512T162132
SUMMARY:There is no must in art because art is free – art in a time of conflict
DESCRIPTION:This APECS webinar addresses the importance of dialogue and collaboration d
 uring times of geopolitical crisis, exemplified by the current conflict in 
 Ukraine. The webinar will feature innovative artists and researchers from R
 ussia and Norway, working across borders, to discuss the power of cultural 
 collaboration and their own transdisciplinary and transnational work in our
  present moment.\nThe guests include:\n\n - Evgeny Goman, theatre director,
  producer (Murmansk/Kirkenes)\n - Anastasia Leonenko, researcher (Tromsø)\n
  - Aleksandra Kremenets, curator, producer (Moscow/Nikel)\n - Moderator: Ek
 aterina Sharova, curator, art historian, educator (Oslo)Register here (http
 s://us02web.zoom.us/meeting/register/tZcodu-hqjgqGdd7voRSSyjuJAj69BD5lsow) 
 and join the conversation on the 27th of May 18:00 GMT. \n
X-ALT-DESC;FMTTYPE=text/html:<p>This APECS webinar addresses the importance of dialogue and collaboratio
 n during times of geopolitical crisis, exemplified by the current conflict 
 in Ukraine. The webinar will feature innovative artists and researchers fro
 m Russia and Norway, working across borders, to discuss the power of cultur
 al collaboration and their own transdisciplinary and transnational work in 
 our present moment.</p><p>The guests include:</p><ul><li><strong>Evgeny Gom
 an</strong>, theatre director, producer (Murmansk/Kirkenes)</li><li><strong
 >Anastasia Leonenko</strong>, researcher (Tromsø)</li><li><strong>Aleksandr
 a Kremenets</strong>, curator, producer (Moscow/Nikel)</li><li>Moderator: <
 strong>Ekaterina Sharova</strong>, curator, art historian, educator (Oslo)<
 /li></ul><p><a href="https://us02web.zoom.us/meeting/register/tZcodu-hqjgqG
 dd7voRSSyjuJAj69BD5lsow" target="_blank" rel="noopener">Register here</a> a
 nd join the conversation on the 27<sup>th</sup> of May 18:00 GMT.&nbsp;</p>
DTSTAMP:20260424T111813Z
DTSTART;TZID=UTC:20220527T180000
DTEND;TZID=UTC:20220527T200000
SEQUENCE:0
TRANSP:OPAQUE
END:VEVENT
END:VCALENDAR