BEGIN:VCALENDAR
VERSION:2.0
PRODID:-//jEvents 2.0 for Joomla//EN
CALSCALE:GREGORIAN
METHOD:PUBLISH
BEGIN:VEVENT
UID:a03578e37d0205235e5b0002f3d1d902
CATEGORIES:Polar Online Events
CREATED:20220509T091737
SUMMARY:27th International Symposium on Polar Sciences (ISPS2022)
LOCATION:Online
DESCRIPTION:<p><span style="font-family: arial, helvetica, sans-serif; font-size: 10pt;
 "><span lang="EN-US"><span>We are pleased to announce that the Korea Polar 
 Research Institute will hold the 27th International Symposium on Polar Scie
 nces (ISPS2022) online from September 20 to 21, 2022.</span></span></span><
 /p><p><span style="font-family: arial, helvetica, sans-serif; font-size: 10
 pt;"><span lang="EN-US">The symposium aims to bring together polar scientis
 ts to share their research findings and explore further research opportunit
 ies at the international level. ISPS2022 invites researchers to look back o
 n the findings of Korean Arctic research over the past 20 years from a glob
 al perspective and look forward to a promising future in polar research.</s
 pan></span></p><p>With "Two decades of Korean Arctic research: Looking back
  to look forward” as its overarching theme, the symposium invites papers th
 at examine:<br />- Retrospect and prospect of atmospheric research in Ny-Ål
 esund;<br />- Svalbard as a barometer of climate change;<br />- Climate cha
 nge impacts on Arctic terrestrial ecosystems;<br />- Response of the Arctic
  marine system to ongoing environmental changes;<br />- Remote Sensing in t
 he Arctic; and<br />- Past and future of Greenland: a perspective on geolog
 y and environment<br /> <br />Abstracts will be accepted for oral and poste
 r presentations, and all submissions must be in English. Important dates ar
 e as follows:<br />- <strong>Abstract Submission: June 7 - July 31, 2022</s
 trong><br />- Notification of Abstract Acceptance: August 2022<br />- <stro
 ng>Registration: July 21 - August 31, 2022</strong><br />- ISPS 2022: Septe
 mber 20-21, 2022<br /> <br />More information will be posted on our website
  (<a href="https://www.kopri.re.kr/symposium/" target="_blank" rel="noopene
 r">www.kopri.re.kr/symposium/</a>) as the date approaches.<br /> <br />Shou
 ld you have any questions regarding the symposium, please contact the ISPS2
 022 Secretariat at <span id="cloak264d5797651b4c77967a2a1d6507afec">This em
 ail address is being protected from spambots. You need JavaScript enabled t
 o view it.</span><script type='text/javascript'>
				document.getElementByI
 d('cloak264d5797651b4c77967a2a1d6507afec').innerHTML = '';
				var prefix =
  '&#109;a' + 'i&#108;' + '&#116;o';
				var path = 'hr' + 'ef' + '=';
				v
 ar addy264d5797651b4c77967a2a1d6507afec = 'symp&#111;s&#105;&#117;m' + '&#6
 4;';
				addy264d5797651b4c77967a2a1d6507afec = addy264d5797651b4c77967a2a1
 d6507afec + 'k&#111;pr&#105;' + '&#46;' + 'r&#101;' + '&#46;' + 'kr';
				v
 ar addy_text264d5797651b4c77967a2a1d6507afec = 'symp&#111;s&#105;&#117;m' +
  '&#64;' + 'k&#111;pr&#105;' + '&#46;' + 'r&#101;' + '&#46;' + 'kr';documen
 t.getElementById('cloak264d5797651b4c77967a2a1d6507afec').innerHTML += '<a 
 ' + path + '\'' + prefix + ':' + addy264d5797651b4c77967a2a1d6507afec + '\'
 >'+addy_text264d5797651b4c77967a2a1d6507afec+'<\/a>';
		</script></p>
DTSTAMP:20260419T223425Z
DTSTART;TZID=UTC;VALUE=DATE:20220920
DTEND;TZID=UTC;VALUE=DATE:20220922
SEQUENCE:0
TRANSP:OPAQUE
END:VEVENT
END:VCALENDAR