BEGIN:VCALENDAR
VERSION:2.0
PRODID:-//jEvents 2.0 for Joomla//EN
CALSCALE:GREGORIAN
METHOD:PUBLISH
BEGIN:VEVENT
UID:38404aade2c8460431dcb6fbb4d66727
CATEGORIES:Polar Conferences, Meetings and Events
CREATED:20220503T130826
SUMMARY:Launch of the Swiss Polar Institute Flagship Initiatives
LOCATION:Bern and online
DESCRIPTION:The official launch of the SPI Flagship Initiatives will be held on 18 May 
 2022 at 17:00, in Bern.At this occasion, the concept and vision of the two 
 SPI Flagship Initiatives and their scientific programme will be presented.\
 nThe two SPI Flagships Initiatives, running from  2021 to 2024 are:\n\n - P
 AMIR (https://swisspolar.ch/2022/01/1-5-million-swiss-francs-for-cryospheri
 c-research-in-central-asia/)\nFrom ice to microorganisms and humans: Toward
  an interdisciplinary understanding of climate change impacts on the Third 
 Pole\nPIs: Dr. Francesca Pellicciotti (WSL) and Prof. Martin Hölzle (Univer
 sity of Fribourg)\n - <a href="https://swisspolar.ch/2022/03/new-research-p
 rogram-will-study-fjord-ecosystems-in-greenland/" target="_blank" rel="noop
 ener" data-saferedirecturl="https://www.google.com/url?q=https://swisspolar
 .ch/2022/03/new-research-program-will-study-fjord-ecosystems-in-greenland/&
 amp;source=gmail&amp;ust=1651660457526000&amp;usg=AOvVaw1ix3IH2zSIb3LeqacqD
 3dM">GreenFjord</a>\nGreenlandic Fjord ecosystems in a changing climate: So
 cio-cultural and environmental interactions\nPI: Prof. Julia Schmale (EPFL)
 If you are interested in participating in this event in person, please cont
 act This email address is being protected from spambots. You need JavaScrip
 t enabled to view it.
				document.getElementById('cloak5b6a0be825267a28054
 97111152a7069').innerHTML = '';
				var prefix = '&#109;a' + 'i&#108;' + '&
 #116;o';
				var path = 'hr' + 'ef' + '=';
				var addy5b6a0be825267a280549
 7111152a7069 = 's&#101;cr&#101;t&#97;r&#105;&#97;t' + '&#64;';
				addy5b6a
 0be825267a2805497111152a7069 = addy5b6a0be825267a2805497111152a7069 + 'sw&#
 105;ssp&#111;l&#97;r' + '&#46;' + 'ch';
				var addy_text5b6a0be825267a2805
 497111152a7069 = 's&#101;cr&#101;t&#97;r&#105;&#97;t[&#97;t]sw&#105;ssp&#11
 1;l&#97;r.ch';document.getElementById('cloak5b6a0be825267a2805497111152a706
 9').innerHTML += '<a ' + path + '\'' + prefix + ':' + addy5b6a0be825267a280
 5497111152a7069 + '\'>'+addy_text5b6a0be825267a2805497111152a7069+'';
		.\n
 The event will be streamed online. Please register here (https://forms.offi
 ce.com/r/b4hNtbdL7Q) for participation in the online streaming.\nThe event 
 programme and all information are available on the <a href="https://swisspo
 lar.ch/event/launch-of-the-spi-flagship-initiatives/" target="_blank" rel="
 noopener" data-saferedirecturl="https://www.google.com/url?q=https://swissp
 olar.ch/event/launch-of-the-spi-flagship-initiatives/&amp;source=gmail&amp;
 ust=1651660457526000&amp;usg=AOvVaw2r8OvB4ail42ifwwP4KnU3">SPI website</a>.
 \n
X-ALT-DESC;FMTTYPE=text/html:<div>The official launch of the SPI Flagship Initiatives will be held on 18
  May 2022 at 17:00, in Bern.</div><div><p>At this occasion, the concept and
  vision of the two SPI Flagship Initiatives and their scientific programme 
 will be presented.</p><p>The two SPI Flagships Initiatives, running from&nb
 sp; 2021 to 2024 are:</p><ul><li><a href="https://swisspolar.ch/2022/01/1-5
 -million-swiss-francs-for-cryospheric-research-in-central-asia/" target="_b
 lank" rel="noopener" data-saferedirecturl="https://www.google.com/url?q=htt
 ps://swisspolar.ch/2022/01/1-5-million-swiss-francs-for-cryospheric-researc
 h-in-central-asia/&amp;source=gmail&amp;ust=1651660457526000&amp;usg=AOvVaw
 1_s21bNOBuPWGsjtJy-JBh">PAMIR</a><br />From ice to microorganisms and human
 s: Toward an interdisciplinary understanding of climate change impacts on t
 he Third Pole<br />PIs: Dr. Francesca Pellicciotti (WSL) and Prof. Martin H
 ölzle (University of Fribourg)</li><li><a href="https://swisspolar.ch/2022/
 03/new-research-program-will-study-fjord-ecosystems-in-greenland/" target="
 _blank" rel="noopener" data-saferedirecturl="https://www.google.com/url?q=h
 ttps://swisspolar.ch/2022/03/new-research-program-will-study-fjord-ecosyste
 ms-in-greenland/&amp;source=gmail&amp;ust=1651660457526000&amp;usg=AOvVaw1i
 x3IH2zSIb3LeqacqD3dM">GreenFjord</a><br />Greenlandic Fjord ecosystems in a
  changing climate: Socio-cultural and environmental interactions<br />PI: P
 rof. Julia Schmale (EPFL)</li></ul><p>If you are interested in participatin
 g in this event in person, please contact <span id="cloak5b6a0be825267a2805
 497111152a7069">This email address is being protected from spambots. You ne
 ed JavaScript enabled to view it.</span><script type='text/javascript'>
			
 	document.getElementById('cloak5b6a0be825267a2805497111152a7069').innerHTML
  = '';
				var prefix = '&#109;a' + 'i&#108;' + '&#116;o';
				var path = '
 hr' + 'ef' + '=';
				var addy5b6a0be825267a2805497111152a7069 = 's&#101;cr
 &#101;t&#97;r&#105;&#97;t' + '&#64;';
				addy5b6a0be825267a2805497111152a7
 069 = addy5b6a0be825267a2805497111152a7069 + 'sw&#105;ssp&#111;l&#97;r' + '
 &#46;' + 'ch';
				var addy_text5b6a0be825267a2805497111152a7069 = 's&#101;
 cr&#101;t&#97;r&#105;&#97;t[&#97;t]sw&#105;ssp&#111;l&#97;r.ch';document.ge
 tElementById('cloak5b6a0be825267a2805497111152a7069').innerHTML += '<a ' + 
 path + '\'' + prefix + ':' + addy5b6a0be825267a2805497111152a7069 + '\'>'+a
 ddy_text5b6a0be825267a2805497111152a7069+'<\/a>';
		</script>.</p><p>The ev
 ent will be streamed online. Please register <a href="https://forms.office.
 com/r/b4hNtbdL7Q" target="_blank" rel="noopener" data-saferedirecturl="http
 s://www.google.com/url?q=https://forms.office.com/r/b4hNtbdL7Q&amp;source=g
 mail&amp;ust=1651660457526000&amp;usg=AOvVaw35EWyNVQ0QceCRppA1i1CC">here</a
 > for participation in the online streaming.</p><p>The event programme and 
 all information are available on the <a href="https://swisspolar.ch/event/l
 aunch-of-the-spi-flagship-initiatives/" target="_blank" rel="noopener" data
 -saferedirecturl="https://www.google.com/url?q=https://swisspolar.ch/event/
 launch-of-the-spi-flagship-initiatives/&amp;source=gmail&amp;ust=1651660457
 526000&amp;usg=AOvVaw2r8OvB4ail42ifwwP4KnU3">SPI website</a>.</p></div>
DTSTAMP:20260420T095206Z
DTSTART;TZID=UTC;VALUE=DATE:20220518
DTEND;TZID=UTC;VALUE=DATE:20220519
SEQUENCE:0
TRANSP:OPAQUE
END:VEVENT
END:VCALENDAR