BEGIN:VCALENDAR
VERSION:2.0
PRODID:-//jEvents 2.0 for Joomla//EN
CALSCALE:GREGORIAN
METHOD:PUBLISH
BEGIN:VEVENT
UID:36e2323a3989288d84c402d94c65c1f7
CATEGORIES:Polar Online Events
CREATED:20220503T130608
SUMMARY:First Meeting of the IARPC Polar Technology Community Forum - Registration available
LOCATION:Online
DESCRIPTION:Registration Available\n First Meeting of the IARPC Polar Technology Commun
 ity Forum\n Interagency Arctic Research Policy Committee\n Friday, 6 May 20
 22\n 9:00-10:00 a.m. AKDT\nOrganizers invite registration for the first Pol
 ar Technology Community Forum IARPC Self-Forming Team Meeting. This meeting
  will take place Friday, 6 May 2022, 9:00-10:00 a.m. AKDT/10:00–11:00 a.m. 
 PDT/1:00 –2:00 p.m. EDT.\nThis first meeting will include information about
  the intentions for this team, outcomes from the 2020 Polar Technology Conf
 erence, and a presentation from Mike Prior-Jones (Cardiff University) entit
 led, Solar regulators: how to stop them sucking the life out of your polar 
 instrumentation.\nParticipants must be IARPC members to register. Joining I
 ARPC is free and membership can be requested through the . The meeting and 
 team membership are open to all who are interested in Arctic and Antarctic 
 polar technology.\nFor more information, go to:\n <a href="https://www.arcu
 s.org/civicrm/mailing/url?u=36372&amp;qid=6517453" target="_blank" rel="nof
 ollow noopener" data-saferedirecturl="https://www.google.com/url?q=https://
 www.arcus.org/civicrm/mailing/url?u=36372&amp;qid=6517453&amp;source=gmail&
 amp;ust=1651660457541000&amp;usg=AOvVaw1PWUsIhszpzDBplx4dQS2z">Polar Techno
 logy Community Forum webpage</a>\nIAPRC members can register for the meetin
 g at:\n \nTo request an IARPC membership, go to:\n <a href="https://www.arc
 us.org/civicrm/mailing/url?u=36373&amp;qid=6517453" target="_blank" rel="no
 follow noopener" data-saferedirecturl="https://www.google.com/url?q=https:/
 /www.arcus.org/civicrm/mailing/url?u=36373&amp;qid=6517453&amp;source=gmail
 &amp;ust=1651660457541000&amp;usg=AOvVaw08nvdbCbQzDRArKi4GipJ9">IARPC membe
 rship request form</a>\nFor questions, contact:\n Lisa Sheffield Guy\n Emai
 l: This email address is being protected from spambots. You need JavaScript
  enabled to view it.
				document.getElementById('cloak0bd894382ff77b34cca8
 730f17c6801a').innerHTML = '';
				var prefix = '&#109;a' + 'i&#108;' + '&#
 116;o';
				var path = 'hr' + 'ef' + '=';
				var addy0bd894382ff77b34cca87
 30f17c6801a = 'l&#105;s&#97;' + '&#64;';
				addy0bd894382ff77b34cca8730f17
 c6801a = addy0bd894382ff77b34cca8730f17c6801a + '&#97;rc&#117;s' + '&#46;' 
 + '&#111;rg';
				var addy_text0bd894382ff77b34cca8730f17c6801a = 'l&#105;s
 &#97;[&#97;t]&#97;rc&#117;s.&#111;rg';document.getElementById('cloak0bd8943
 82ff77b34cca8730f17c6801a').innerHTML += '<a ' + path + '\'' + prefix + ':'
  + addy0bd894382ff77b34cca8730f17c6801a + '\'>'+addy_text0bd894382ff77b34cc
 a8730f17c6801a+'';
		\n
X-ALT-DESC;FMTTYPE=text/html:<p><strong>Registration Available<br /> First Meeting of the IARPC Polar Te
 chnology Community Forum</strong><br /> Interagency Arctic Research Policy 
 Committee<br /> Friday, 6 May 2022<br /> 9:00-10:00 a.m. AKDT</p><hr /><p>O
 rganizers invite registration for the first Polar Technology Community Foru
 m IARPC Self-Forming Team Meeting. This meeting will take place Friday, 6 M
 ay 2022, 9:00-10:00 a.m. AKDT/10:00–11:00 a.m. PDT/1:00 –2:00 p.m. EDT.</p>
 <p>This first meeting will include information about the intentions for thi
 s team, outcomes from the 2020 Polar Technology Conference, and a presentat
 ion from Mike Prior-Jones (Cardiff University) entitled, <em>Solar regulato
 rs: how to stop them sucking the life out of your polar instrumentation</em
 >.</p><p>Participants must be IARPC members to register. Joining IARPC is f
 ree and membership can be requested through the <a href="https://www.arcus.
 org/civicrm/mailing/url?u=36373&amp;qid=6517453" target="_blank" rel="nofol
 low noopener" data-saferedirecturl="https://www.google.com/url?q=https://ww
 w.arcus.org/civicrm/mailing/url?u=36373&amp;qid=6517453&amp;source=gmail&am
 p;ust=1651660457541000&amp;usg=AOvVaw08nvdbCbQzDRArKi4GipJ9">IARPC webpage<
 /a>. The meeting and team membership are open to all who are interested in 
 Arctic and Antarctic polar technology.</p><p>For more information, go to:<b
 r /> <a href="https://www.arcus.org/civicrm/mailing/url?u=36372&amp;qid=651
 7453" target="_blank" rel="nofollow noopener" data-saferedirecturl="https:/
 /www.google.com/url?q=https://www.arcus.org/civicrm/mailing/url?u=36372&amp
 ;qid=6517453&amp;source=gmail&amp;ust=1651660457541000&amp;usg=AOvVaw1PWUsI
 hszpzDBplx4dQS2z">Polar Technology Community Forum webpage</a></p><p>IAPRC 
 members can register for the meeting at:<br /> <a href="https://www.arcus.o
 rg/civicrm/mailing/url?u=36374&amp;qid=6517453" target="_blank" rel="nofoll
 ow noopener" data-saferedirecturl="https://www.google.com/url?q=https://www
 .arcus.org/civicrm/mailing/url?u=36374&amp;qid=6517453&amp;source=gmail&amp
 ;ust=1651660457541000&amp;usg=AOvVaw1xtmFxqw-96Nc89GbU27gQ">Event webpage</
 a></p><p>To request an IARPC membership, go to:<br /> <a href="https://www.
 arcus.org/civicrm/mailing/url?u=36373&amp;qid=6517453" target="_blank" rel=
 "nofollow noopener" data-saferedirecturl="https://www.google.com/url?q=http
 s://www.arcus.org/civicrm/mailing/url?u=36373&amp;qid=6517453&amp;source=gm
 ail&amp;ust=1651660457541000&amp;usg=AOvVaw08nvdbCbQzDRArKi4GipJ9">IARPC me
 mbership request form</a></p><p>For questions, contact:<br /> Lisa Sheffiel
 d Guy<br /> Email: <span id="cloak0bd894382ff77b34cca8730f17c6801a">This em
 ail address is being protected from spambots. You need JavaScript enabled t
 o view it.</span><script type='text/javascript'>
				document.getElementByI
 d('cloak0bd894382ff77b34cca8730f17c6801a').innerHTML = '';
				var prefix =
  '&#109;a' + 'i&#108;' + '&#116;o';
				var path = 'hr' + 'ef' + '=';
				v
 ar addy0bd894382ff77b34cca8730f17c6801a = 'l&#105;s&#97;' + '&#64;';
				ad
 dy0bd894382ff77b34cca8730f17c6801a = addy0bd894382ff77b34cca8730f17c6801a +
  '&#97;rc&#117;s' + '&#46;' + '&#111;rg';
				var addy_text0bd894382ff77b34
 cca8730f17c6801a = 'l&#105;s&#97;[&#97;t]&#97;rc&#117;s.&#111;rg';document.
 getElementById('cloak0bd894382ff77b34cca8730f17c6801a').innerHTML += '<a ' 
 + path + '\'' + prefix + ':' + addy0bd894382ff77b34cca8730f17c6801a + '\'>'
 +addy_text0bd894382ff77b34cca8730f17c6801a+'<\/a>';
		</script></p>
DTSTAMP:20260424T144534Z
DTSTART;TZID=UTC;VALUE=DATE:20220506
DTEND;TZID=UTC;VALUE=DATE:20220507
SEQUENCE:0
TRANSP:OPAQUE
END:VEVENT
END:VCALENDAR