BEGIN:VCALENDAR
VERSION:2.0
PRODID:-//jEvents 2.0 for Joomla//EN
CALSCALE:GREGORIAN
METHOD:PUBLISH
BEGIN:VEVENT
UID:f6b0108508f703b2ca6d2614f0239653
CATEGORIES:APECS Events
CREATED:20220502T170449
SUMMARY:APECS International Online Conference 2022: All hands on deck!
LOCATION:Online
DESCRIPTION:APECS International Online Conference 2022: All hands on deck!\nInclusive k
 nowledge on polar regions as a pathway for sustainable future\nThe idiom “A
 ll hands on deck” reflects the efforts that are currently needed to address
  the major environmental challenges of the current century. Knowledge in al
 l forms and of all natures represent an essential component for designing a
  desirable and sustainable future both for Mankind and the Earth, along wit
 h the means to achieve such horizons. Knowledge inclusiveness, however, has
  not always been a concern in scientific and academic circles, although thi
 s could improve the ways we do research and interact with the rest of the s
 ociety.\nFor the 2022 edition of its International Online Conference, the A
 ssociation of Polar Early Career Scientists (APECS) has thus chosen to dedi
 cate a 24-hour online conference, on 18 May 2022, for sharing experiences a
 nd knowledge on Polar and Alpine regions from various perspectives.\n\n - T
 he conference contains five sessions drawing on multiple disciplines from t
 he social to the natural sciences:\n - Voices from Alpine and Polar regions
 \n - Bridging knowledge from Polar ocean beneficiaries\n - Polar regions in
  motion\n - Methods and ethics in polar research\n - Advances in cryospheri
 c sciencesWe decided to make natural, humanities and social sciences meet i
 n three of the five sessions (i.e., bridging knowledge from Polar ocean ben
 eficiaries; polar regions in motion; methods and ethics in polar research) 
 and retained transversal, open themes so as to allow a wide array of discus
 sions. We also dedicated sessions to particular realms such as the ocean, t
 he coasts and the cryosphere.\nThe APECS International Online Conference 20
 22 is proud to be an Ocean Decade (https://www.oceandecade.org/) endorsed a
 ctivity. \nVisit the <a href="events/upcoming-event-highlights/apecs-intern
 ational-online-conference-2022.html" target="_blank" rel="noopener">APECS I
 nternational Online Conference 2022 webpage</a> for further information.\n 
 \n
X-ALT-DESC;FMTTYPE=text/html:<p><strong>APECS International Online Conference 2022: All hands on deck!<b
 r />Inclusive knowledge on polar regions as a pathway for sustainable futur
 e</strong></p><p>The idiom “All hands on deck” reflects the efforts that ar
 e currently needed to address the major environmental challenges of the cur
 rent century. Knowledge in all forms and of all natures represent an essent
 ial component for designing a desirable and sustainable future both for Man
 kind and the Earth, along with the means to achieve such horizons. Knowledg
 e inclusiveness, however, has not always been a concern in scientific and a
 cademic circles, although this could improve the ways we do research and in
 teract with the rest of the society.</p><p>For the 2022 edition of its Inte
 rnational Online Conference, the Association of Polar Early Career Scientis
 ts (APECS) has thus chosen to dedicate a 24-hour online conference, on 18 M
 ay 2022, for sharing experiences and knowledge on Polar and Alpine regions 
 from various perspectives.</p><ul><li>The conference contains five sessions
  drawing on multiple disciplines from the social to the natural sciences:</
 li><li>Voices from Alpine and Polar regions</li><li>Bridging knowledge from
  Polar ocean beneficiaries</li><li>Polar regions in motion</li><li>Methods 
 and ethics in polar research</li><li>Advances in cryospheric sciences</li><
 /ul><p>We decided to make natural, humanities and social sciences meet in t
 hree of the five sessions (i.e., bridging knowledge from Polar ocean benefi
 ciaries; polar regions in motion; methods and ethics in polar research) and
  retained transversal, open themes so as to allow a wide array of discussio
 ns. We also dedicated sessions to particular realms such as the ocean, the 
 coasts and the cryosphere.</p><p>The&nbsp;APECS International Online Confer
 ence 2022 is proud to be an <a href="https://www.oceandecade.org/" target="
 _blank" rel="noopener">Ocean Decade</a> endorsed activity.&nbsp;</p><p>Visi
 t the <a href="events/upcoming-event-highlights/apecs-international-online-
 conference-2022.html" target="_blank" rel="noopener">APECS International On
 line Conference 2022 webpage</a> for further information.</p><p>&nbsp;</p>
DTSTAMP:20260422T100245Z
DTSTART;TZID=UTC;VALUE=DATE:20220518
DTEND;TZID=UTC;VALUE=DATE:20220519
SEQUENCE:0
TRANSP:OPAQUE
END:VEVENT
END:VCALENDAR