BEGIN:VCALENDAR
VERSION:2.0
PRODID:-//jEvents 2.0 for Joomla//EN
CALSCALE:GREGORIAN
METHOD:PUBLISH
BEGIN:VEVENT
UID:479ffa92cd0b5d86271b075d447b5880
CATEGORIES:Polar Online Events
CREATED:20220428T121516
SUMMARY:Manual of debris-covered glaciers: Panel#2 Meteorology
LOCATION:Online
DESCRIPTION:<p>We are currently working on a manual to study debris-covered glaciers to
  be published as part of the IACS working group. To realise that we hope to
  get as much input as possible from the wider community by generating some 
 of the content from a panel discussion with experts in specific topics. We 
 also hope to get input from you as an audience, be it questions, comments o
 r anecdotes. Please see the flyer <a href="https://www.dropbox.com/s/s519uj
 m9dzjh74b/DCG_manual_talk_overview.pdf?dl=0" data-saferedirecturl="https://
 www.google.com/url?q=https://www.dropbox.com/s/s519ujm9dzjh74b/DCG_manual_t
 alk_overview.pdf?dl%3D0&amp;source=gmail&amp;ust=1651233658871000&amp;usg=A
 OvVaw0H-7gVL_lTSj5oiKXsps-z"> here</a> for an overview of the debris manual
 .</p><p>We have now organised a date for our second panel – on meteorology 
 over debris-covered glaciers! In this discussion we will focus on the field
  aspects of measuring near-surface meteorology and boundary layer propertie
 s over debris-covered glaciers, including its spatial variation.</p><p>It w
 ill take place next week on Tuesday the <strong>3<sup>rd</sup> of May at 17
 :00 UTC.</strong></p><p>We have four exciting speakers for you this time in
 cluding:</p><ul><li><em>Lindsey Nicholson</em> (University of Innsbruck, In
 nsbruck)</li><li><em>Ben Brock</em> (Northumbria University, Newcastle-Upon
 -Tyne)</li><li><em>Heather Purdie</em> (University of Canterbury, Christchu
 rch)</li><li><em>Thomas Shaw</em> (WSL, Birmensdorf)</li></ul><p>We encoura
 ge you all to bring questions and engage during the panels, which eventuall
 y is intended to benefit the research community of today and tomorrow.</p><
 p>Please register for the event in advance at this link:</p><p><a href="htt
 ps://osu.zoom.us/webinar/register/WN_Kizmyc7CRUqlo7LXqXXImA" data-saferedir
 ecturl="https://www.google.com/url?q=https://osu.zoom.us/webinar/register/W
 N_Kizmyc7CRUqlo7LXqXXImA&amp;source=gmail&amp;ust=1651233658871000&amp;usg=
 AOvVaw3dW-GNDa2nun1U6gWEryUk"></a><a href="https://osu.zoom.us/webinar/regi
 ster/WN_Kizmyc7CRUqlo7LXqXXImA" target="_blank" rel="noopener">https://osu.
 zoom.us/webinar/register/WN_Kizmyc7CRUqlo7LXqXXImA</a></p><p><strong>Note e
 ven if you registered for the last event, you should register again.</stron
 g></p><p>Please feel free to get in touch if you have any questions! (Dr Ca
 triona Fyffe - <span id="cloak28f8ac0fb4ccd2cc8f853d37eeb167bf">This email 
 address is being protected from spambots. You need JavaScript enabled to vi
 ew it.</span><script type='text/javascript'>
				document.getElementById('c
 loak28f8ac0fb4ccd2cc8f853d37eeb167bf').innerHTML = '';
				var prefix = '&#
 109;a' + 'i&#108;' + '&#116;o';
				var path = 'hr' + 'ef' + '=';
				var a
 ddy28f8ac0fb4ccd2cc8f853d37eeb167bf = 'c&#97;tr&#105;&#111;n&#97;.fyff&#101
 ;' + '&#64;';
				addy28f8ac0fb4ccd2cc8f853d37eeb167bf = addy28f8ac0fb4ccd2
 cc8f853d37eeb167bf + 'n&#111;rth&#117;mbr&#105;&#97;' + '&#46;' + '&#97;c' 
 + '&#46;' + '&#117;k';
				var addy_text28f8ac0fb4ccd2cc8f853d37eeb167bf = 
 'c&#97;tr&#105;&#111;n&#97;.fyff&#101;[&#97;t]n&#111;rth&#117;mbr&#105;&#97
 ;.&#97;c.&#117;k';document.getElementById('cloak28f8ac0fb4ccd2cc8f853d37eeb
 167bf').innerHTML += '<a ' + path + '\'' + prefix + ':' + addy28f8ac0fb4ccd
 2cc8f853d37eeb167bf + '\' target="_blank">'+addy_text28f8ac0fb4ccd2cc8f853d
 37eeb167bf+'<\/a>';
		</script>)</p>
DTSTAMP:20260420T082340Z
DTSTART;TZID=UTC;VALUE=DATE:20220503
DTEND;TZID=UTC;VALUE=DATE:20220504
SEQUENCE:0
TRANSP:OPAQUE
END:VEVENT
END:VCALENDAR