BEGIN:VCALENDAR
VERSION:2.0
PRODID:-//jEvents 2.0 for Joomla//EN
CALSCALE:GREGORIAN
METHOD:PUBLISH
BEGIN:VEVENT
UID:91d9b20ce067f9aa5b6d53063bf02835
CATEGORIES:Field and Summer Schools
CREATED:20220427T130752
SUMMARY:SIOS training course: AI4Svalbard
LOCATION:Longyearbyen\, Svalbard\, Norway
DESCRIPTION:Svalbard Integrated Arctic Earth Observing System (SIOS) is organizing a we
 ek-long training course on AI applications in Svalbard (AI4Svalbard) during
  5-9 Sept. 2022, in Longyearbyen, Svalbard. You can find more information r
 egarding this training course here (https://sios-svalbard.org/AI4Svalbard).
  The application deadline is on 15th May 2022.\nThe course is intended for 
 scientists, master/Ph.D. students, engineers and technicians with no or mod
 est experience with AI and machine learning in their research. Basic knowle
 dge of programming languages (python) is preferable.\nThis training course 
 will consist of four components (1) lightning talks by eminent speakers fro
 m the AI field (2) lecture series and hands-on sessions by AI experts (3) f
 ield excursions and (4) mini-project development after the training course.
  There is no cost for registration but participants are expected to cover t
 heir own accommodation, travel and associated costs.\nFeel free to share th
 is opportunity with potentially interested participants.\nFor more informat
 ion, contact Shridhar Jawak at This email address is being protected from s
 pambots. You need JavaScript enabled to view it.
				document.getElementByI
 d('cloak0eb4e4f8c175e8c9286bf6f2b4dd199c').innerHTML = '';
				var prefix =
  '&#109;a' + 'i&#108;' + '&#116;o';
				var path = 'hr' + 'ef' + '=';
				v
 ar addy0eb4e4f8c175e8c9286bf6f2b4dd199c = 'r&#101;m&#111;t&#101;s&#101;ns&#
 105;ng' + '&#64;';
				addy0eb4e4f8c175e8c9286bf6f2b4dd199c = addy0eb4e4f8c
 175e8c9286bf6f2b4dd199c + 's&#105;&#111;s-sv&#97;lb&#97;rd' + '&#46;' + '&#
 111;rg';
				var addy_text0eb4e4f8c175e8c9286bf6f2b4dd199c = 'r&#101;m&#111
 ;t&#101;s&#101;ns&#105;ng[&#97;t]s&#105;&#111;s-sv&#97;lb&#97;rd.&#111;rg';
 document.getElementById('cloak0eb4e4f8c175e8c9286bf6f2b4dd199c').innerHTML 
 += '<a ' + path + '\'' + prefix + ':' + addy0eb4e4f8c175e8c9286bf6f2b4dd199
 c + '\'>'+addy_text0eb4e4f8c175e8c9286bf6f2b4dd199c+'';
		\n
X-ALT-DESC;FMTTYPE=text/html:<p><strong>Svalbard Integrated Arctic Earth Observing System</strong> (SIOS
 ) is organizing a week-long <strong>training course on AI applications in S
 valbard</strong> (AI4Svalbard) during <strong>5-9 Sept. 2022, in Longyearby
 en, Svalbard</strong>. You can find more information regarding this trainin
 g course <a href="https://sios-svalbard.org/AI4Svalbard" target="_blank" re
 l="noopener">here</a>. The application deadline is on <strong>15<sup>th</su
 p> May 2022</strong>.</p><p>The course is intended for scientists, master/P
 h.D. students, engineers and technicians with no or modest experience with 
 AI and machine learning in their research. Basic knowledge of programming l
 anguages (python) is preferable.</p><p>This training course will consist of
  four components (1) lightning talks by eminent speakers from the AI field 
 (2) lecture series and hands-on sessions by AI experts (3) field excursions
  and (4) mini-project development after the training course. There is no co
 st for registration but participants are expected to cover their own accomm
 odation, travel and associated costs.</p><p>Feel free to share this opportu
 nity with potentially interested participants.</p><p>For more information, 
 contact&nbsp;Shridhar Jawak at <span id="cloak0eb4e4f8c175e8c9286bf6f2b4dd1
 99c">This email address is being protected from spambots. You need JavaScri
 pt enabled to view it.</span><script type='text/javascript'>
				document.g
 etElementById('cloak0eb4e4f8c175e8c9286bf6f2b4dd199c').innerHTML = '';
				
 var prefix = '&#109;a' + 'i&#108;' + '&#116;o';
				var path = 'hr' + 'ef' 
 + '=';
				var addy0eb4e4f8c175e8c9286bf6f2b4dd199c = 'r&#101;m&#111;t&#101
 ;s&#101;ns&#105;ng' + '&#64;';
				addy0eb4e4f8c175e8c9286bf6f2b4dd199c = a
 ddy0eb4e4f8c175e8c9286bf6f2b4dd199c + 's&#105;&#111;s-sv&#97;lb&#97;rd' + '
 &#46;' + '&#111;rg';
				var addy_text0eb4e4f8c175e8c9286bf6f2b4dd199c = 'r
 &#101;m&#111;t&#101;s&#101;ns&#105;ng[&#97;t]s&#105;&#111;s-sv&#97;lb&#97;r
 d.&#111;rg';document.getElementById('cloak0eb4e4f8c175e8c9286bf6f2b4dd199c'
 ).innerHTML += '<a ' + path + '\'' + prefix + ':' + addy0eb4e4f8c175e8c9286
 bf6f2b4dd199c + '\'>'+addy_text0eb4e4f8c175e8c9286bf6f2b4dd199c+'<\/a>';
		
 </script></p>
DTSTAMP:20260421T151415Z
DTSTART;TZID=UTC;VALUE=DATE:20220905
DTEND;TZID=UTC;VALUE=DATE:20220910
SEQUENCE:0
TRANSP:OPAQUE
END:VEVENT
END:VCALENDAR