BEGIN:VCALENDAR
VERSION:2.0
PRODID:-//jEvents 2.0 for Joomla//EN
CALSCALE:GREGORIAN
METHOD:PUBLISH
BEGIN:VEVENT
UID:d77e1038c873c7a1fef1bdd947693e72
CATEGORIES:APECS Events
CREATED:20220422T160234
SUMMARY:Workshop: The bumpy road of publishing scientific papers
LOCATION:Potsdam\, Germany
DESCRIPTION:Workshop 1 May as part of the 28th International Polar Conference (https://
 polarforschung.de/events/28-intl-polartagung-potsdam-2022/)\nUnder the mott
 o "the bumpy road of publishing scientific papers" you will lean about publ
 ishing peer reviewed articles and, most importantly, have the opportunity t
 o ask questions and exchange thoughts. What is the publication process like
  from the editors' point of view? What are typical problems? Why is an arti
 cle rejected? To answer such questions we have invited two experienced edit
 ors.\n
X-ALT-DESC;FMTTYPE=text/html:<p><strong>Workshop 1 May as part of the&nbsp;<a href="https://polarforschu
 ng.de/events/28-intl-polartagung-potsdam-2022/" target="_blank" rel="noopen
 er">28th International Polar Conference</a></strong></p><p>Under the motto 
 "the bumpy road of publishing scientific papers" you will lean about publis
 hing peer reviewed articles and, most importantly, have the opportunity to 
 ask questions and exchange thoughts. What is the publication process like f
 rom the editors' point of view? What are typical problems? Why is an articl
 e rejected? To answer such questions we have invited two experienced editor
 s.</p>
DTSTAMP:20260420T145136Z
DTSTART;TZID=UTC;VALUE=DATE:20220501
DTEND;TZID=UTC;VALUE=DATE:20220502
SEQUENCE:0
TRANSP:OPAQUE
END:VEVENT
END:VCALENDAR