BEGIN:VCALENDAR
VERSION:2.0
PRODID:-//jEvents 2.0 for Joomla//EN
CALSCALE:GREGORIAN
METHOD:PUBLISH
BEGIN:VEVENT
UID:d2e2083bb6b28f5fb1c81785047445b9
CATEGORIES:APECS Events
CREATED:20220422T140900
SUMMARY:Dutch Polar Symposium 2022
LOCATION:The Hague - The Netherlands
DESCRIPTION:The annual "Poolsymposium" brings together polar scientists, policymakers, 
 entrepreneurs, artists and other stakeholders with polar activities. DAC (D
 utch Arctic Circle), APECS-NL (Association of Polar Early Career Scientists
 ) and NWO (Dutch Research Council) jointly organize this polar day full of 
 activities around various themes.\nRead more about the event and register h
 ere (https://www.nwo.nl/bijeenkomsten/poolsymposium) and check out the <a h
 ref="images/Articles/News/Poolsymposium_-_APECS_Netherlands.pdf" target="_b
 lank" rel="noopener">program PDF</a>. \n
X-ALT-DESC;FMTTYPE=text/html:<p>The annual "Poolsymposium" brings together polar scientists, policymaker
 s, entrepreneurs, artists and other stakeholders with polar activities. DAC
  (Dutch Arctic Circle), APECS-NL (Association of Polar Early Career Scienti
 sts) and NWO (Dutch Research Council) jointly organize this polar day full 
 of activities around various themes.</p><p>Read more about the event and re
 gister&nbsp;<a href="https://www.nwo.nl/bijeenkomsten/poolsymposium" target
 ="_blank" rel="noopener">here</a>&nbsp;and check out the&nbsp;<a href="imag
 es/Articles/News/Poolsymposium_-_APECS_Netherlands.pdf" target="_blank" rel
 ="noopener">program PDF</a>.&nbsp;</p>
DTSTAMP:20260423T191140Z
DTSTART;TZID=UTC;VALUE=DATE:20220519
DTEND;TZID=UTC;VALUE=DATE:20220520
SEQUENCE:0
TRANSP:OPAQUE
END:VEVENT
END:VCALENDAR