BEGIN:VCALENDAR
VERSION:2.0
PRODID:-//jEvents 2.0 for Joomla//EN
CALSCALE:GREGORIAN
METHOD:PUBLISH
BEGIN:VEVENT
UID:25c825744b24aa240ba55aa261342339
CATEGORIES:Field and Summer Schools
CREATED:20170213T091109
SUMMARY:Summer School on “Antarctic Climate Variability and Ice Dynamics”
LOCATION:Goa (India)
DESCRIPTION:The National Center for Antarctic and Ocean Research (NCAOR) and Norwegian 
 Polar Institute (NPI) are organizing a summer school on “Antarctic climatev
 ariability and ice dynamics”at NCAOR, Goa, during 08-11 May 2017.\nThe targ
 eted participants of the summer school are early-career scientists (MS/MTec
 h/PhD students and postdoctoral scholars) who are studying earth science as
  a subject in any disciplines, who are at an early stage in glaciology and 
 climate change studies .\nThe proposed summer school is organized in conjun
 ction with the project workshop of the Indo-Norwegian research project “MAD
 ICE”, which just successfully completed its first field campaign to investi
 gate mass balance, dynamics, and climate of the coastal Dronning Maud Land,
  East Antarctica ( https://www.facebook.com/MADICEproject/ ).\nThe summer s
 chool includes lectures and hands-on sessions by experts from India and Nor
 way, student presentations (oral or poster), and a tour of NCAOR’s ice-core
  laboratory and facilities. One hands-on session is dedicated on Quantarcti
 ca, a free GIS data package for Antarctica, developed by the NPI ( <a href=
 "http://quantarctica.npolar.no">http://quantarctica.npolar.no</a> ). Instru
 ctors are MADICE collaborators from NCAOR, NPI and UNIS (University Centre 
 in Svalbard).\nApplicants should send a single pdf document that includes s
 hort CV (less than 2 pages) and a letter of interest (1 page) by 20 March, 
 2017, to Dr. Thamban Meloth of NCAOR ( This email address is being protecte
 d from spambots. You need JavaScript enabled to view it.
				document.getEl
 ementById('cloaka527dde37c2b311f6e2271669c05886f').innerHTML = '';
				var 
 prefix = '&#109;a' + 'i&#108;' + '&#116;o';
				var path = 'hr' + 'ef' + '=
 ';
				var addya527dde37c2b311f6e2271669c05886f = 'm&#101;l&#111;th' + '&#6
 4;';
				addya527dde37c2b311f6e2271669c05886f = addya527dde37c2b311f6e22716
 69c05886f + 'nc&#97;&#111;r' + '&#46;' + 'g&#111;v' + '&#46;' + '&#105;n';

 				var addy_texta527dde37c2b311f6e2271669c05886f = 'm&#101;l&#111;th' + '&
 #64;' + 'nc&#97;&#111;r' + '&#46;' + 'g&#111;v' + '&#46;' + '&#105;n';docum
 ent.getElementById('cloaka527dde37c2b311f6e2271669c05886f').innerHTML += '<
 a ' + path + '\'' + prefix + ':' + addya527dde37c2b311f6e2271669c05886f + '
 \'>'+addy_texta527dde37c2b311f6e2271669c05886f+'';
		 ). The summer school 
 opportunity is open for all nationalities. Limited financial support toward
 s travel/accommodation is available for participants from India. Indian app
 licants who are in need of financial support should make a separate applica
 tion for the same and mention whether they can attend the summer school if 
 the financial support cannot be provided. Acceptance notification will be s
 ent by 31 March 2017.\nThamban Meloth, NCAOR ( This email address is being 
 protected from spambots. You need JavaScript enabled to view it.
				docume
 nt.getElementById('cloak20e859cfdd84735e306afbbea527c4b0').innerHTML = '';

 				var prefix = '&#109;a' + 'i&#108;' + '&#116;o';
				var path = 'hr' + '
 ef' + '=';
				var addy20e859cfdd84735e306afbbea527c4b0 = 'm&#101;l&#111;th
 ' + '&#64;';
				addy20e859cfdd84735e306afbbea527c4b0 = addy20e859cfdd84735
 e306afbbea527c4b0 + 'nc&#97;&#111;r' + '&#46;' + 'g&#111;v' + '&#46;' + '&#
 105;n';
				var addy_text20e859cfdd84735e306afbbea527c4b0 = 'm&#101;l&#111;
 th' + '&#64;' + 'nc&#97;&#111;r' + '&#46;' + 'g&#111;v' + '&#46;' + '&#105;
 n';document.getElementById('cloak20e859cfdd84735e306afbbea527c4b0').innerHT
 ML += '<a ' + path + '\'' + prefix + ':' + addy20e859cfdd84735e306afbbea527
 c4b0 + '\'>'+addy_text20e859cfdd84735e306afbbea527c4b0+'';
		 ) &amp; Kenny
  Matsuoka, NPI ( This email address is being protected from spambots. You n
 eed JavaScript enabled to view it.
				document.getElementById('cloakd38a13
 f74a63e83b110b36cd76967c15').innerHTML = '';
				var prefix = '&#109;a' + '
 i&#108;' + '&#116;o';
				var path = 'hr' + 'ef' + '=';
				var addyd38a13f
 74a63e83b110b36cd76967c15 = 'm&#97;ts&#117;&#111;k&#97;' + '&#64;';
				add
 yd38a13f74a63e83b110b36cd76967c15 = addyd38a13f74a63e83b110b36cd76967c15 + 
 'np&#111;l&#97;r' + '&#46;' + 'n&#111;';
				var addy_textd38a13f74a63e83b1
 10b36cd76967c15 = 'm&#97;ts&#117;&#111;k&#97;' + '&#64;' + 'np&#111;l&#97;r
 ' + '&#46;' + 'n&#111;';document.getElementById('cloakd38a13f74a63e83b110b3
 6cd76967c15').innerHTML += '<a ' + path + '\'' + prefix + ':' + addyd38a13f
 74a63e83b110b36cd76967c15 + '\'>'+addy_textd38a13f74a63e83b110b36cd76967c15
 +'';
		 )\nLead PIs of the MADICE project\n---\nDr. Thamban Meloth | Scient
 ist F &amp; Group Director (Polar Sciences)|\nESSO-National Centre for Anta
 rctic and Ocean Research |\nEarth System Science Organization | Ministry of
  Earth Sciences |\nHeadland Sada | Vasco-da-Gama | Goa 403 804 |INDIA\nPhon
 e: +91-832-2525623 | E-mail: This email address is being protected from spa
 mbots. You need JavaScript enabled to view it.
				document.getElementById(
 'cloakf8cc2249be80b7465d75d7cb54165b1c').innerHTML = '';
				var prefix = '
 &#109;a' + 'i&#108;' + '&#116;o';
				var path = 'hr' + 'ef' + '=';
				var
  addyf8cc2249be80b7465d75d7cb54165b1c = 'm&#101;l&#111;th' + '&#64;';
				a
 ddyf8cc2249be80b7465d75d7cb54165b1c = addyf8cc2249be80b7465d75d7cb54165b1c 
 + 'nc&#97;&#111;r' + '&#46;' + 'g&#111;v' + '&#46;' + '&#105;n';
				var ad
 dy_textf8cc2249be80b7465d75d7cb54165b1c = 'm&#101;l&#111;th' + '&#64;' + 'n
 c&#97;&#111;r' + '&#46;' + 'g&#111;v' + '&#46;' + '&#105;n';document.getEle
 mentById('cloakf8cc2249be80b7465d75d7cb54165b1c').innerHTML += '<a ' + path
  + '\'' + prefix + ':' + addyf8cc2249be80b7465d75d7cb54165b1c + '\'>'+addy_
 textf8cc2249be80b7465d75d7cb54165b1c+'';
		 \nhttp://ncaor.gov.in/pages/vie
 w/239/324-cryosphere-team \n \n
X-ALT-DESC;FMTTYPE=text/html:<p style="text-align: justify;"><strong>The National Center for Antarctic a
 nd Ocean Research (NCAOR) and Norwegian Polar Institute (NPI) are organizin
 g a summer school on “Antarctic climatevariability and ice dynamics”at NCAO
 R, Goa, during 08-11 May 2017.</strong></p><p style="text-align: justify;">
 The targeted participants of the summer school are early-career scientists 
 (MS/MTech/PhD students and postdoctoral scholars) who are studying earth sc
 ience as a subject in any disciplines, who are at an early stage in glaciol
 ogy and climate change studies .<br />The proposed summer school is organiz
 ed in conjunction with the project workshop of the Indo-Norwegian research 
 project “MADICE”, which just successfully completed its first field campaig
 n to investigate mass balance, dynamics, and climate of the coastal Dronnin
 g Maud Land, East Antarctica ( <a href="https://www.facebook.com/MADICEproj
 ect/">https://www.facebook.com/MADICEproject/</a> ).<br />The summer school
  includes lectures and hands-on sessions by experts from India and Norway, 
 student presentations (oral or poster), and a tour of NCAOR’s ice-core labo
 ratory and facilities. One hands-on session is dedicated on Quantarctica, a
  free GIS data package for Antarctica, developed by the NPI ( <a href="http
 ://quantarctica.npolar.no">http://quantarctica.npolar.no</a> ). Instructors
  are MADICE collaborators from NCAOR, NPI and UNIS (University Centre in Sv
 albard).<br />Applicants should send a single pdf document that includes sh
 ort CV (less than 2 pages) and a letter of interest (1 page) by <strong>20 
 March, 2017</strong>, to Dr. Thamban Meloth of NCAOR ( <span id="cloaka527d
 de37c2b311f6e2271669c05886f">This email address is being protected from spa
 mbots. You need JavaScript enabled to view it.</span><script type='text/jav
 ascript'>
				document.getElementById('cloaka527dde37c2b311f6e2271669c05886
 f').innerHTML = '';
				var prefix = '&#109;a' + 'i&#108;' + '&#116;o';
			
 	var path = 'hr' + 'ef' + '=';
				var addya527dde37c2b311f6e2271669c05886f
  = 'm&#101;l&#111;th' + '&#64;';
				addya527dde37c2b311f6e2271669c05886f =
  addya527dde37c2b311f6e2271669c05886f + 'nc&#97;&#111;r' + '&#46;' + 'g&#11
 1;v' + '&#46;' + '&#105;n';
				var addy_texta527dde37c2b311f6e2271669c0588
 6f = 'm&#101;l&#111;th' + '&#64;' + 'nc&#97;&#111;r' + '&#46;' + 'g&#111;v'
  + '&#46;' + '&#105;n';document.getElementById('cloaka527dde37c2b311f6e2271
 669c05886f').innerHTML += '<a ' + path + '\'' + prefix + ':' + addya527dde3
 7c2b311f6e2271669c05886f + '\'>'+addy_texta527dde37c2b311f6e2271669c05886f+
 '<\/a>';
		</script> ). The summer school opportunity is open for all natio
 nalities. Limited financial support towards travel/accommodation is availab
 le for participants from India. Indian applicants who are in need of financ
 ial support should make a separate application for the same and mention whe
 ther they can attend the summer school if the financial support cannot be p
 rovided. Acceptance notification will be sent by <strong>31 March 2017.</st
 rong></p><p style="text-align: justify;">Thamban Meloth, NCAOR ( <span id="
 cloak20e859cfdd84735e306afbbea527c4b0">This email address is being protecte
 d from spambots. You need JavaScript enabled to view it.</span><script type
 ='text/javascript'>
				document.getElementById('cloak20e859cfdd84735e306af
 bbea527c4b0').innerHTML = '';
				var prefix = '&#109;a' + 'i&#108;' + '&#1
 16;o';
				var path = 'hr' + 'ef' + '=';
				var addy20e859cfdd84735e306afb
 bea527c4b0 = 'm&#101;l&#111;th' + '&#64;';
				addy20e859cfdd84735e306afbbe
 a527c4b0 = addy20e859cfdd84735e306afbbea527c4b0 + 'nc&#97;&#111;r' + '&#46;
 ' + 'g&#111;v' + '&#46;' + '&#105;n';
				var addy_text20e859cfdd84735e306a
 fbbea527c4b0 = 'm&#101;l&#111;th' + '&#64;' + 'nc&#97;&#111;r' + '&#46;' + 
 'g&#111;v' + '&#46;' + '&#105;n';document.getElementById('cloak20e859cfdd84
 735e306afbbea527c4b0').innerHTML += '<a ' + path + '\'' + prefix + ':' + ad
 dy20e859cfdd84735e306afbbea527c4b0 + '\'>'+addy_text20e859cfdd84735e306afbb
 ea527c4b0+'<\/a>';
		</script> ) & Kenny Matsuoka, NPI ( <span id="cloakd38
 a13f74a63e83b110b36cd76967c15">This email address is being protected from s
 pambots. You need JavaScript enabled to view it.</span><script type='text/j
 avascript'>
				document.getElementById('cloakd38a13f74a63e83b110b36cd76967
 c15').innerHTML = '';
				var prefix = '&#109;a' + 'i&#108;' + '&#116;o';
	
 			var path = 'hr' + 'ef' + '=';
				var addyd38a13f74a63e83b110b36cd76967c
 15 = 'm&#97;ts&#117;&#111;k&#97;' + '&#64;';
				addyd38a13f74a63e83b110b36
 cd76967c15 = addyd38a13f74a63e83b110b36cd76967c15 + 'np&#111;l&#97;r' + '&#
 46;' + 'n&#111;';
				var addy_textd38a13f74a63e83b110b36cd76967c15 = 'm&#9
 7;ts&#117;&#111;k&#97;' + '&#64;' + 'np&#111;l&#97;r' + '&#46;' + 'n&#111;'
 ;document.getElementById('cloakd38a13f74a63e83b110b36cd76967c15').innerHTML
  += '<a ' + path + '\'' + prefix + ':' + addyd38a13f74a63e83b110b36cd76967c
 15 + '\'>'+addy_textd38a13f74a63e83b110b36cd76967c15+'<\/a>';
		</script> )
 </p><p style="text-align: justify;">Lead PIs of the MADICE project<br />---
 <br />Dr. Thamban Meloth | Scientist F & Group Director (Polar Sciences)|<b
 r />ESSO-National Centre for Antarctic and Ocean Research |<br />Earth Syst
 em Science Organization | Ministry of Earth Sciences |<br />Headland Sada |
  Vasco-da-Gama | Goa 403 804 |INDIA<br />Phone: +91-832-2525623 | E-mail: <
 span id="cloakf8cc2249be80b7465d75d7cb54165b1c">This email address is being
  protected from spambots. You need JavaScript enabled to view it.</span><sc
 ript type='text/javascript'>
				document.getElementById('cloakf8cc2249be80
 b7465d75d7cb54165b1c').innerHTML = '';
				var prefix = '&#109;a' + 'i&#108
 ;' + '&#116;o';
				var path = 'hr' + 'ef' + '=';
				var addyf8cc2249be80b
 7465d75d7cb54165b1c = 'm&#101;l&#111;th' + '&#64;';
				addyf8cc2249be80b74
 65d75d7cb54165b1c = addyf8cc2249be80b7465d75d7cb54165b1c + 'nc&#97;&#111;r'
  + '&#46;' + 'g&#111;v' + '&#46;' + '&#105;n';
				var addy_textf8cc2249be8
 0b7465d75d7cb54165b1c = 'm&#101;l&#111;th' + '&#64;' + 'nc&#97;&#111;r' + '
 &#46;' + 'g&#111;v' + '&#46;' + '&#105;n';document.getElementById('cloakf8c
 c2249be80b7465d75d7cb54165b1c').innerHTML += '<a ' + path + '\'' + prefix +
  ':' + addyf8cc2249be80b7465d75d7cb54165b1c + '\'>'+addy_textf8cc2249be80b7
 465d75d7cb54165b1c+'<\/a>';
		</script> <br /><a href="http://ncaor.gov.in/
 pages/view/239/324-cryosphere-team">http://ncaor.gov.in/pages/view/239/324-
 cryosphere-team</a> </p><p> </p>
DTSTAMP:20260421T174129Z
DTSTART;TZID=UTC;VALUE=DATE:20170508
DTEND;TZID=UTC;VALUE=DATE:20170512
SEQUENCE:0
TRANSP:OPAQUE
END:VEVENT
END:VCALENDAR