BEGIN:VCALENDAR
VERSION:2.0
PRODID:-//jEvents 2.0 for Joomla//EN
CALSCALE:GREGORIAN
METHOD:PUBLISH
BEGIN:VEVENT
UID:bb032f611a48847b7400181cf225fa19
CATEGORIES:Polar Online Events
CREATED:20220412T171335
SUMMARY:Webinar Series on Health Equity, Diversity, Inclusion in Arctic Indigenous Communities
LOCATION:Online
DESCRIPTION:The Canadian Studies Center in the Henry M. Jackson School of International
  Studies invites registration for a virtual spring speaker series on Health
  Equity, Diversity, Inclusion in Arctic Indigenous Communities. Webinars ta
 ke place on Wednesdays from 1:30 to 2:30 p.m. AKDT.\nUpcoming webinars incl
 ude:\nWednesday, 27 April 2022, 1:30-2:30 p.m. AKDT\nIntegrated Knowledge T
 ranslation: An Approach for Community Engagement and Collaboration\nIan Gra
 ham, Professor, School of Nursing, University of Ottawa\nSee the Canadian S
 tudies Center website (https://events.uw.edu/event/93f47f3f-3bfc-4bc3-9572-
 73fe685ed345/summary) for more infomation and upcoming webinars in May.\n \
 n
X-ALT-DESC;FMTTYPE=text/html:<p>The Canadian Studies Center in the Henry M. Jackson School of Internatio
 nal Studies invites registration for a virtual spring speaker series on Hea
 lth Equity, Diversity, Inclusion in Arctic Indigenous Communities. Webinars
  take place on Wednesdays from 1:30 to 2:30 p.m. AKDT.</p><p>Upcoming webin
 ars include:</p><p>Wednesday, 27 April 2022, 1:30-2:30 p.m. AKDT<br />Integ
 rated Knowledge Translation: An Approach for Community Engagement and Colla
 boration<br />Ian Graham, Professor, School of Nursing, University of Ottaw
 a</p><p>See the&nbsp;<a href="https://events.uw.edu/event/93f47f3f-3bfc-4bc
 3-9572-73fe685ed345/summary" target="_blank" rel="noopener">Canadian Studie
 s Center website</a> for more infomation and upcoming webinars in May.</p><
 p>&nbsp;</p>
DTSTAMP:20260420T093914Z
DTSTART;TZID=UTC;VALUE=DATE:20220427
DTEND;TZID=UTC;VALUE=DATE:20220428
SEQUENCE:0
TRANSP:OPAQUE
END:VEVENT
END:VCALENDAR