BEGIN:VCALENDAR
VERSION:2.0
PRODID:-//jEvents 2.0 for Joomla//EN
CALSCALE:GREGORIAN
METHOD:PUBLISH
BEGIN:VEVENT
UID:734b0797756bd25d9a45767b1d361bf2
CATEGORIES:Polar Online Events
CREATED:20220412T171018
SUMMARY:Webinar Series on Health Equity, Diversity, Inclusion in Arctic Indigenous Communities
LOCATION:Online
DESCRIPTION:The Canadian Studies Center in the Henry M. Jackson School of International
  Studies invites registration for a virtual spring speaker series on Health
  Equity, Diversity, Inclusion in Arctic Indigenous Communities. Webinars ta
 ke place on Wednesdays from 1:30 to 2:30 p.m. AKDT.\nUpcoming webinars incl
 ude:\nWednesday, 20 April 2022, 1:30-2:30 p.m. AKDT\nInuit Living and Thriv
 ing in Two Worlds\nOlivia Ikey Duncan, Inuit Advocate, Artist, Spoken Word 
 Performer in Nunavik, Canada\nWednesday, 27 April 2022, 1:30-2:30 p.m. AKDT
 \nIntegrated Knowledge Translation: An Approach for Community Engagement an
 d Collaboration\nIan Graham, Professor, School of Nursing, University of Ot
 tawa\nSee the Canadian Studies Center website (https://events.uw.edu/event/
 93f47f3f-3bfc-4bc3-9572-73fe685ed345/summary) for more infomation and upcom
 ing webinars in May.\n
X-ALT-DESC;FMTTYPE=text/html:<p>The Canadian Studies Center in the Henry M. Jackson School of Internatio
 nal Studies invites registration for a virtual spring speaker series on Hea
 lth Equity, Diversity, Inclusion in Arctic Indigenous Communities. Webinars
  take place on Wednesdays from 1:30 to 2:30 p.m. AKDT.</p><p>Upcoming webin
 ars include:</p><p><strong>Wednesday, 20 April 2022, 1:30-2:30 p.m. AKDT</s
 trong><br />Inuit Living and Thriving in Two Worlds<br />Olivia Ikey Duncan
 , Inuit Advocate, Artist, Spoken Word Performer in Nunavik, Canada</p><p><s
 trong>Wednesday, 27 April 2022, 1:30-2:30 p.m. AKDT</strong><br />Integrate
 d Knowledge Translation: An Approach for Community Engagement and Collabora
 tion<br />Ian Graham, Professor, School of Nursing, University of Ottawa</p
 ><p>See the&nbsp;<a href="https://events.uw.edu/event/93f47f3f-3bfc-4bc3-95
 72-73fe685ed345/summary" target="_blank" rel="noopener">Canadian Studies Ce
 nter website</a> for more infomation and upcoming webinars in May.</p>
DTSTAMP:20260420T093910Z
DTSTART;TZID=UTC;VALUE=DATE:20220420
DTEND;TZID=UTC;VALUE=DATE:20220421
SEQUENCE:0
TRANSP:OPAQUE
END:VEVENT
END:VCALENDAR