BEGIN:VCALENDAR
VERSION:2.0
PRODID:-//jEvents 2.0 for Joomla//EN
CALSCALE:GREGORIAN
METHOD:PUBLISH
BEGIN:VEVENT
UID:eb3389855cd467e52e7ecb25ae97e9a2
CATEGORIES:Polar Online Events
CREATED:20220412T170742
SUMMARY:Webinar Series on Health Equity, Diversity, Inclusion in Arctic Indigenous Communities
LOCATION:Online
DESCRIPTION:The Canadian Studies Center in the Henry M. Jackson School of International
  Studies invites registration for a virtual spring speaker series on Health
  Equity, Diversity, Inclusion in Arctic Indigenous Communities. Webinars ta
 ke place on Wednesdays from 1:30 to 2:30 p.m. AKDT.\nUpcoming webinars incl
 ude:\nWednesday, 13 April 2022, 1:30-2:30 p.m. AKDT\nWorking with Inuit (Es
 kimo) Communities in Arctic Issues\nDonat Savoie, Former Interim Executive 
 Director, Inuit Relations Secretariat, Canada\nWednesday, 20 April 2022, 1:
 30-2:30 p.m. AKDT\nInuit Living and Thriving in Two Worlds\nOlivia Ikey Dun
 can, Inuit Advocate, Artist, Spoken Word Performer in Nunavik, Canada\nWedn
 esday, 27 April 2022, 1:30-2:30 p.m. AKDT\nIntegrated Knowledge Translation
 : An Approach for Community Engagement and Collaboration\nIan Graham, Profe
 ssor, School of Nursing, University of Ottawa\nSee the Canadian Studies Cen
 ter website (https://events.uw.edu/event/93f47f3f-3bfc-4bc3-9572-73fe685ed3
 45/summary) for more infomation and upcoming webinars in May.\n
X-ALT-DESC;FMTTYPE=text/html:<p>The Canadian Studies Center in the Henry M. Jackson School of Internatio
 nal Studies invites registration for a virtual spring speaker series on Hea
 lth Equity, Diversity, Inclusion in Arctic Indigenous Communities. Webinars
  take place on Wednesdays from 1:30 to 2:30 p.m. AKDT.</p><p>Upcoming webin
 ars include:</p><p><strong>Wednesday, 13 April 2022, 1:30-2:30 p.m. AKDT</s
 trong><br />Working with Inuit (Eskimo) Communities in Arctic Issues<br />D
 onat Savoie, Former Interim Executive Director, Inuit Relations Secretariat
 , Canada</p><p><strong>Wednesday, 20 April 2022, 1:30-2:30 p.m. AKDT</stron
 g><br />Inuit Living and Thriving in Two Worlds<br />Olivia Ikey Duncan, In
 uit Advocate, Artist, Spoken Word Performer in Nunavik, Canada</p><p><stron
 g>Wednesday, 27 April 2022, 1:30-2:30 p.m. AKDT</strong><br />Integrated Kn
 owledge Translation: An Approach for Community Engagement and Collaboration
 <br />Ian Graham, Professor, School of Nursing, University of Ottawa</p><p>
 See the&nbsp;<a href="https://events.uw.edu/event/93f47f3f-3bfc-4bc3-9572-7
 3fe685ed345/summary" target="_blank" rel="noopener">Canadian Studies Center
  website</a> for more infomation and upcoming webinars in May.</p>
DTSTAMP:20260420T093018Z
DTSTART;TZID=UTC;VALUE=DATE:20220413
DTEND;TZID=UTC;VALUE=DATE:20220414
SEQUENCE:0
TRANSP:OPAQUE
END:VEVENT
END:VCALENDAR