BEGIN:VCALENDAR
VERSION:2.0
PRODID:-//jEvents 2.0 for Joomla//EN
CALSCALE:GREGORIAN
METHOD:PUBLISH
BEGIN:VEVENT
UID:9002e9a11b139e0fb533dd9cb20cf02b
CATEGORIES:Polar Conferences, Meetings and Events
CREATED:20220411T134539
SUMMARY:9th International Workshop on Ice Caves (IWIC IX)
LOCATION:Liptovský Mikuláš\, Slovak Republic
DESCRIPTION:From 9 to 13 May 2022, after 2 years of pandemic limitation, we organize th
 e IWIC IX in Liptovský Mikuláš, Slovak Republic.\n You can find all the inf
 ormation in:\n \n  (http://www.ssj.sk/sk/akcia/22-9th-international-worksho
 p-on-ice-caves-iwic-ix)<a href="http://www.ssj.sk/sk/akcia/22-9th-internati
 onal-workshop-on-ice-caves-iwic-ix">http://www.ssj.sk/sk/akcia/22-9th-inter
 national-workshop-on-ice-caves-iwic-ix</a>\n \n For extra infos, please con
 tact:\n State Nature Conservancy of the Slovak Republic Slovak Caves Admini
 stration\n Hodžova 11, 031 01 Liptovský Mikuláš\n Tel.: +421(0)44/55364
 11, +421(0)44/5536401 E-mail: This email address is being protected from sp
 ambots. You need JavaScript enabled to view it.
				document.getElementById
 ('cloak8f5395b3544be358a44e87e513530729').innerHTML = '';
				var prefix = 
 '&#109;a' + 'i&#108;' + '&#116;o';
				var path = 'hr' + 'ef' + '=';
				va
 r addy8f5395b3544be358a44e87e513530729 = 'm&#105;l&#111;s.m&#101;l&#101;g&#
 97;' + '&#64;';
				addy8f5395b3544be358a44e87e513530729 = addy8f5395b3544b
 e358a44e87e513530729 + 'ssj' + '&#46;' + 'sk';
				var addy_text8f5395b3544
 be358a44e87e513530729 = 'm&#105;l&#111;s.m&#101;l&#101;g&#97;[&#97;t]ssj.sk
 ';document.getElementById('cloak8f5395b3544be358a44e87e513530729').innerHTM
 L += '<a ' + path + '\'' + prefix + ':' + addy8f5395b3544be358a44e87e513530
 729 + '\'>'+addy_text8f5395b3544be358a44e87e513530729+'';
		\n
X-ALT-DESC;FMTTYPE=text/html:<p>From 9 to 13 May 2022, after 2 years of pandemic limitation, we organize
  the IWIC IX in Liptovský Mikuláš, Slovak Republic.<br /> You can find all 
 the information in:<br /> <br /> <a href="http://www.ssj.sk/sk/akcia/22-9th
 -international-workshop-on-ice-caves-iwic-ix" target="_blank" rel="noopener
  noreferrer" data-saferedirecturl="https://www.google.com/url?q=http://www.
 ssj.sk/sk/akcia/22-9th-international-workshop-on-ice-caves-iwic-ix&amp;sour
 ce=gmail&amp;ust=1649753398308000&amp;usg=AOvVaw3GQ2eb4BvpnVrSyNbJb12i"></a
 ><a href="http://www.ssj.sk/sk/akcia/22-9th-international-workshop-on-ice-c
 aves-iwic-ix">http://www.ssj.sk/sk/akcia/22-9th-international-workshop-on-i
 ce-caves-iwic-ix</a><br /> <br /> For extra infos, please contact:<br /> St
 ate Nature Conservancy of the Slovak Republic Slovak Caves Administration<b
 r /> Hodžova 11, 031 01 Liptovský Mikuláš<br /> Tel.: +421(0)44/5536411
 , +421(0)44/5536401 E-mail: <span id="cloak8f5395b3544be358a44e87e513530729
 ">This email address is being protected from spambots. You need JavaScript 
 enabled to view it.</span><script type='text/javascript'>
				document.getE
 lementById('cloak8f5395b3544be358a44e87e513530729').innerHTML = '';
				var
  prefix = '&#109;a' + 'i&#108;' + '&#116;o';
				var path = 'hr' + 'ef' + '
 =';
				var addy8f5395b3544be358a44e87e513530729 = 'm&#105;l&#111;s.m&#101;
 l&#101;g&#97;' + '&#64;';
				addy8f5395b3544be358a44e87e513530729 = addy8f
 5395b3544be358a44e87e513530729 + 'ssj' + '&#46;' + 'sk';
				var addy_text8
 f5395b3544be358a44e87e513530729 = 'm&#105;l&#111;s.m&#101;l&#101;g&#97;[&#9
 7;t]ssj.sk';document.getElementById('cloak8f5395b3544be358a44e87e513530729'
 ).innerHTML += '<a ' + path + '\'' + prefix + ':' + addy8f5395b3544be358a44
 e87e513530729 + '\'>'+addy_text8f5395b3544be358a44e87e513530729+'<\/a>';
		
 </script></p>
DTSTAMP:20260421T004426Z
DTSTART;TZID=UTC;VALUE=DATE:20220509
DTEND;TZID=UTC;VALUE=DATE:20220514
SEQUENCE:0
TRANSP:OPAQUE
END:VEVENT
END:VCALENDAR