BEGIN:VCALENDAR
VERSION:2.0
PRODID:-//jEvents 2.0 for Joomla//EN
CALSCALE:GREGORIAN
METHOD:PUBLISH
BEGIN:VEVENT
UID:a685975ce37e015152b9f008db3c7f2e
CATEGORIES:Polar Online Events
CREATED:20220411T134144
SUMMARY:Workshop on ice-ocean interaction 
LOCATION:Online
DESCRIPTION:Please save space in your diary for an online workshop on ice-ocean interac
 tions 17th-21st October 2022.The workshop is being organised by the recentl
 y formed Joint IAPSO/IACS Commission on Ice-Ocean Interactions (JCIOI), and
  aims to draw together researchers interested in the processes that govern 
 ocean-driven melt of glaciers and ice sheets, across a range of locations a
 nd timescales. Proposed session topics include:\n\n - The physics of the ic
 e-ocean boundary\n - The role of glacial melt in the wider ocean\n - The im
 pact of ocean-driven melt on glacier and ice sheet mass balance\n - New and
  emerging technologies for studying ice-ocean interactionThe workshop will 
 be entirely online, with a mixture of presentations and breakout sessions s
 cheduled asynchronously to facilitate interactions across time zones. A ful
 l schedule will be circulated later.\nWe hope that this meeting will be an 
 opportunity to draw together the community, sharing knowledge across differ
 ent research areas, and identifying critical knowledge gaps. It is also an 
 opportunity to share upcoming research plans, and create synergies across d
 ifferent groups/research programs.\nMany thanks from,\nThe JCIOI Committee\
 n
X-ALT-DESC;FMTTYPE=text/html:<p>Please save space in your diary for an online workshop on ice-ocean inte
 ractions <strong>17<sup>th</sup>-21<sup>st</sup> October 2022</strong>.The 
 workshop is being organised by the recently formed Joint IAPSO/IACS Commiss
 ion on Ice-Ocean Interactions (JCIOI), and aims to draw together researcher
 s interested in the processes that govern ocean-driven melt of glaciers and
  ice sheets, across a range of locations and timescales. Proposed session t
 opics include:</p><ul><li>The physics of the ice-ocean boundary</li><li>The
  role of glacial melt in the wider ocean</li><li>The impact of ocean-driven
  melt on glacier and ice sheet mass balance</li><li>New and emerging techno
 logies for studying ice-ocean interaction</li></ul><p>The workshop will be 
 entirely online, with a mixture of presentations and breakout sessions sche
 duled asynchronously to facilitate interactions across time zones. A full s
 chedule will be circulated later.</p><p>We hope that this meeting will be a
 n opportunity to draw together the community, sharing knowledge across diff
 erent research areas, and identifying critical knowledge gaps. It is also a
 n opportunity to share upcoming research plans, and create synergies across
  different groups/research programs.</p><p>Many thanks from,<br />The JCIOI
  Committee</p>
DTSTAMP:20260420T000352Z
DTSTART;TZID=UTC;VALUE=DATE:20221017
DTEND;TZID=UTC;VALUE=DATE:20221022
SEQUENCE:0
TRANSP:OPAQUE
END:VEVENT
END:VCALENDAR