BEGIN:VCALENDAR
VERSION:2.0
PRODID:-//jEvents 2.0 for Joomla//EN
CALSCALE:GREGORIAN
METHOD:PUBLISH
BEGIN:VEVENT
UID:2942850352b737e61137e4f9297fc0d8
CATEGORIES:Polar Conferences, Meetings and Events
CREATED:20170213T090643
SUMMARY:ECPR General Conference
LOCATION:Oslo
DESCRIPTION:<p style="text-align: justify;"><strong>Call for Abstracts</strong><br /><s
 trong>for ECPR General Conference in Oslo, 6-9 September 2017</strong><br /
 ><strong>for Panel on “Arctic ‘exceptionalism’? Northern Contributions to I
 nternational Relations (IR) Research”</strong></p><p style="text-align: jus
 tify;"><strong>Panel conveners:</strong><br />Mathias Albert, Faculty of So
 ciology, University of Bielefeld, Germany,<br /><span id="cloak9c909083a550
 ac783f441c26f6fa3887">This email address is being protected from spambots. 
 You need JavaScript enabled to view it.</span><script type='text/javascript
 '>
				document.getElementById('cloak9c909083a550ac783f441c26f6fa3887').inn
 erHTML = '';
				var prefix = '&#109;a' + 'i&#108;' + '&#116;o';
				var pa
 th = 'hr' + 'ef' + '=';
				var addy9c909083a550ac783f441c26f6fa3887 = 'm&#
 97;th&#105;&#97;s.&#97;lb&#101;rt' + '&#64;';
				addy9c909083a550ac783f441
 c26f6fa3887 = addy9c909083a550ac783f441c26f6fa3887 + '&#117;n&#105;-b&#105;
 &#101;l&#101;f&#101;ld' + '&#46;' + 'd&#101;';
				var addy_text9c909083a55
 0ac783f441c26f6fa3887 = 'm&#97;th&#105;&#97;s.&#97;lb&#101;rt' + '&#64;' + 
 '&#117;n&#105;-b&#105;&#101;l&#101;f&#101;ld' + '&#46;' + 'd&#101;';documen
 t.getElementById('cloak9c909083a550ac783f441c26f6fa3887').innerHTML += '<a 
 ' + path + '\'' + prefix + ':' + addy9c909083a550ac783f441c26f6fa3887 + '\'
 >'+addy_text9c909083a550ac783f441c26f6fa3887+'<\/a>';
		</script> <br />Kat
 hrin Keil, Institute for Advanced Sustainability Studies (IASS), Potsdam, G
 ermany, <span id="cloak27a94e73db3581df68713d52fd46d956">This email address
  is being protected from spambots. You need JavaScript enabled to view it.<
 /span><script type='text/javascript'>
				document.getElementById('cloak27a
 94e73db3581df68713d52fd46d956').innerHTML = '';
				var prefix = '&#109;a' 
 + 'i&#108;' + '&#116;o';
				var path = 'hr' + 'ef' + '=';
				var addy27a9
 4e73db3581df68713d52fd46d956 = 'k&#97;thr&#105;n.k&#101;&#105;l' + '&#64;';
 
				addy27a94e73db3581df68713d52fd46d956 = addy27a94e73db3581df68713d52fd4
 6d956 + '&#105;&#97;ss-p&#111;tsd&#97;m' + '&#46;' + 'd&#101;';
				var add
 y_text27a94e73db3581df68713d52fd46d956 = 'k&#97;thr&#105;n.k&#101;&#105;l' 
 + '&#64;' + '&#105;&#97;ss-p&#111;tsd&#97;m' + '&#46;' + 'd&#101;';document
 .getElementById('cloak27a94e73db3581df68713d52fd46d956').innerHTML += '<a '
  + path + '\'' + prefix + ':' + addy27a94e73db3581df68713d52fd46d956 + '\'>
 '+addy_text27a94e73db3581df68713d52fd46d956+'<\/a>';
		</script> <br />Seba
 stian Knecht, Berlin Graduate School for Transnational Studies (BTS), Freie
  Universität Berlin, Germany, <span id="cloak0e51bc2b95ce8c118058079930508a
 81">This email address is being protected from spambots. You need JavaScrip
 t enabled to view it.</span><script type='text/javascript'>
				document.ge
 tElementById('cloak0e51bc2b95ce8c118058079930508a81').innerHTML = '';
				v
 ar prefix = '&#109;a' + 'i&#108;' + '&#116;o';
				var path = 'hr' + 'ef' +
  '=';
				var addy0e51bc2b95ce8c118058079930508a81 = 's.kn&#101;cht' + '&#6
 4;';
				addy0e51bc2b95ce8c118058079930508a81 = addy0e51bc2b95ce8c118058079
 930508a81 + 'tr&#97;nsn&#97;t&#105;&#111;n&#97;lst&#117;d&#105;&#101;s' + '
 &#46;' + '&#101;&#117;';
				var addy_text0e51bc2b95ce8c118058079930508a81 
 = 's.kn&#101;cht' + '&#64;' + 'tr&#97;nsn&#97;t&#105;&#111;n&#97;lst&#117;d
 &#105;&#101;s' + '&#46;' + '&#101;&#117;';document.getElementById('cloak0e5
 1bc2b95ce8c118058079930508a81').innerHTML += '<a ' + path + '\'' + prefix +
  ':' + addy0e51bc2b95ce8c118058079930508a81 + '\'>'+addy_text0e51bc2b95ce8c
 118058079930508a81+'<\/a>';
		</script> </p><p style="text-align: justify;"
 ><strong>Panel abstract:</strong><br />The Arctic region was for a long tim
 e considered to be of marginal importance for international relations (IR) 
 research due to what is framed as “Arctic exceptionalism”. Because of the r
 egion’s special ecology and placid political relationships, the High North 
 was generally seen as detached from global political dynamics and hence unc
 ompelling or unsuitable for IR theory and analysis. With few analytical too
 ls at hand, many studies in Arctic political science have remained overly d
 escriptive and atheoretical. It is only since the “new age of the Arctic” h
 as received wider academic and political attention that the region has beco
 me more and more attractive as a testing site for the application of tradit
 ional concepts and theories from across the field of IR research.</p><p sty
 le="text-align: justify;">This session approaches the Arctic’s distinctiven
 ess as a promising point of departure rather than an inhibiting factor for 
 bringing innovative thinking to world politics at the intersection of envir
 onmental, resource and security governance issues, and from both Western an
 d non-Western IR perspectives. Accordingly, the session asks how Arctic stu
 dies can contribute to central debates, concepts and theories of internatio
 nal relations and global governance in a wider sense, and thereby strongly 
 favours papers with a focus on concept formation and theory building. Issue
 s to be addressed may include, but are not limited to, questions of soverei
 gnty, security, borders and boundaries, conflict and cooperation, power and
  authority, geopolitics, and state-society relationships.</p><p style="text
 -align: justify;">Please submit your paper abstract by <strong>13 February 
 2017</strong> to <span id="cloak49065a5c49d033da4908df468cf5f41d">This emai
 l address is being protected from spambots. You need JavaScript enabled to 
 view it.</span><script type='text/javascript'>
				document.getElementById(
 'cloak49065a5c49d033da4908df468cf5f41d').innerHTML = '';
				var prefix = '
 &#109;a' + 'i&#108;' + '&#116;o';
				var path = 'hr' + 'ef' + '=';
				var
  addy49065a5c49d033da4908df468cf5f41d = 's.kn&#101;cht' + '&#64;';
				addy
 49065a5c49d033da4908df468cf5f41d = addy49065a5c49d033da4908df468cf5f41d + '
 tr&#97;nsn&#97;t&#105;&#111;n&#97;lst&#117;d&#105;&#101;s' + '&#46;' + '&#1
 01;&#117;';
				var addy_text49065a5c49d033da4908df468cf5f41d = 's.kn&#101;
 cht' + '&#64;' + 'tr&#97;nsn&#97;t&#105;&#111;n&#97;lst&#117;d&#105;&#101;s
 ' + '&#46;' + '&#101;&#117;';document.getElementById('cloak49065a5c49d033da
 4908df468cf5f41d').innerHTML += '<a ' + path + '\'' + prefix + ':' + addy49
 065a5c49d033da4908df468cf5f41d + '\'>'+addy_text49065a5c49d033da4908df468cf
 5f41d+'<\/a>';
		</script>  and <a href="mailto:kathrin.keil@iass-potsdam.d
 eÂ"><span id="cloak7cd19281045fb9055e894f234b6d27c9">This email address is 
 being protected from spambots. You need JavaScript enabled to view it.</spa
 n><script type='text/javascript'>
				document.getElementById('cloak7cd1928
 1045fb9055e894f234b6d27c9').innerHTML = '';
				var prefix = '&#109;a' + 'i
 &#108;' + '&#116;o';
				var path = 'hr' + 'ef' + '=';
				var addy7cd19281
 045fb9055e894f234b6d27c9 = 'k&#97;thr&#105;n.k&#101;&#105;l' + '&#64;';
			
 	addy7cd19281045fb9055e894f234b6d27c9 = addy7cd19281045fb9055e894f234b6d27c
 9 + '&#105;&#97;ss-p&#111;tsd&#97;m' + '&#46;' + 'd&#101;';
				var addy_te
 xt7cd19281045fb9055e894f234b6d27c9 = 'k&#97;thr&#105;n.k&#101;&#105;l' + '&
 #64;' + '&#105;&#97;ss-p&#111;tsd&#97;m' + '&#46;' + 'd&#101;';document.get
 ElementById('cloak7cd19281045fb9055e894f234b6d27c9').innerHTML += '<a ' + p
 ath + '\'' + prefix + ':' + addy7cd19281045fb9055e894f234b6d27c9 + '\'>'+ad
 dy_text7cd19281045fb9055e894f234b6d27c9+'<\/a>';
		</script> </a> including
 :</p><ul style="text-align: justify;"><li>The title of your Paper</li><li>T
 he abstract of your Paper (no more than 250 words)</li><li>Your (and if app
 licable co-author’s) email address</li></ul>
DTSTAMP:20260424T203615Z
DTSTART;TZID=UTC;VALUE=DATE:20170906
DTEND;TZID=UTC;VALUE=DATE:20170910
SEQUENCE:0
TRANSP:OPAQUE
END:VEVENT
END:VCALENDAR