BEGIN:VCALENDAR
VERSION:2.0
PRODID:-//jEvents 2.0 for Joomla//EN
CALSCALE:GREGORIAN
METHOD:PUBLISH
BEGIN:VEVENT
UID:78d75c21e32966ddd5b81694bd9e4c67
CATEGORIES:APECS Events
CREATED:20220321T085039
SUMMARY:APECS-Arctic PASSION online seminar: Media production in the field
DESCRIPTION:Online seminar part 2: Media Production in the Field\nSo, you’ve identified
  your story and how you want to tell it, but now you’ve got to actually go 
 out there and gather the media, on top of doing your actual research! In pa
 rt 2 of our Polar Week sci comms seminar we will go over how to gather medi
 a in the field. We will cover how to identify your story’s needs and how to
  put together a production plan that allows you to work smarter, not harder
 . We will also go over some basic photography and videography best practice
 s, what kinds of shots to gather, how to prepare for an interview, and some
  tips on how best to record audio (because remote interviews aren’t going a
 nywhere any time soon).\nWhen and where? 24 March 2022 - 2 PM GMT - online 
 via Zoom. \nPlease register here:  (https://us02web.zoom.us/webinar/registe
 r/WN_9fntuy5rRSKqZOvg33HSuA)<a href="https://us02web.zoom.us/webinar/regist
 er/WN_9fntuy5rRSKqZOvg33HSuA">https://us02web.zoom.us/webinar/register/WN_9
 fntuy5rRSKqZOvg33HSuA</a>\nFind more information here: https://www.apecs.is
 /news/apecs-news/4928-arctic-passion-seminar-series-starts-with-science-com
 munication.html (news/apecs-news/4928-arctic-passion-seminar-series-starts-
 with-science-communication.html)\n
X-ALT-DESC;FMTTYPE=text/html:<p><strong>Online seminar part 2: Media Production in the Field</strong></p
 ><p>So, you’ve identified your story and how you want to tell it, but now y
 ou’ve got to actually go out there and gather the media, on top of doing yo
 ur actual research! In part 2 of our Polar Week sci comms seminar we will g
 o over how to gather media in the field. We will cover how to identify your
  story’s needs and how to put together a production plan that allows you to
  work smarter, not harder. We will also go over some basic photography and 
 videography best practices, what kinds of shots to gather, how to prepare f
 or an interview, and some tips on how best to record audio (because remote 
 interviews aren’t going anywhere any time soon).</p><p><strong>When and whe
 re?</strong>&nbsp;24 March 2022 - 2 PM GMT - online via Zoom.&nbsp;<br />Pl
 ease register here:&nbsp;<a href="https://us02web.zoom.us/webinar/register/
 WN_9fntuy5rRSKqZOvg33HSuA"></a><a href="https://us02web.zoom.us/webinar/reg
 ister/WN_9fntuy5rRSKqZOvg33HSuA">https://us02web.zoom.us/webinar/register/W
 N_9fntuy5rRSKqZOvg33HSuA</a></p><p>Find more information here:&nbsp;<a href
 ="news/apecs-news/4928-arctic-passion-seminar-series-starts-with-science-co
 mmunication.html">https://www.apecs.is/news/apecs-news/4928-arctic-passion-
 seminar-series-starts-with-science-communication.html</a></p>
DTSTAMP:20260424T010926Z
DTSTART;TZID=UTC;VALUE=DATE:20220324
DTEND;TZID=UTC;VALUE=DATE:20220325
SEQUENCE:0
TRANSP:OPAQUE
END:VEVENT
END:VCALENDAR