BEGIN:VCALENDAR
VERSION:2.0
PRODID:-//jEvents 2.0 for Joomla//EN
CALSCALE:GREGORIAN
METHOD:PUBLISH
BEGIN:VEVENT
UID:4d08475a18461a6c621141386c9c04f8
CATEGORIES:APECS Events
CREATED:20220321T084929
SUMMARY:APECS-Arctic PASSION online seminar: Storytelling in science
LOCATION:Online
DESCRIPTION:Online seminar part 1: Storytelling in Science\nHave you ever wondered why 
 certain research projects get picked up in the news and not others? Or how 
 some researchers manage to produce science content that goes viral on socia
 l media? Sure, part of it is luck, but another part of it is storytelling. 
 By framing your research in a different way, you can increase the chances t
 hat your story gets picked up, or that your social media gains a following.
 \nThis webinar will give you the tools to tell stories about your research 
 intentionally, identifying newsworthy stories, who’s your audience, what me
 dium best fits your story, and considering whether you want to pitch your s
 tory to journalists, or perhaps using your own media production skills, and
  posting it to social media. But what platform? We will cover all of this a
 nd more in part 1 of our Polar Week sci comms Arctic PASSION seminar! \nWhe
 n and where? 22 March 2022 - 2 PM GMT - online via Zoom. \nPlease register 
 here:  (https://us02web.zoom.us/webinar/register/WN_-hXn6AaCQaCpWcApoPbidQ)
 <a href="https://us02web.zoom.us/webinar/register/WN_-hXn6AaCQaCpWcApoPbidQ
 ">https://us02web.zoom.us/webinar/register/WN_-hXn6AaCQaCpWcApoPbidQ</a>\nS
 ee more information here: https://www.apecs.is/news/apecs-news/4928-arctic-
 passion-seminar-series-starts-with-science-communication.html (news/apecs-n
 ews/4928-arctic-passion-seminar-series-starts-with-science-communication.ht
 ml)\n
X-ALT-DESC;FMTTYPE=text/html:<p><strong>Online seminar part 1: Storytelling in Science</strong></p><p>Ha
 ve you ever wondered why certain research projects get picked up in the new
 s and not others? Or how some researchers manage to produce science content
  that goes viral on social media? Sure, part of it is luck, but another par
 t of it is storytelling. By framing your research in a different way, you c
 an increase the chances that your story gets picked up, or that your social
  media gains a following.</p><p>This webinar will give you the tools to tel
 l stories about your research intentionally, identifying newsworthy stories
 , who’s your audience, what medium best fits your story, and considering wh
 ether you want to pitch your story to journalists, or perhaps using your ow
 n media production skills, and posting it to social media. But what platfor
 m? We will cover all of this and more in part 1 of our Polar Week sci comms
  Arctic PASSION seminar!&nbsp;</p><p><strong>When and where?</strong>&nbsp;
 22 March 2022 - 2 PM GMT - online via Zoom.&nbsp;<br />Please register here
 :&nbsp;<a href="https://us02web.zoom.us/webinar/register/WN_-hXn6AaCQaCpWcA
 poPbidQ"></a><a href="https://us02web.zoom.us/webinar/register/WN_-hXn6AaCQ
 aCpWcApoPbidQ">https://us02web.zoom.us/webinar/register/WN_-hXn6AaCQaCpWcAp
 oPbidQ</a></p><p>See more information here:&nbsp;<a href="news/apecs-news/4
 928-arctic-passion-seminar-series-starts-with-science-communication.html">h
 ttps://www.apecs.is/news/apecs-news/4928-arctic-passion-seminar-series-star
 ts-with-science-communication.html</a></p>
DTSTAMP:20260420T094354Z
DTSTART;TZID=UTC;VALUE=DATE:20220322
DTEND;TZID=UTC;VALUE=DATE:20220323
SEQUENCE:0
TRANSP:OPAQUE
END:VEVENT
END:VCALENDAR