BEGIN:VCALENDAR
VERSION:2.0
PRODID:-//jEvents 2.0 for Joomla//EN
CALSCALE:GREGORIAN
METHOD:PUBLISH
BEGIN:VEVENT
UID:e849aafef220dbb84c2abbe019bd0bf7
CATEGORIES:Polar Conferences, Meetings and Events
CREATED:20220310T111416
SUMMARY:International Symposium on Snow
LOCATION:Davos\, Switzerland
DESCRIPTION:The First Circular (https://www.igsoc.org/symposia/2022/davos2022/davos1stc
 irc_web.pdf) for the 'International Symposium on Snow', due to be held 25–3
 0 September 2022 in Davos, Switzerland, is now online.\nThe IGS symposia on
  the many aspects of ‘snow’  are typically very popular and we are expectin
 g many delegates.\nTo help us in planning for the meeting and ensure all th
 e logistics are ready we ask you to <a href="https://community.igsoc.org/ev
 ents/61f8227f1500100007525a24/description" target="_blank" rel="noopener" d
 ata-saferedirecturl="https://www.google.com/url?q=https://community.igsoc.o
 rg/events/61f8227f1500100007525a24/description&amp;source=gmail&amp;ust=164
 6995616530000&amp;usg=AOvVaw15xvFYNoYyXc1-LQ5Ffudp">Please register your in
 terest to attend</a>. That will give us an idea of the number of attendees.
  And that way you'll receive all communications relating to the symposium.\
 nSo please go to   (https://www.igsoc.org/symposia/2022/davos2022/)<a href=
 "https://www.igsoc.org/symposia/2022/davos2022/" target="_blank" rel="noope
 ner">https://www.igsoc.org/symposia/2022/davos2022/</a> and register your i
 nterest to attend.\n
X-ALT-DESC;FMTTYPE=text/html:<p>The <strong><a href="https://www.igsoc.org/symposia/2022/davos2022/davos
 1stcirc_web.pdf" target="_blank" rel="noopener" data-saferedirecturl="https
 ://www.google.com/url?q=https://www.igsoc.org/symposia/2022/davos2022/davos
 1stcirc_web.pdf&amp;source=gmail&amp;ust=1646995616529000&amp;usg=AOvVaw1KM
 GMyz0ujoHULivbl1Hoc">First Circular</a></strong> for the <strong>'Internati
 onal Symposium on Snow'</strong>, due to be held <strong>25–30 September 20
 22 </strong>in Davos, Switzerland, <strong>is now online</strong>.</p><p>Th
 e IGS symposia on the many aspects of ‘snow’ &nbsp;are typically very popul
 ar and we are expecting many delegates.</p><p>To help us in planning for th
 e meeting and ensure all the logistics are ready we ask you to <a href="htt
 ps://community.igsoc.org/events/61f8227f1500100007525a24/description" targe
 t="_blank" rel="noopener" data-saferedirecturl="https://www.google.com/url?
 q=https://community.igsoc.org/events/61f8227f1500100007525a24/description&a
 mp;source=gmail&amp;ust=1646995616530000&amp;usg=AOvVaw15xvFYNoYyXc1-LQ5Ffu
 dp">Please register your interest to attend</a>. That will give us an idea 
 of the number of attendees. And that way you'll receive all communications 
 relating to the symposium.</p><p>So please go to <a href="https://www.igsoc
 .org/symposia/2022/davos2022/" data-saferedirecturl="https://www.google.com
 /url?q=https://www.igsoc.org/symposia/2022/davos2022/&amp;source=gmail&amp;
 ust=1646995616530000&amp;usg=AOvVaw3Yk1uwko8h2LyzuUbrQiVB"> </a><a href="ht
 tps://www.igsoc.org/symposia/2022/davos2022/" target="_blank" rel="noopener
 ">https://www.igsoc.org/symposia/2022/davos2022/</a> and register your inte
 rest to attend.</p>
DTSTAMP:20260421T132047Z
DTSTART;TZID=UTC;VALUE=DATE:20220925
DTEND;TZID=UTC;VALUE=DATE:20221001
SEQUENCE:0
TRANSP:OPAQUE
END:VEVENT
END:VCALENDAR