BEGIN:VCALENDAR
VERSION:2.0
PRODID:-//jEvents 2.0 for Joomla//EN
CALSCALE:GREGORIAN
METHOD:PUBLISH
BEGIN:VEVENT
UID:541910aae7330312d3c068bbda56d4d3
CATEGORIES:Polar Conferences, Meetings and Events
CREATED:20220307T095916
SUMMARY:Northeast Glaciology Meeting
LOCATION:Hanover\, New Hampshire\, USA
DESCRIPTION:The Northeast Glaciology meeting is happening! April 14 &amp; 15, 2022 at D
 artmouth College. Everyone from near and far is welcome. Indicate interest 
 here:  (https://forms.gle/231ToUNbmNvz3qoK7)<a href="https://forms.gle/231T
 oUNbmNvz3qoK7" target="_blank" rel="noopener">https://forms.gle/231ToUNbmNv
 z3qoK7</a>\n \n The meeting will be in-person only, facilitating interactio
 ns between students, faculty, postdocs, and researchers. Accordingly, more 
 details on the covid policy will be emailed to all those that sign up to at
 tend.\n \n We encourage everyone to bring a poster and will ensure that the
 re is plenty of time for discussion. We are also happy to accommodate some 
 talks for those who would prefer giving a talk rather than a poster, with p
 reference for students and early career researchers.\n \n Feel free to reac
 h out with any questions.\nDr. Colin R. Meyer\n Assistant Professor of Engi
 neering\n Thayer School of Engineering, Dartmouth College\n engineering.dar
 tmouth.edu/people/faculty/colin-meyer (http://engineering.dartmouth.edu/peo
 ple/faculty/colin-meyer)\n
X-ALT-DESC;FMTTYPE=text/html:<p>The Northeast Glaciology meeting is happening! April 14 &amp; 15, 2022 a
 t Dartmouth College. Everyone from near and far is welcome. Indicate intere
 st here:&nbsp;<a href="https://forms.gle/231ToUNbmNvz3qoK7" target="_blank"
  rel="noopener" data-saferedirecturl="https://www.google.com/url?q=https://
 forms.gle/231ToUNbmNvz3qoK7&amp;source=gmail&amp;ust=1646733173679000&amp;u
 sg=AOvVaw312qZgVoh6kJkgjjbmnJG2"></a><a href="https://forms.gle/231ToUNbmNv
 z3qoK7" target="_blank" rel="noopener">https://forms.gle/231ToUNbmNvz3qoK7<
 /a><br /> <br /> The meeting will be in-person only, facilitating interacti
 ons between students, faculty, postdocs, and researchers. Accordingly, more
  details on the covid policy will be emailed to all those that sign up to a
 ttend.<br /> <br /> We encourage everyone to bring a poster and will ensure
  that there is plenty of time for discussion. We are also happy to accommod
 ate some talks for those who would prefer giving a talk rather than a poste
 r, with preference for students and early career researchers.<br /> <br /> 
 Feel free to reach out with any questions.</p><p>Dr. Colin R. Meyer<br /> A
 ssistant Professor of Engineering<br /> Thayer School of Engineering, Dartm
 outh College<br /> <a href="http://engineering.dartmouth.edu/people/faculty
 /colin-meyer" target="_blank" rel="noopener" data-saferedirecturl="https://
 www.google.com/url?q=http://engineering.dartmouth.edu/people/faculty/colin-
 meyer&amp;source=gmail&amp;ust=1646733173679000&amp;usg=AOvVaw29OAcj2vuGDuq
 VAw1CQ58p">engineering.dartmouth.edu/people/faculty/colin-meyer</a></p>
DTSTAMP:20260420T093330Z
DTSTART;TZID=UTC;VALUE=DATE:20220414
DTEND;TZID=UTC;VALUE=DATE:20220416
SEQUENCE:0
TRANSP:OPAQUE
END:VEVENT
END:VCALENDAR