BEGIN:VCALENDAR
VERSION:2.0
PRODID:-//jEvents 2.0 for Joomla//EN
CALSCALE:GREGORIAN
METHOD:PUBLISH
BEGIN:VEVENT
UID:56142a9fcf71b2ef1506286dd3a66eaf
CATEGORIES:Polar Online Events
CREATED:20220304T110902
SUMMARY:Polar Radar Science and Technology Conference - call for talks
LOCATION:Online
DESCRIPTION:<p dir="ltr" style="text-align: justify;">With the dates for the conference
  set for April 4-6th, 2022, we want to invite participants to submit topics
  of interest for short, ~10 minute talks to be presented. We will host talk
 s for the first half of the conference each day, followed by breakout sessi
 ons with smaller groups to discuss topics of interest in more depth. We enc
 ourage presenters to help lead the breakout discussion groups.</p><p dir="l
 tr" style="text-align: justify;">For the smaller, focused discussions, we w
 ill use Google Jamboard to capture and record comments and key takeaways so
  that groups can provide a summary at the end of each day for the larger co
 nference audience. The focus of the conference is on all local-to-regional 
 scale ground-based and AUV radar applications in polar and alpine environme
 nts globally (to include snow, firn, glacier, permafrost, ice shelf, perigl
 acial environments etc.).</p><p dir="ltr" style="text-align: justify;">Plea
 se include in your email the title/topic of your talk and a brief paragraph
  (~250 words). Topics are listed in order of most-to-less interest based on
  feedback from the original questionnaire.&nbsp; </p><ol style="text-align:
  justify;"><li dir="ltr"><p dir="ltr" role="presentation">Future science qu
 estions &amp; logistics requiring radar</p></li><li dir="ltr"><p dir="ltr" 
 role="presentation">Current science &amp; logistics using radar</p></li><li
  dir="ltr"><p dir="ltr" role="presentation">Radar data software, analysis, 
 and interpretation needs</p></li><li dir="ltr"><p dir="ltr" role="presentat
 ion">Current &amp; future community radar systems</p></li><li dir="ltr"><p 
 dir="ltr" role="presentation">Current commercial radar systems, research, a
 nd development</p></li><li dir="ltr"><p dir="ltr" role="presentation">Curre
 nt radar data repository and future needs</p></li><li dir="ltr"><p dir="ltr
 " role="presentation">Radar science, engineering, and technical support nee
 ds</p></li><li dir="ltr"><p dir="ltr" role="presentation">Maximizing radar 
 data access, sharing, and standards in the future</p></li><li dir="ltr"><p 
 dir="ltr" role="presentation">Improving radar training &amp; education with
 in the radar community</p></li><li dir="ltr"><p dir="ltr" role="presentatio
 n">&nbsp;Other topic of interest </p></li></ol><p style="text-align: justif
 y;">&nbsp;</p><p dir="ltr" style="text-align: justify;">Please visit this q
 uestionnaire to select a topic on which to present.&nbsp;</p><p dir="ltr" s
 tyle="text-align: justify;"><a href="https://docs.google.com/forms/d/e/1FAI
 pQLSfdQ3MiO2OyEo4HblcgW-LV6y822OcxfNEQajJ-u8erNI6n0Q/viewform" target="_bla
 nk" rel="noopener" data-saferedirecturl="https://www.google.com/url?q=https
 ://docs.google.com/forms/d/e/1FAIpQLSfdQ3MiO2OyEo4HblcgW-LV6y822OcxfNEQajJ-
 u8erNI6n0Q/viewform&amp;source=gmail&amp;ust=1646474806124000&amp;usg=AOvVa
 w08NMDoR9Rbs8AtoBppgqVk"></a><a href="https://docs.google.com/forms/d/e/1FA
 IpQLSfdQ3MiO2OyEo4HblcgW-LV6y822OcxfNEQajJ-u8erNI6n0Q/viewform" target="_bl
 ank" rel="noopener">https://docs.google.com/forms/d/e/1FAIpQLSfdQ3MiO2OyEo4
 HblcgW-LV6y822OcxfNEQajJ-u8erNI6n0Q/viewform</a></p><p dir="ltr" style="tex
 t-align: justify;">Website: <a href="https://climatechange.umaine.edu/prstc
 onference/" target="_blank" rel="noopener" data-saferedirecturl="https://ww
 w.google.com/url?q=https://climatechange.umaine.edu/prstconference/&amp;sou
 rce=gmail&amp;ust=1646474806125000&amp;usg=AOvVaw1HmJ5LcpYWxei6vh05joTs"></
 a><a href="https://climatechange.umaine.edu/prstconference/" target="_blank
 " rel="noopener">https://climatechange.umaine.edu/prstconference/</a></p>
DTSTAMP:20260422T140554Z
DTSTART;TZID=UTC;VALUE=DATE:20220404
DTEND;TZID=UTC;VALUE=DATE:20220407
SEQUENCE:0
TRANSP:OPAQUE
END:VEVENT
END:VCALENDAR