BEGIN:VCALENDAR
VERSION:2.0
PRODID:-//jEvents 2.0 for Joomla//EN
CALSCALE:GREGORIAN
METHOD:PUBLISH
BEGIN:VEVENT
UID:3335aa88b4f10bf1c3bf9ccc67640ec1
CATEGORIES:Polar Conferences, Meetings and Events
CREATED:20170207T070331
SUMMARY:IAHS 2017 
LOCATION:Port Elizabeth\, South Africa
DESCRIPTION:Call for abstracts: IAHS 2017 Port Elizabeth, South Africa\nDear Colleagues
 !\nPlease consider submitting an abstract to one of the 2 sessions sponsore
 d by the International Commission for Snow and Ice Hydrology (ICSIH) (http:
 //iahs.info/Commissions--W-Groups/ICSIH-Snow-and-Ice-Hydrology.do) at the<a
  href="http://cwrr.ukzn.ac.za/iahs/call-for-papers/overview-of-scientific-p
 rogramme"> IAHS 2017 Scientific Assembly</a> in Port Elizabeth, South Afric
 a, 10-14 July 2017.\nSubmission deadline is 14 Feb 2017.\n\n - #14 Advances
  in cold-region hydrological models: Integration of process understanding a
 nd application to climate and landcover changes\n - #15 Operational snowmel
 t runoff modelling: Advances and prospects for water management
X-ALT-DESC;FMTTYPE=text/html:<p><span style="font-size: 12pt;"><strong>Call for abstracts: IAHS 2017 Por
 t Elizabeth, South Africa</strong></span></p><p>Dear Colleagues!</p><p>Plea
 se consider submitting an abstract to one of the 2 sessions sponsored by th
 e<a href="http://iahs.info/Commissions--W-Groups/ICSIH-Snow-and-Ice-Hydrolo
 gy.do"> International Commission for Snow and Ice Hydrology (ICSIH)</a> at 
 the<a href="http://cwrr.ukzn.ac.za/iahs/call-for-papers/overview-of-scienti
 fic-programme"> IAHS 2017 Scientific Assembly</a> in Port Elizabeth, South 
 Africa, 10-14 July 2017.</p><p><strong>Submission deadline is 14 Feb 2017.<
 /strong></p><ul><li>#14 Advances in cold-region hydrological models: Integr
 ation of process understanding and application to climate and landcover cha
 nges</li><li>#15 Operational snowmelt runoff modelling: Advances and prospe
 cts for water management</li></ul>
DTSTAMP:20260423T032221Z
DTSTART;TZID=UTC;VALUE=DATE:20170710
DTEND;TZID=UTC;VALUE=DATE:20170715
SEQUENCE:0
TRANSP:OPAQUE
END:VEVENT
END:VCALENDAR