BEGIN:VCALENDAR
VERSION:2.0
PRODID:-//jEvents 2.0 for Joomla//EN
CALSCALE:GREGORIAN
METHOD:PUBLISH
BEGIN:VEVENT
UID:061aa637de8b1ea93e9e8dc25e5b6701
CATEGORIES:Polar Online Events
CREATED:20220304T102241
SUMMARY:Future of Greenland Ice Sheet Science - Register your interest
LOCATION:Online
DESCRIPTION:We are pleased to invite you to participate in a collaborative workshop tar
 geted at identifying the Future of Greenland Ice Sheet Science.  Although t
 his workshop is organized at the behest of U.S.-based funding agencies, we 
 invite the perspectives and participation of our international colleagues a
 s well. The Future of Greenland Ice Sheet Science (FOGSS) workshop descends
  from the successful legacies of the previous NASA PARCA and NSF GEOSummit 
 workshop.  The FOGSS workshop will consist of collaborative priority-settin
 g discussions as well as brief presentations focused on increasing the impa
 ct of existing and proposed research activities in Greenland. We have launc
 hed a website containing further information regarding the structure and or
 ientation of this workshop, which is scheduled over Zoom for three hrs per 
 day, April 6-8.  (https://www.fogss-workshop.org/)<a href="https://www.fogs
 s-workshop.org/" target="_blank" rel="noopener">https://www.fogss-workshop.
 org/</a> To join our mailing list and register your interest in participati
 on, please complete the &lt;5 min registration form by Monday, March 7.  Th
 e registration form may be found via link on the website.  We do not antici
 pate further announcements/advertisements to Cryolist this year. We look fo
 rward to working with many of you later this spring. Sincerely,Timothy Bart
 holomaus, Winnie Chu, Mathieu Morlighem, Von Walden, and Joseph MacGregor
X-ALT-DESC;FMTTYPE=text/html:<div style="text-align: justify;">We are pleased to invite you to participa
 te in a collaborative workshop targeted at identifying the Future of Greenl
 and Ice Sheet Science. &nbsp;Although this workshop is organized at the beh
 est of U.S.-based funding agencies, we invite the perspectives and particip
 ation of our international colleagues as well.</div><div style="text-align:
  justify;">&nbsp;</div><div style="text-align: justify;">The Future of Gree
 nland Ice Sheet Science (FOGSS) workshop descends from the successful legac
 ies of the previous NASA PARCA and NSF GEOSummit workshop. &nbsp;The FOGSS 
 workshop will consist of collaborative priority-setting discussions as well
  as brief presentations focused on increasing the impact of existing and pr
 oposed research activities in Greenland.</div><div style="text-align: justi
 fy;">&nbsp;</div><div style="text-align: justify;">We have launched a websi
 te containing further information regarding the structure and orientation o
 f this workshop, which is scheduled over <strong>Zoom</strong> for three hr
 s per day, <strong>April 6-8</strong>.</div><div style="text-align: justify
 ;">&nbsp;</div><div style="text-align: justify;"><a href="https://www.fogss
 -workshop.org/" target="_blank" rel="noopener" data-saferedirecturl="https:
 //www.google.com/url?q=https://www.fogss-workshop.org/&amp;source=gmail&amp
 ;ust=1646475107664000&amp;usg=AOvVaw1pC2qhHrUzFDtymdfKX4SO"></a><a href="ht
 tps://www.fogss-workshop.org/" target="_blank" rel="noopener">https://www.f
 ogss-workshop.org/</a></div><div style="text-align: justify;">&nbsp;</div><
 div style="text-align: justify;">To join our mailing list and register your
  interest in participation, please complete the &lt;5 min registration form
  by Monday, March 7. &nbsp;The registration form may be found via link on t
 he website. &nbsp;We do not anticipate further announcements/advertisements
  to Cryolist this year.</div><div style="text-align: justify;">&nbsp;</div>
 <div style="text-align: justify;">We look forward to working with many of y
 ou later this spring.</div><div style="text-align: justify;">&nbsp;</div><d
 iv style="text-align: justify;">Sincerely,</div><div style="text-align: jus
 tify;">Timothy Bartholomaus, Winnie Chu, Mathieu Morlighem, Von Walden, and
  Joseph MacGregor</div>
DTSTAMP:20260420T093536Z
DTSTART;TZID=UTC;VALUE=DATE:20220406
DTEND;TZID=UTC;VALUE=DATE:20220409
SEQUENCE:0
TRANSP:OPAQUE
END:VEVENT
END:VCALENDAR