BEGIN:VCALENDAR
VERSION:2.0
PRODID:-//jEvents 2.0 for Joomla//EN
CALSCALE:GREGORIAN
METHOD:PUBLISH
BEGIN:VEVENT
UID:2232ae9e9dca5954d6ae5634779f3c7e
CATEGORIES:Polar Conferences, Meetings and Events
CREATED:20220221T143811
SUMMARY:35th Nordic Geological Winter Meeting
LOCATION:Reykjavík\, Iceland
DESCRIPTION:The Geoscience Society of Iceland invites you to attend the 35th Nordic Geo
 logical Winter Meeting. The meeting will take place from 11th to 13th May 2
 022 on the campus of the University of Iceland in Reykjavík. On the confere
 nce website ( (https://jfi.is/ngwm-2022/)<a href="https://jfi.is/ngwm-2022/
 " target="_blank" rel="noopener">https://jfi.is/ngwm-2022/</a>) you may fin
 d several sessions related to all cryosphere components that we hope you wi
 ll find of your interest.\nRegistration and abstract submission are open un
 til the 1st of March 2022. \n\nField excursions are planned before and afte
 r the meeting. We cannot promise a live eruption, but we will have a field 
 excursion to the 2021 Fagradalsfjall eruption site on the Reykjanes Peninsu
 la on 10th May. Three additional field excursions are also planned after th
 e conference on 14th May. Additional information about the meeting and trav
 el arrangements are available on the homepage ( (https://jfi.is/ngwm-2022/)
 <a href="https://jfi.is/ngwm-2022/" target="_blank" rel="noopener">https://
 jfi.is/ngwm-2022/</a>).\nWe look forward to meeting you in person in Reykja
 vík in May.\n
X-ALT-DESC;FMTTYPE=text/html:<p><span style="font-family: arial, sans-serif;"><span lang="EN-GB">The Geo
 science Society of Iceland invites you to attend the&nbsp;<strong>35th Nord
 ic Geological Winter Meeting</strong>. The meeting will take place&nbsp;<st
 rong>from 11th to 13th May 2022</strong>&nbsp;on the campus of the Universi
 ty of Iceland in Reykjavík. On the conference website&nbsp;(</span><span la
 ng="EN-GB"><a href="https://jfi.is/ngwm-2022/" target="_blank" rel="noopene
 r" data-saferedirecturl="https://www.google.com/url?q=https://jfi.is/ngwm-2
 022/&amp;source=gmail&amp;ust=1645521649540000&amp;usg=AOvVaw1Bv36f3c6N1CJq
 9h24plFH"></a><a href="https://jfi.is/ngwm-2022/" target="_blank" rel="noop
 ener">https://jfi.is/ngwm-2022/</a></span><span lang="EN-GB">)&nbsp;you may
  find several sessions </span><span lang="EN-GB">related to all cryosphere 
 components that we hope you will find of your interest.</span></span></p><p
 ><strong><span lang="EN-GB"><span style="font-family: arial, sans-serif;">R
 egistration and abstract submission are open until the 1st of March 2022. <
 br /></span></span></strong></p><p><span style="font-family: arial, sans-se
 rif;"><strong><span lang="EN-GB">Field excursions</span></strong><span lang
 ="EN-GB"> are planned before and after the meeting. We cannot promise a liv
 e eruption, but we will have a field excursion to the 2021 Fagradalsfjall e
 ruption site on the Reykjanes Peninsula on 10th May. Three additional field
  excursions are also planned after the conference on 14th May.&nbsp;Additio
 nal information about the meeting and travel arrangements are available on 
 the homepage (<span lang="EN-GB"><a href="https://jfi.is/ngwm-2022/" target
 ="_blank" rel="noopener" data-saferedirecturl="https://www.google.com/url?q
 =https://jfi.is/ngwm-2022/&amp;source=gmail&amp;ust=1645521649540000&amp;us
 g=AOvVaw1Bv36f3c6N1CJq9h24plFH"></a><a href="https://jfi.is/ngwm-2022/" tar
 get="_blank" rel="noopener">https://jfi.is/ngwm-2022/</a></span><span lang=
 "EN-GB">).</span></span></span></p><p><span style="font-family: arial, sans
 -serif;"><span lang="EN-GB">We look forward to&nbsp;</span><span lang="EN-G
 B">meeting</span><span lang="EN-GB">&nbsp;you in person in Reykjavík in May
 .</span></span></p>
DTSTAMP:20260420T094026Z
DTSTART;TZID=UTC;VALUE=DATE:20220511
DTEND;TZID=UTC;VALUE=DATE:20220514
SEQUENCE:0
TRANSP:OPAQUE
END:VEVENT
END:VCALENDAR