BEGIN:VCALENDAR
VERSION:2.0
PRODID:-//jEvents 2.0 for Joomla//EN
CALSCALE:GREGORIAN
METHOD:PUBLISH
BEGIN:VEVENT
UID:957c8b389be8d070e0062341bee9c188
CATEGORIES:Field and Summer Schools
CREATED:20220221T143355
SUMMARY:Potsdam Summer School 2022 Call for Applications 
LOCATION:Potsdam\, Germany
DESCRIPTION:Call for Applications Potsdam Summer School 2022\nTowards a Sustainable Tra
 nsformation – Climate, Energy and Nature in a Changing World from August 22
  until August 31 in Potsdam, Germany\nThe call for applications has started
  on February 01, 2022. The deadline for submitting applications will be Apr
 il 30, 2022.The organisers intend to conduct the 10-day programme in a form
 at whereby all participants and speakers will be present in Potsdam. Should
  it be the case that the overall situation regarding the current pandemic p
 recludes in-person attendance the organisers will revert to a virtual forma
 t. For further information visit our website and click here (https://potsda
 m-summer-school.org/)\nIn partnership with <a href="https://www.geo-x.net/e
 n/" data-saferedirecturl="https://www.google.com/url?q=https://www.geo-x.ne
 t/en/&amp;source=gmail&amp;ust=1645521649552000&amp;usg=AOvVaw2WcD8NxYZ9WS0
 XBQ8hj2VC">Geo.X</a> and the City of Potsdam (http://en.potsdam.de), the 20
 22 Potsdam Summer School will be jointly organised by the <a href="http://w
 ww.awi.de/en/home/" target="_blank" rel="noopener" data-saferedirecturl="ht
 tps://www.google.com/url?q=http://www.awi.de/en/home/&amp;source=gmail&amp;
 ust=1645521649552000&amp;usg=AOvVaw3gaIJA9q757h7I5iipKn8z">Alfred Wegener I
 nstitute, Helmholtz Centre for Polar and Marine Research (AWI)</a>, the Hel
 mholtz-Centre Potsdam – GFZ German Research Centre for Geosciences (http://
 www.gfz-potsdam.de/en/home/), the <a href="http://www.iass-potsdam.de/en" t
 arget="_blank" rel="noopener" data-saferedirecturl="https://www.google.com/
 url?q=http://www.iass-potsdam.de/en&amp;source=gmail&amp;ust=16455216495520
 00&amp;usg=AOvVaw2CyduM4kKOwPLcx1szHL5t">Institute for Advanced Sustainabil
 ity Studies (IASS)</a>, the Potsdam Institute for Climate Impact Research (
 PIK) (https://www.pik-potsdam.de/pik-frontpage?set_language=en), and the <a
  href="http://www.uni-potsdam.de/en/index.html" target="_blank" rel="noopen
 er" data-saferedirecturl="https://www.google.com/url?q=http://www.uni-potsd
 am.de/en/index.html&amp;source=gmail&amp;ust=1645521649552000&amp;usg=AOvVa
 w31KKI-oWnBL0eRItgT9n3y">University of Potsdam</a>.\n
X-ALT-DESC;FMTTYPE=text/html:<p><strong>Call for Applications Potsdam Summer School 2022</strong></p><p>
 <strong>Towards a </strong><strong>S</strong><strong>ustainable </strong><s
 trong>T</strong><strong>ransformation – </strong><strong>C</strong><strong>
 limate, </strong><strong>E</strong><strong>nergy</strong><strong> and N</st
 rong><strong>ature in a </strong><strong>C</strong><strong>hanging </strong
 ><strong>W</strong><strong>orld </strong>from August 22 until August 31 in 
 Potsdam, Germany</p><p>The call for applications has started on February 01
 , 2022. The deadline for submitting applications will be April 30, 2022.The
  organisers intend to conduct the 10-day programme in a format whereby all 
 participants and speakers will be present in Potsdam. Should it be the case
  that the overall situation regarding the current pandemic precludes in-per
 son attendance the organisers will revert to a virtual format. For further 
 information visit our website and click <a href="https://potsdam-summer-sch
 ool.org/" target="_blank" rel="noopener" data-saferedirecturl="https://www.
 google.com/url?q=https://potsdam-summer-school.org/&amp;source=gmail&amp;us
 t=1645521649552000&amp;usg=AOvVaw3SIDwV4LlJty3msQKw3-2S">here</a></p><p>In 
 partnership with <a href="https://www.geo-x.net/en/" data-saferedirecturl="
 https://www.google.com/url?q=https://www.geo-x.net/en/&amp;source=gmail&amp
 ;ust=1645521649552000&amp;usg=AOvVaw2WcD8NxYZ9WS0XBQ8hj2VC"><em>Geo.X</em><
 /a> and the <a href="http://en.potsdam.de" target="_blank" rel="noopener" d
 ata-saferedirecturl="https://www.google.com/url?q=http://en.potsdam.de&amp;
 source=gmail&amp;ust=1645521649552000&amp;usg=AOvVaw1LaWgla0dFjptDD9OIvgvM"
 ><em>City of Potsdam</em></a>, the 2022 Potsdam Summer School will be joint
 ly organised by the <a href="http://www.awi.de/en/home/" target="_blank" re
 l="noopener" data-saferedirecturl="https://www.google.com/url?q=http://www.
 awi.de/en/home/&amp;source=gmail&amp;ust=1645521649552000&amp;usg=AOvVaw3ga
 IJA9q757h7I5iipKn8z"><em>Alfred Wegener Institute, Helmholtz Centre for Pol
 ar and Marine Research (AWI)</em></a>, the <a href="http://www.gfz-potsdam.
 de/en/home/" target="_blank" rel="noopener" data-saferedirecturl="https://w
 ww.google.com/url?q=http://www.gfz-potsdam.de/en/home/&amp;source=gmail&amp
 ;ust=1645521649552000&amp;usg=AOvVaw3Cb86NgwlYM1CpN7KN-sSO"><em>Helmholtz-C
 entre Potsdam – GFZ German Research Centre for Geosciences</em></a>, the <a
  href="http://www.iass-potsdam.de/en" target="_blank" rel="noopener" data-s
 aferedirecturl="https://www.google.com/url?q=http://www.iass-potsdam.de/en&
 amp;source=gmail&amp;ust=1645521649552000&amp;usg=AOvVaw2CyduM4kKOwPLcx1szH
 L5t"><em>Institute for Advanced Sustainability Studies (IASS)</em></a>, the
  <a href="https://www.pik-potsdam.de/pik-frontpage?set_language=en" target=
 "_blank" rel="noopener" data-saferedirecturl="https://www.google.com/url?q=
 https://www.pik-potsdam.de/pik-frontpage?set_language=en&amp;source=gmail&a
 mp;ust=1645521649552000&amp;usg=AOvVaw0_A7JLgF3xoEisGxzUGAU2"><em>Potsdam I
 nstitute for Climate Impact Research (PIK)</em></a>, and the <a href="http:
 //www.uni-potsdam.de/en/index.html" target="_blank" rel="noopener" data-saf
 eredirecturl="https://www.google.com/url?q=http://www.uni-potsdam.de/en/ind
 ex.html&amp;source=gmail&amp;ust=1645521649552000&amp;usg=AOvVaw31KKI-oWnBL
 0eRItgT9n3y"><em>University of Potsdam</em></a>.</p>
DTSTAMP:20260419T185230Z
DTSTART;TZID=UTC;VALUE=DATE:20220822
DTEND;TZID=UTC;VALUE=DATE:20220901
SEQUENCE:0
TRANSP:OPAQUE
END:VEVENT
END:VCALENDAR