BEGIN:VCALENDAR
VERSION:2.0
PRODID:-//jEvents 2.0 for Joomla//EN
CALSCALE:GREGORIAN
METHOD:PUBLISH
BEGIN:VEVENT
UID:a537fe418cbf37aae09aa5a6251ea1b9
CATEGORIES:Polar Conferences, Meetings and Events
CREATED:20220221T142852
SUMMARY:1st Annual Ice Core Open Science Meeting - registration open
LOCATION:La Jolla\, California\, USA
DESCRIPTION:Registration is now open for the Ice Core Open Science Meeting at Scripps, 
 May 24-26, 2022.\n \n For more information about the meeting, see: <a href=
 "https://herculesdome.org/us-ice-core-open-science-meeting" target="_blank"
  rel="noopener">https://herculesdome.org/us-ice-core-open-science-meeting</
 a>\n \n To register, please use the following link.\n \n <a href="https://c
 atalyst.uw.edu/webq/survey/steig/419153" target="_blank" rel="noopener">htt
 ps://catalyst.uw.edu/webq/survey/steig/419153</a>\n \n Overview: This meeti
 ng is intended for anyone interested in ice core science or related fields,
  including ice-core analysis, ice or subglacial drilling, glacier geophysic
 s that supports or depends on ice core records, paleoclimate, and contempor
 ary climate and ice sheet change.  It is intended primarily as an in-person
  meeting, but online participants are welcome.\n \n Registration fee:  For 
 those attending in person, there is a $100 registration fee.  We have limit
 ed financial support for early career attendees; if you wish to be consider
 ed for this support, please register by March 21st.  The registration deadl
 ine is April 15th.  The late registration fee is $200.\n \n Venue and Lodgi
 ng: The meeting will be held at the Scripps Seaside Forum at the Scripps In
 stituion of Oceanography, May 24-26, 2022.  We have reserved a block of roo
 ms at La Jolla Shores hotel and the adjacent La Jolla Beach &amp; Tennis Cl
 ub, both within walking distance of the meeting.  Individual attendees shou
 ld make their own reservations directly with the Hotel Reservations Departm
 ent at 866 976-6659.  Please refer to the Antarctic Ice Core Meeting when m
 aking reservations.\n \n Travel: The closet airport is the San Diego airpor
 t (airport code SAN), which is about 20 min away by cab or rideshare.  We w
 ill post a google doc so that people can work on ride-sharing to save costs
 .\n \n Additional updates and details will be forthcoming at the Hercules D
 ome web site:  <a href="https://herculesdome.org/us-ice-core-open-science-m
 eeting" target="_blank" rel="noopener">https://herculesdome.org/us-ice-core
 -open-science-meeting</a>\n \n Feel free to contact us directly at This ema
 il address is being protected from spambots. You need JavaScript enabled to
  view it.
				document.getElementById('cloak178e0dcb336545734d5d39d733d8f8b
 0').innerHTML = '';
				var prefix = '&#109;a' + 'i&#108;' + '&#116;o';
			
 	var path = 'hr' + 'ef' + '=';
				var addy178e0dcb336545734d5d39d733d8f8b0
  = 'st&#101;&#105;g' + '&#64;';
				addy178e0dcb336545734d5d39d733d8f8b0 = 
 addy178e0dcb336545734d5d39d733d8f8b0 + '&#117;w' + '&#46;' + '&#101;d&#117;
 ';
				var addy_text178e0dcb336545734d5d39d733d8f8b0 = 'st&#101;&#105;g[&#9
 7;t]&#117;w.&#101;d&#117;';document.getElementById('cloak178e0dcb336545734d
 5d39d733d8f8b0').innerHTML += '<a ' + path + '\'' + prefix + ':' + addy178e
 0dcb336545734d5d39d733d8f8b0 + '\'>'+addy_text178e0dcb336545734d5d39d733d8f
 8b0+'';
		 if you have questions\n \n Your organizing committee: Eric Steig
 , Sarah Aarons, Murat Aydin, Seth Campbell, TJ Fudge, Heidi Roop\n
X-ALT-DESC;FMTTYPE=text/html:<p>Registration is now open for the Ice Core Open Science Meeting at Scripp
 s,&nbsp;May 24-26, 2022.<br /> <br /> For more information about the meetin
 g, see: <a href="https://herculesdome.us2.list-manage.com/track/click?u=4ab
 11fdb4d549bdc4161407b4&amp;id=e5de7baee9&amp;e=f16fbe5e6d" target="_blank" 
 rel="noopener" data-saferedirecturl="https://www.google.com/url?q=https://h
 erculesdome.us2.list-manage.com/track/click?u%3D4ab11fdb4d549bdc4161407b4%2
 6id%3De5de7baee9%26e%3Df16fbe5e6d&amp;source=gmail&amp;ust=1646474806119000
 &amp;usg=AOvVaw1FDPkCNdii6ut4ncUQgJAY"></a><a href="https://herculesdome.or
 g/us-ice-core-open-science-meeting" target="_blank" rel="noopener">https://
 herculesdome.org/us-ice-core-open-science-meeting</a><br /> <br /> To regis
 ter, please use the following link.<br /> <br /> <a href="https://herculesd
 ome.us2.list-manage.com/track/click?u=4ab11fdb4d549bdc4161407b4&amp;id=4f32
 e50b99&amp;e=f16fbe5e6d" target="_blank" rel="noopener" data-saferedirectur
 l="https://www.google.com/url?q=https://herculesdome.us2.list-manage.com/tr
 ack/click?u%3D4ab11fdb4d549bdc4161407b4%26id%3D4f32e50b99%26e%3Df16fbe5e6d&
 amp;source=gmail&amp;ust=1646474806119000&amp;usg=AOvVaw3iHOcQ7cMVbcjrwaXaT
 i4E"></a><a href="https://catalyst.uw.edu/webq/survey/steig/419153" target=
 "_blank" rel="noopener">https://catalyst.uw.edu/webq/survey/steig/419153</a
 ><br /> <br /> <strong>Overview:</strong> This meeting is intended for anyo
 ne interested in ice core science or related fields, including ice-core ana
 lysis, ice or subglacial drilling, glacier geophysics that supports or depe
 nds on ice core records, paleoclimate, and contemporary climate and ice she
 et change.&nbsp; It is intended primarily as an in-person meeting, but onli
 ne participants are welcome.<br /> <br /> <strong>Registration fee:</strong
 >&nbsp; For those attending in person, there is a $100 registration fee. &n
 bsp;We have limited financial support for early career attendees; if you wi
 sh to be considered for this support, please&nbsp;register by March 21st. &
 nbsp;The registration deadline is April 15th. &nbsp;The late registration f
 ee is $200.<br /> <br /> <strong>Venue and Lodging</strong><strong>:</stron
 g>&nbsp;The meeting will be held at the Scripps Seaside Forum at the Scripp
 s Instituion of Oceanography, May 24-26, 2022. &nbsp;We have reserved a blo
 ck of rooms at La Jolla Shores hotel and the adjacent La Jolla Beach &amp; 
 Tennis Club, both&nbsp;within walking distance of the meeting. &nbsp;Indivi
 dual attendees should make their own reservations directly with the Hotel R
 eservations Department at 866 976-6659. &nbsp;Please refer to the Antarctic
 &nbsp;Ice Core Meeting&nbsp;when making reservations.<br /> <br /> <strong>
 Travel:&nbsp;</strong>The closet airport is the San Diego airport (airport 
 code SAN), which is about 20 min away by cab or rideshare. &nbsp;We will po
 st a google doc so that people can work on ride-sharing to save costs.<br /
 > <br /> Additional updates and details will be forthcoming at the Hercules
  Dome web site:&nbsp;&nbsp;<a href="https://herculesdome.us2.list-manage.co
 m/track/click?u=4ab11fdb4d549bdc4161407b4&amp;id=e5de7baee9&amp;e=f16fbe5e6
 d" target="_blank" rel="noopener" data-saferedirecturl="https://www.google.
 com/url?q=https://herculesdome.us2.list-manage.com/track/click?u%3D4ab11fdb
 4d549bdc4161407b4%26id%3De5de7baee9%26e%3Df16fbe5e6d&amp;source=gmail&amp;u
 st=1646474806119000&amp;usg=AOvVaw1FDPkCNdii6ut4ncUQgJAY"></a><a href="http
 s://herculesdome.org/us-ice-core-open-science-meeting" target="_blank" rel=
 "noopener">https://herculesdome.org/us-ice-core-open-science-meeting</a><br
  /> <br /> Feel free to contact us directly at <span id="cloak178e0dcb33654
 5734d5d39d733d8f8b0">This email address is being protected from spambots. Y
 ou need JavaScript enabled to view it.</span><script type='text/javascript'
 >
				document.getElementById('cloak178e0dcb336545734d5d39d733d8f8b0').inne
 rHTML = '';
				var prefix = '&#109;a' + 'i&#108;' + '&#116;o';
				var pat
 h = 'hr' + 'ef' + '=';
				var addy178e0dcb336545734d5d39d733d8f8b0 = 'st&#
 101;&#105;g' + '&#64;';
				addy178e0dcb336545734d5d39d733d8f8b0 = addy178e
 0dcb336545734d5d39d733d8f8b0 + '&#117;w' + '&#46;' + '&#101;d&#117;';
				v
 ar addy_text178e0dcb336545734d5d39d733d8f8b0 = 'st&#101;&#105;g[&#97;t]&#11
 7;w.&#101;d&#117;';document.getElementById('cloak178e0dcb336545734d5d39d733
 d8f8b0').innerHTML += '<a ' + path + '\'' + prefix + ':' + addy178e0dcb3365
 45734d5d39d733d8f8b0 + '\'>'+addy_text178e0dcb336545734d5d39d733d8f8b0+'<\/
 a>';
		</script>&nbsp;if you have questions<br /> <br /> Your organizing co
 mmittee: Eric Steig, Sarah Aarons, Murat Aydin, Seth Campbell,&nbsp;TJ Fudg
 e, Heidi Roop</p>
DTSTAMP:20260420T213443Z
DTSTART;TZID=UTC;VALUE=DATE:20220524
DTEND;TZID=UTC;VALUE=DATE:20220527
SEQUENCE:0
TRANSP:OPAQUE
END:VEVENT
END:VCALENDAR