BEGIN:VCALENDAR
VERSION:2.0
PRODID:-//jEvents 2.0 for Joomla//EN
CALSCALE:GREGORIAN
METHOD:PUBLISH
BEGIN:VEVENT
UID:1992263086b98b8aaf6f65b07a3a843c
CATEGORIES:Polar Conferences, Meetings and Events
CREATED:20220211T133743
SUMMARY:The Cryosphere in a changing climate - A scientific symposium in the memory of Koni Steffen
LOCATION:Davos\, Switzerland
DESCRIPTION:<p style="text-align: justify;">Please join us in Davos, Switzerland, from 
 <strong>June 23-24. 2022</strong> for an exciting scientific symposium with
  high-level speakers, scientific poster sessions and ample networking time.
  <br /> <br />The symposium aims to build a bridge between generations of c
 ryosphere and climate scientists. Use this opportunity to present and discu
 ss your latest research in a stimulating environment.</p><p style="text-ali
 gn: justify;">We invite Early Career Scientists interested in participating
  to apply for a travel grant -- don't miss this opportunity! <br /><br />Fo
 r more information and registration, please visit: <a href="https://www.wsl
 .ch/symposium_KS" target="_blank" rel="noopener">https://www.wsl.ch/symposi
 um_KS</a></p>
DTSTAMP:20260420T181011Z
DTSTART;TZID=UTC;VALUE=DATE:20220623
DTEND;TZID=UTC;VALUE=DATE:20220625
SEQUENCE:0
TRANSP:OPAQUE
END:VEVENT
END:VCALENDAR