BEGIN:VCALENDAR
VERSION:2.0
PRODID:-//jEvents 2.0 for Joomla//EN
CALSCALE:GREGORIAN
METHOD:PUBLISH
BEGIN:VEVENT
UID:a4df01d59eba6b8255eeb19b749ed1cf
CATEGORIES:Polar Conferences, Meetings and Events
CREATED:20220210T083854
SUMMARY:28th International Polar Conference
LOCATION:Potsdam\, Germany
DESCRIPTION:28th International Polar Conference, Potsdam, 1 - 5 May 2022\n \n The Germa
 n Society of Polar Research (DGP) cordially invites you to attend the 28th 
 International Polar Conference to be held in Potsdam (Germany) from 1 to 5 
 May 2022. "Polar Regions, Climate Change and Society" will be the motto of 
 the conference. \n \n Please pay attention to the following important dates
 :\n4 March 2022 - Registration, abstract submission (https://polarforschung
 .de/events/28th-intl-polar-conference-potsdam-2022/?lang=en#reg)\n6 March 2
 022 - <a href="https://polarforschung.de/events/28th-intl-polar-conference-
 potsdam-2022/?lang=en#hotel" target="_blank" rel="noopener">Booking of acco
 modation (from contingent)</a>\n31 March 2022 - Submission of photographs f
 or photo contest (https://polarforschung.de/events/28th-intl-polar-conferen
 ce-potsdam-2022/?lang=en#foto)\n8 April 2022 - <a href="https://polarforsch
 ung.de/events/28th-intl-polar-conference-potsdam-2022/?lang=en#reg" target=
 "_blank" rel="noopener">Payment of registration fee - Early Bird</a>\n \nDe
 tailed information are given at the conference website: \n  (https://polarf
 orschung.de/events/28th-intl-polar-conference-potsdam-2022/?lang=en)<a href
 ="https://polarforschung.de/events/28th-intl-polar-conference-potsdam-2022/
 ?lang=en" target="_blank" rel="noopener">https://polarforschung.de/events/2
 8th-intl-polar-conference-potsdam-2022/?lang=en</a>\n \n We will be happy i
 f you consider to submit an abstract and come to Potsdam in May 2022.\n \n
X-ALT-DESC;FMTTYPE=text/html:<p style="text-align: justify;"><strong>28th International Polar Conference
 , Potsdam, 1 - 5 May 2022</strong><br /> <br /> The German Society of Polar
  Research (DGP) cordially invites you to attend the 28th International Pola
 r Conference to be held in Potsdam (Germany) from <strong>1 to 5 May 2022</
 strong>. "Polar Regions, Climate Change and Society" will be the motto of t
 he conference. <strong><br /> </strong><strong><br /> </strong>Please pay a
 ttention to the following important dates:</p><p style="text-align: justify
 ;"><strong>4 March 2022 - <a href="https://polarforschung.de/events/28th-in
 tl-polar-conference-potsdam-2022/?lang=en#reg" target="_blank" rel="noopene
 r">Registration, abstract submission</a></strong></p><p style="text-align: 
 justify;"><strong>6 March 2022 - <a href="https://polarforschung.de/events/
 28th-intl-polar-conference-potsdam-2022/?lang=en#hotel" target="_blank" rel
 ="noopener">Booking of accomodation (from contingent)</a></strong></p><p st
 yle="text-align: justify;"><strong>31 March 2022 - <a href="https://polarfo
 rschung.de/events/28th-intl-polar-conference-potsdam-2022/?lang=en#foto" ta
 rget="_blank" rel="noopener">Submission of photographs for photo contest</a
 ></strong></p><p style="text-align: justify;"><strong>8 April 2022 - <a hre
 f="https://polarforschung.de/events/28th-intl-polar-conference-potsdam-2022
 /?lang=en#reg" target="_blank" rel="noopener">Payment of registration fee -
  Early Bird</a></strong></p><p style="text-align: justify;">&nbsp;</p><p st
 yle="text-align: justify;">Detailed information are given at the conference
  website: <strong><br /> </strong><a href="https://polarforschung.de/events
 /28th-intl-polar-conference-potsdam-2022/?lang=en" target="_blank" rel="noo
 pener" data-saferedirecturl="https://www.google.com/url?q=https://polarfors
 chung.de/events/28th-intl-polar-conference-potsdam-2022/?lang%3Den&amp;sour
 ce=gmail&amp;ust=1644567907320000&amp;usg=AOvVaw31lUOocJ9Q9qDTEhrhWDjE"></a
 ><a href="https://polarforschung.de/events/28th-intl-polar-conference-potsd
 am-2022/?lang=en" target="_blank" rel="noopener">https://polarforschung.de/
 events/28th-intl-polar-conference-potsdam-2022/?lang=en</a><strong><br /> <
 br /> </strong>We will be happy if you consider to submit an abstract and c
 ome to Potsdam in May 2022.<strong><br /> </strong></p>
DTSTAMP:20260421T022232Z
DTSTART;TZID=UTC;VALUE=DATE:20220501
DTEND;TZID=UTC;VALUE=DATE:20220506
SEQUENCE:0
TRANSP:OPAQUE
END:VEVENT
END:VCALENDAR