BEGIN:VCALENDAR
VERSION:2.0
PRODID:-//jEvents 2.0 for Joomla//EN
CALSCALE:GREGORIAN
METHOD:PUBLISH
BEGIN:VEVENT
UID:74a0dc705ed200734b087c9c0d5cb2e7
CATEGORIES:Polar Conferences, Meetings and Events
CREATED:20220210T083023
SUMMARY:International Conference on Arctic Margins (ICAM9)
LOCATION:Ottawa\, Canada
DESCRIPTION:International Conference on Arctic Margins (ICAM9)\nConference: National Ga
 llery of Canada ,12-16 June 2022, Ottawa, Canada.\nWebsite: https://www.ica
 m9.org/\n
X-ALT-DESC;FMTTYPE=text/html:<p style="text-align: justify;">International Conference on Arctic Margins 
 (ICAM9)</p><p style="text-align: justify;">Conference: National Gallery of 
 Canada <strong>,12-16 June 2022</strong>, Ottawa, Canada.</p><p style="text
 -align: justify;">Website: <a href="https://www.icam9.org/" target="_blank"
  rel="noopener">https://www.icam9.org/</a></p>
DTSTAMP:20260419T150709Z
DTSTART;TZID=UTC;VALUE=DATE:20220612
DTEND;TZID=UTC;VALUE=DATE:20220617
SEQUENCE:0
TRANSP:OPAQUE
END:VEVENT
END:VCALENDAR