BEGIN:VCALENDAR
VERSION:2.0
PRODID:-//jEvents 2.0 for Joomla//EN
CALSCALE:GREGORIAN
METHOD:PUBLISH
BEGIN:VEVENT
UID:db1b490b54d7218a2341f60c861ec18f
CATEGORIES:Polar Online Events
CREATED:20220209T104333
SUMMARY:Afternoon with the editors
LOCATION:Online
DESCRIPTION:Opportunity to join an online event called "Ask the editors".\nFour journal
  editors from multiple different journals will join us to take questions on
  publication process, impact factor, scope, frustrations, how to improve su
 ccess rate of submission and any other question you may like to pose to a j
 ournal editor.\nThe event is on zoom, Thursday the 24th Feb at 1pm till 3pm
  CET time.\nPlease sign up to the event and you can write your questions he
 re also using this link (https://docs.google.com/forms/d/e/1FAIpQLSc7PBS1mM
 GU_MkByzlpAGlA2EqixD34aDSg2Yg0YUDLVLej3g/viewform) \nThe event will be reco
 rded so if you can't make it but would like to ask a question you can still
  register.\n
X-ALT-DESC;FMTTYPE=text/html:<p style="text-align: justify;"><strong>Opportunity to join an online event
  called <strong>"Ask the editors</strong>"</strong>.</p><p style="text-alig
 n: justify;">Four journal editors from multiple different journals will joi
 n us to take questions on publication process, impact factor, scope, frustr
 ations, how to improve success rate of submission and any other question yo
 u may like to pose to a journal editor.</p><p style="text-align: justify;">
 The event is on zoom, <strong>Thursday the 24th Feb at 1pm till 3pm CET tim
 e</strong>.<br /><strong><a href="https://docs.google.com/forms/d/e/1FAIpQL
 Sc7PBS1mMGU_MkByzlpAGlA2EqixD34aDSg2Yg0YUDLVLej3g/viewform" target="_blank"
  rel="noopener">Please sign up to the event and you can write your question
 s here also using this link</a> </strong></p><p style="text-align: justify;
 ">The event will be recorded so if you can't make it but would like to ask 
 a question you can still register.</p>
DTSTAMP:20260425T181635Z
DTSTART;TZID=UTC;VALUE=DATE:20220224
DTEND;TZID=UTC;VALUE=DATE:20220225
SEQUENCE:0
TRANSP:OPAQUE
END:VEVENT
END:VCALENDAR