BEGIN:VCALENDAR
VERSION:2.0
PRODID:-//jEvents 2.0 for Joomla//EN
CALSCALE:GREGORIAN
METHOD:PUBLISH
BEGIN:VEVENT
UID:ffbb72ce2fd1dfe890e73f024bf12436
CATEGORIES:Polar Conferences, Meetings and Events
CREATED:20220207T085255
SUMMARY:International Forum of Young Scientists 2022
LOCATION:Arkhangelsk\, Russia
DESCRIPTION:<p style="text-align: justify;"><strong>Russia in the Arctic Dialogue: Loca
 l and Global Context | Forum to be held in Arkhangelsk, 25-27 May 2022<em>.
 </em></strong></p><p style="text-align: justify;">The Northern Arctic Feder
 al University named after M.V. Lomonosov is pleased to announce the <strong
 >International Forum of Young Scientists 2022</strong>.<br /> <br /> This y
 ear the Forum welcomes PhD, Master and Bachelor students and is held under 
 the auspices of the Russia’s Chairmanship at the Arctic Council 2021-2023 a
 nd aligns with its priority areas: Arctic people, including indigenous peop
 les of the North; environmental protection and climate change issues; socio
 -economic development of the region and strengthening the Arctic Council.<b
 r /> <br /> The participants will have an opportunity to broaden their know
 ledge about the Arctic Region in various scientific fields, learn about the
  large-scale industrial and environmental Arctic projects, participate in d
 iscussions addressing the <strong>following topics</strong> related to the 
 key challenges of the Arctic Region development and exploration:</p><ul sty
 le="text-align: justify;"><li>Russian Arctic agenda 2035;</li><li>Logistics
  and transport systems in the Arctic;</li><li>Environmental challenges and 
 risk management in the Arctic;</li><li>Local communities in the changing re
 gion environment;</li><li>Geopolitics and international relations in the Ar
 ctic</li></ul><p style="text-align: justify;">The highlight of the Forum re
 mains <strong>NArFU annual International PhD School</strong> which serves a
  platform for young researchers to share their knowledge with the leading R
 ussian and foreign scientists, high-officials, project managers and practit
 ioners about the current global and local Arctic agenda. The PhD School wil
 l be held online (Zoom platform) and include lectures, discussion panels an
 d students’ presentation sessions. The working language is English.<br /> <
 br /> Master and Bachelor students are invited for an off-line session in A
 rkhangelsk. The working language is Russian.<br /> <br /> <strong>Applicati
 on for PhD School:</strong> PhD students and early-career researchers from 
 the HEIs of Arctic and non-Arctic countries are asked to<a href="https://na
 rfu.ru/en/studies/arcticschool/application.php" target="_blank" rel="noopen
 er" data-saferedirecturl="https://www.google.com/url?q=https://narfu.ru/en/
 studies/arcticschool/application.php&amp;source=gmail&amp;ust=1644310166238
 000&amp;usg=AOvVaw34dWpXxxPO5ozz7eIOIwup"> fill in the application form</a>
  indicating a topic of their research project and attaching its abstract to
  the form.<br /> <br /> <strong>Workload</strong>: 3 ECTS (certificate of p
 articipation; transcript of records upon request).<br /> <strong>The deadli
 ne</strong> for application is <strong>15<sup>th</sup> of&nbsp;March 2022</
 strong>.<br /> <strong>Financing</strong>: No participation fee.<br /> <str
 ong>Questions</strong> to: <span id="cloakeed7dae0b9c38b2578abc7b4d054b0af"
 >This email address is being protected from spambots. You need JavaScript e
 nabled to view it.</span><script type='text/javascript'>
				document.getEl
 ementById('cloakeed7dae0b9c38b2578abc7b4d054b0af').innerHTML = '';
				var 
 prefix = '&#109;a' + 'i&#108;' + '&#116;o';
				var path = 'hr' + 'ef' + '=
 ';
				var addyeed7dae0b9c38b2578abc7b4d054b0af = '&#97;rt&#105;csch&#111;&
 #111;l' + '&#64;';
				addyeed7dae0b9c38b2578abc7b4d054b0af = addyeed7dae0b
 9c38b2578abc7b4d054b0af + 'n&#97;rf&#117;' + '&#46;' + 'r&#117;';
				var a
 ddy_texteed7dae0b9c38b2578abc7b4d054b0af = '&#97;rt&#105;csch&#111;&#111;l[
 &#97;t]n&#97;rf&#117;.r&#117;';document.getElementById('cloakeed7dae0b9c38b
 2578abc7b4d054b0af').innerHTML += '<a ' + path + '\'' + prefix + ':' + addy
 eed7dae0b9c38b2578abc7b4d054b0af + '\'>'+addy_texteed7dae0b9c38b2578abc7b4d
 054b0af+'<\/a>';
		</script></p>
DTSTAMP:20260420T183107Z
DTSTART;TZID=UTC;VALUE=DATE:20220525
DTEND;TZID=UTC;VALUE=DATE:20220528
SEQUENCE:0
TRANSP:OPAQUE
END:VEVENT
END:VCALENDAR