BEGIN:VCALENDAR
VERSION:2.0
PRODID:-//jEvents 2.0 for Joomla//EN
CALSCALE:GREGORIAN
METHOD:PUBLISH
BEGIN:VEVENT
UID:5446549b677f10cb4fdd658154a3938a
CATEGORIES:Polar Conferences, Meetings and Events
CREATED:20220207T083121
SUMMARY:Western Snow Conference - Abstract Deadline 15 February
LOCATION:Salt Lake City\, USA
DESCRIPTION:Join us for the 89th Annual Western Snow Conference, April 18-21, 2022, at 
 the University of Utah in Salt Lake City. This year's theme is Drought, Fir
 e, and Precipitation Extremes: Operational Challenges for Snow Water Resour
 ces. (However, all snow-related research in the context of measurements, mo
 deling, and water supply are welcome.) Abstract deadline has been extended 
 to February 15th. \nThe short course on Monday (18th) is being planned by t
 he US National Weather Service, Colorado Basin River Forecast Center. Oral 
 and poster presentations will take place on Tuesday and Wednesday (19th-20t
 h). The technical tour on Thursday (21st) is being organized by the USDA Na
 tural Resources Conservation Service, Utah Snow Survey Program.For more inf
 ormation and the abstract submission link please see the meeting website (h
 ttps://westernsnowconference.org/meeting/2022).
X-ALT-DESC;FMTTYPE=text/html:<p style="text-align: justify;">Join us for the <strong>89th Annual Western
  Snow Conference, April 18-21, 2022</strong>, at the University of Utah in 
 Salt Lake City. This year's theme is <em>Drought, Fire, and Precipitation E
 xtremes: Operational Challenges for Snow Water Resources.</em>&nbsp;(Howeve
 r,&nbsp;all snow-related research in the context of measurements, modeling,
  and water supply are welcome.) <strong>Abstract deadline has been extended
  to February 15th.&nbsp;</strong></p><div style="text-align: justify;"><spa
 n style="font-family: arial, sans-serif;">The&nbsp;short course on Monday (
 18th) is being planned by the US National Weather Service, Colorado Basin R
 iver Forecast Center.&nbsp;</span>Oral and poster presentations will take p
 lace on Tuesday and Wednesday (19th-20th). The technical tour on Thursday (
 21st) is&nbsp;being&nbsp;organized by the USDA Natural Resources Conservati
 on Service, Utah Snow Survey Program.</div><div style="text-align: justify;
 "><span style="font-family: arial, sans-serif;"></span></div><div style="te
 xt-align: justify;"><span style="font-family: arial, sans-serif;">For more 
 information and the abstract submission link&nbsp;please see the <a href="h
 ttps://westernsnowconference.org/meeting/2022" target="_blank" rel="noopene
 r">meeting website</a>.</span></div>
DTSTAMP:20260422T172336Z
DTSTART;TZID=UTC;VALUE=DATE:20220418
DTEND;TZID=UTC;VALUE=DATE:20220422
SEQUENCE:0
TRANSP:OPAQUE
END:VEVENT
END:VCALENDAR