BEGIN:VCALENDAR
VERSION:2.0
PRODID:-//jEvents 2.0 for Joomla//EN
CALSCALE:GREGORIAN
METHOD:PUBLISH
BEGIN:VEVENT
UID:0e9cf422883a3d55bc76ce4c79d4dc18
CATEGORIES:Polar Conferences, Meetings and Events
CREATED:20220204T095010
SUMMARY:IGS International Symposium on Maritime Glaciers in Juneau
LOCATION:Juneau\, Alaska\, USA
DESCRIPTION:The meeting is held in Juneau, Alaska, USA, 19–24 June 2022.\nThe new deadl
 ine for submitting abstracts is 1 April and hence the ‘Notification of acce
 ptance’ will be pushed back until 8 April 2022. The early registration dead
 line has been extended until the 15 April.\nAs is usual for IGS symposia th
 ere will be an abundance of social activities such as an icebreaker, a banq
 uet and a mid-week excursion in and around Juneau.\nAnd we will provide you
  with morning and afternoon refreshments as well as lunches throughout the 
 symposium. All this is of course included in the registration. Online regis
 tration will open 25 March 2022.\nYou can register your interest (https://w
 ww.igsoc.org/symposia/2022/juneau2022/juneau2ndcirc_web.pdf) to attend the 
 symposium at the IGS website which will ensure you receive all relevant com
 munications relating to the symposium.\nJoin us for some exciting science, 
 fantastic nature and enjoyable face to face contact with your colleagues.\n
 The <a href="https://uas.alaska.edu/conferences/IGS2022/" target="_blank" r
 el="noopener" data-saferedirecturl="https://www.google.com/url?q=https://ua
 s.alaska.edu/conferences/IGS2022/&amp;source=gmail&amp;ust=1646475105379000
 &amp;usg=AOvVaw0MDt3YOGunQ94ApQxoSKIs">Juneau local website</a> has more in
 formation.\nThe circular is available at   (https://www.igsoc.org/symposia/
 2022/juneau2022/juneau2ndcirc_web.pdf)<a href="https://www.igsoc.org/sympos
 ia/2022/juneau2022/juneau2ndcirc_web.pdf" target="_blank" rel="noopener">ht
 tps://www.igsoc.org/symposia/2022/juneau2022/juneau2ndcirc_web.pdf</a>\nPle
 ase use #IGSJuneau2022 when tweeting about the symposium.\n
X-ALT-DESC;FMTTYPE=text/html:<p>The meeting is held in Juneau, Alaska, USA, 19–24 June 2022.</p><p>The n
 ew deadline for submitting abstracts is&nbsp;<strong>1 April</strong>&nbsp;
 and hence the ‘<strong>Notification of acceptance</strong>’ will be pushed 
 back&nbsp;<strong>until 8 April 2022.</strong>&nbsp;The&nbsp;<strong>early 
 registration deadline</strong>&nbsp;has been extended&nbsp;<strong>until th
 e 15 April</strong>.</p><p>As is usual for IGS symposia there will be an ab
 undance of social activities such as an icebreaker, a banquet and a mid-wee
 k excursion in and around Juneau.</p><p>And we will provide you with mornin
 g and afternoon refreshments as well as lunches throughout the symposium. A
 ll this is of course included in the registration. Online registration will
  open 25 March 2022.</p><p>You can <strong><a href="https://www.igsoc.org/s
 ymposia/2022/juneau2022/juneau2ndcirc_web.pdf" target="_blank" rel="noopene
 r" data-saferedirecturl="https://www.google.com/url?q=https://www.igsoc.org
 /symposia/2022/juneau2022/juneau2ndcirc_web.pdf&amp;source=gmail&amp;ust=16
 46475105379000&amp;usg=AOvVaw3img3NtKgtk4ojxUSZZwXn">register your interest
 </a></strong> to attend the symposium at the IGS website which will ensure 
 you receive all relevant communications relating to the symposium.</p><p>Jo
 in us for some exciting science, fantastic nature and enjoyable face to fac
 e contact with your colleagues.</p><p>The <strong><a href="https://uas.alas
 ka.edu/conferences/IGS2022/" target="_blank" rel="noopener" data-saferedire
 cturl="https://www.google.com/url?q=https://uas.alaska.edu/conferences/IGS2
 022/&amp;source=gmail&amp;ust=1646475105379000&amp;usg=AOvVaw0MDt3YOGunQ94A
 pQxoSKIs">Juneau local website</a></strong> has more information.</p><p>The
  circular is available at <a href="https://www.igsoc.org/symposia/2022/june
 au2022/juneau2ndcirc_web.pdf" data-saferedirecturl="https://www.google.com/
 url?q=https://www.igsoc.org/symposia/2022/juneau2022/juneau2ndcirc_web.pdf&
 amp;source=gmail&amp;ust=1646475105379000&amp;usg=AOvVaw3img3NtKgtk4ojxUSZZ
 wXn"> </a><a href="https://www.igsoc.org/symposia/2022/juneau2022/juneau2nd
 circ_web.pdf" target="_blank" rel="noopener">https://www.igsoc.org/symposia
 /2022/juneau2022/juneau2ndcirc_web.pdf</a></p><p>Please use #IGSJuneau2022 
 when tweeting about the symposium.</p>
DTSTAMP:20260420T180650Z
DTSTART;TZID=UTC;VALUE=DATE:20220619
DTEND;TZID=UTC;VALUE=DATE:20220625
SEQUENCE:0
TRANSP:OPAQUE
END:VEVENT
END:VCALENDAR