BEGIN:VCALENDAR
VERSION:2.0
PRODID:-//jEvents 2.0 for Joomla//EN
CALSCALE:GREGORIAN
METHOD:PUBLISH
BEGIN:VEVENT
UID:c716a3844936541daf0b8b125c8045bc
CATEGORIES:Polar Conferences, Meetings and Events
CREATED:20220204T092658
SUMMARY:III International research and practical conference of early career researchers
LOCATION:Arkhangelsk\, Russia and Online
DESCRIPTION:The III International research and practical conference of early career res
 earchers «Arctic research: from extensive exploitation to integrated develo
 pment» will take place from 26-28 April 2022 in Arkhangelsk, Russia and Onl
 ine.\n\nRegistration deadline is 27 February.\nFind more information here (
 http://fciarctic.ru/conf/en.pdf)\n
X-ALT-DESC;FMTTYPE=text/html:<p style="text-align: justify;"><span id="page3R_mcid2" class="markedConten
 t"><span dir="ltr" role="presentation">The <strong>III</strong></span><stro
 ng><span dir="ltr" role="presentation"> </span><span dir="ltr" role="presen
 tation">International research and practical </span><span dir="ltr" role="p
 resentation">conference of early career researchers </span></strong></span>
 <strong><span id="page3R_mcid3" class="markedContent"><span dir="ltr" role=
 "presentation">«</span><span dir="ltr" role="presentation">Arctic research<
 /span><span dir="ltr" role="presentation">: </span></span><span id="page3R_
 mcid4" class="markedContent"><span dir="ltr" role="presentation">from exten
 sive exploitation </span></span></strong><span id="page3R_mcid5" class="mar
 kedContent"><strong><span dir="ltr" role="presentation">to integrated devel
 opment</span></strong><span dir="ltr" role="presentation"><strong>»</strong
 > will take place from <strong><span id="page3R_mcid90" class="markedConten
 t"><span dir="ltr" role="presentation">26</span><span dir="ltr" role="prese
 ntation">-</span><span dir="ltr" role="presentation">28</span><span dir="lt
 r" role="presentation"> </span><span dir="ltr" role="presentation">April</s
 pan><span dir="ltr" role="presentation"> </span><span dir="ltr" role="prese
 ntation">2022</span></span></strong> in <span dir="ltr" role="presentation"
 ><span id="page3R_mcid89" class="markedContent"><span dir="ltr" role="prese
 ntation">Arkhangelsk</span></span>, Russia and Online.</span><br /></span><
 /span></p><p style="text-align: justify;">Registration deadline is 27 Febru
 ary.</p><p style="text-align: justify;">Find more information <a href="http
 ://fciarctic.ru/conf/en.pdf" target="_blank" rel="noopener">here</a></p>
DTSTAMP:20260420T093737Z
DTSTART;TZID=UTC;VALUE=DATE:20220426
DTEND;TZID=UTC;VALUE=DATE:20220429
SEQUENCE:0
TRANSP:OPAQUE
END:VEVENT
END:VCALENDAR