BEGIN:VCALENDAR
VERSION:2.0
PRODID:-//jEvents 2.0 for Joomla//EN
CALSCALE:GREGORIAN
METHOD:PUBLISH
BEGIN:VEVENT
UID:151caac5f1b386dc3099e8aa719dc6b6
CATEGORIES:Field and Summer Schools
CREATED:20220126T110627
SUMMARY:Student4Student Summerschool in Innsbruck - Abstract submission open
LOCATION:Obergurgl\, Austria
DESCRIPTION:We are happy to announce that the abstract submission for the Student4Stude
 nt Summerschool (https://www.imc2022.info/summerschool/), which takes place
  from 5 -9 of September 2022, is now open. This community might especially 
 be interested in the sessions of the <a href="https://www.imc2022.info/summ
 erschool/portfolio/focus-group-glacier-climate-hydro/" target="_blank" rel=
 "noopener">Glacier, Climate, Hydro focus group</a>.\nThe Summerschool aims 
 to bring together PhD students from different departments to get to know ea
 ch other and to build connections for future collaborations. Furthermore, t
 he Summerschool accompanies the International Mountain Conference in Innsbr
 uck from 11 - 15 September 2022 (https://www.imc2022.info/) and therefore i
 s an excellent opportunity for PhD students who are planning to attend this
  Conference to extend their stay in Innsbruck for one more week.\nWe are lo
 oking forward to your abstract submissions and to meeting you in the beauti
 ful village of Obergurgl in September 2022 ;-)\nPlease also spread this mes
 sage to other people who might be interested in this opportunity.\n
X-ALT-DESC;FMTTYPE=text/html:<p style="text-align: justify;">We are happy to announce that the abstract 
 submission for the <strong><a href="https://www.imc2022.info/summerschool/"
  target="_blank" rel="noopener">Student4Student Summerschool</a></strong>, 
 which takes place from <strong>5 -9 of September 2022</strong>, is now open
 . This community might especially be interested in the sessions of the <a h
 ref="https://www.imc2022.info/summerschool/portfolio/focus-group-glacier-cl
 imate-hydro/" target="_blank" rel="noopener">Glacier, Climate, Hydro focus 
 group</a>.</p><p style="text-align: justify;">The Summerschool aims to brin
 g together PhD students from different departments to get to know each othe
 r and to build connections for future collaborations. Furthermore, the Summ
 erschool accompanies the <a href="https://www.imc2022.info/" target="_blank
 " rel="noopener">International Mountain Conference in Innsbruck from 11 - 1
 5 September 2022</a>&nbsp;and therefore is an excellent opportunity for PhD
  students who are planning to attend this Conference to extend their stay i
 n Innsbruck for one more week.</p><p style="text-align: justify;">We are lo
 oking forward to your abstract submissions and to meeting you in the beauti
 ful village of Obergurgl in September 2022 ;-)</p><p style="text-align: jus
 tify;">Please also spread this message to other people who might be interes
 ted in this opportunity.</p>
DTSTAMP:20260419T190609Z
DTSTART;TZID=UTC;VALUE=DATE:20220905
DTEND;TZID=UTC;VALUE=DATE:20220910
SEQUENCE:0
TRANSP:OPAQUE
END:VEVENT
END:VCALENDAR