BEGIN:VCALENDAR
VERSION:2.0
PRODID:-//jEvents 2.0 for Joomla//EN
CALSCALE:GREGORIAN
METHOD:PUBLISH
BEGIN:VEVENT
UID:aed9f18cd3ab5890aa9c966c3a3dd63c
CATEGORIES:Field and Summer Schools
CREATED:20220126T094725
SUMMARY:School of Ice -- Dartmouth College, Hanover, NH - Application deadline 11 March
LOCATION:Hanover\, NH
DESCRIPTION:<p style="text-align: justify;">The <em>School of Ice</em> is an NSF-funded
  professional development program for faculty at <strong>Minority Serving I
 nstitutions</strong>. This program will train participants to understand pa
 leoclimate evidence derived from ice cores and acquire the skills necessary
  to bring this exciting inquiry into new and existing Earth and environment
 al science classes on their campuses. The experiential nature of this works
 hop will build background knowledge of cutting-edge research and empower pa
 rticipants to communicate authentic paleoclimate research practices, ice co
 re data, and results to their students.</p><p style="text-align: justify;">
 There will be&nbsp;<strong>two opportunities to attend the <em>School of Ic
 e</em> this summer</strong>.</p><p style="text-align: justify;">Besides thi
 nking about the dates, please help us reduce our carbon footprint by consid
 ering the one closer to you geographically. In both, you will interact with
  experts currently working in climate and ice science research, take intere
 sting field trips, and engage in hands-on learning experiences you can use 
 with your students. Learn more at&nbsp;<a href="https://icedrill-education.
 org/school-of-ice/" target="_blank" rel="noopener"></a><a href="https://ice
 drill-education.org/school-of-ice/">https://icedrill-education.org/school-o
 f-ice/</a>. Travel expenses are paid, and all resources are provided freely
  to workshop participants.</p><p style="text-align: justify;"><strong>Regis
 tration is open now.</strong> Priority consideration will be given to appli
 cations received by the due date but accepted on a rolling basis until the 
 workshop is filled. Note: there is usually a waiting list to attend, so app
 ly early!</p><p style="text-align: justify;"><strong>School of Ice -- Dartm
 outh College, Hanover, NH</strong></p><p style="text-align: justify;">Date:
  June 26-30, 2022<br />Applications Due: March 11, 2022<br /><a href="https
 ://docs.google.com/forms/d/e/1FAIpQLSfRbPCNsBKU_wAXQO5ae-VyXACsNEwFaxM31xC8
 0VBs2q3iHA/viewform" target="_blank" rel="noopener">To Apply Visit</a></p><
 p style="text-align: justify;"><strong>School of Ice -- COLDEX-Oregon State
  University, OR</strong></p><p style="text-align: justify;">Date: August 6-
 12, 2022<br />Applications Due: April 14, 2022<br /><a href="https://docs.g
 oogle.com/forms/d/e/1FAIpQLScuKTo3Qyk0JTbXhIUzXCH11tys1CuHZmvwFkqm0f_WKhPwY
 Q/viewform" target="_blank" rel="noopener">To Apply Visit</a></p><p style="
 text-align: justify;"><strong>QUESTIONS?</strong>&nbsp;Contact Louise Huffm
 an&nbsp;<span id="cloak4d73917db146118e1df33acea636771e"><span id="cloakf8f
 6514040761d0386a81faad1f52dd0">This email address is being protected from s
 pambots. You need JavaScript enabled to view it.</span><script type='text/j
 avascript'>
				document.getElementById('cloakf8f6514040761d0386a81faad1f52
 dd0').innerHTML = '';
				var prefix = '&#109;a' + 'i&#108;' + '&#116;o';
	
 			var path = 'hr' + 'ef' + '=';
				var addyf8f6514040761d0386a81faad1f52d
 d0 = 'l&#111;&#117;&#105;s&#101;.t.h&#117;ffm&#97;n' + '&#64;';
				addyf8f
 6514040761d0386a81faad1f52dd0 = addyf8f6514040761d0386a81faad1f52dd0 + 'd&#
 97;rtm&#111;&#117;th' + '&#46;' + '&#101;d&#117;';
				var addy_textf8f6514
 040761d0386a81faad1f52dd0 = 'l&#111;&#117;&#105;s&#101;.t.h&#117;ffm&#97;n[
 &#97;t]d&#97;rtm&#111;&#117;th.&#101;d&#117;';document.getElementById('cloa
 kf8f6514040761d0386a81faad1f52dd0').innerHTML += '<a ' + path + '\'' + pref
 ix + ':' + addyf8f6514040761d0386a81faad1f52dd0 + '\'>'+addy_textf8f6514040
 761d0386a81faad1f52dd0+'<\/a>';
		</script></span></p>
DTSTAMP:20260420T201329Z
DTSTART;TZID=UTC;VALUE=DATE:20220626
DTEND;TZID=UTC;VALUE=DATE:20220701
SEQUENCE:0
TRANSP:OPAQUE
END:VEVENT
END:VCALENDAR