BEGIN:VCALENDAR
VERSION:2.0
PRODID:-//jEvents 2.0 for Joomla//EN
CALSCALE:GREGORIAN
METHOD:PUBLISH
BEGIN:VEVENT
UID:4c3946ad0e0ebdae44e0d4a2669e767b
CATEGORIES:Field and Summer Schools
CREATED:20220124T151947
SUMMARY:Innsbruck Summer School of Close Range Sensing Techniques in Alpine Terrain - Application deadline 31 January  
LOCATION:Obergurgl\, Austria
DESCRIPTION:Consider participating in the Innsbruck Summer School of Close Range Sensin
 g Techniques in Alpine Terrain Where? Obergurgl (Austria)When? 18.9. - 24.9
 .2022 Application deadline: January 31, 2022 All information:  (https://www
 .uibk.ac.at/geographie/summerschool/2022/)<a href="https://www.uibk.ac.at/g
 eographie/summerschool/2022/" target="_blank" rel="noopener">https://www.ui
 bk.ac.at/geographie/summerschool/2022/</a>
X-ALT-DESC;FMTTYPE=text/html:<div style="text-align: justify;">Consider participating in the <strong>Inn
 sbruck Summer School of Close Range Sensing Techniques in Alpine Terrain</s
 trong></div><div style="text-align: justify;">&nbsp;</div><div style="text-
 align: justify;"><strong>Where?</strong> Obergurgl (Austria)</div><div styl
 e="text-align: justify;"><strong>When?</strong> 18.9. - 24.9.2022</div><div
  style="text-align: justify;">&nbsp;</div><div style="text-align: justify;"
 >Application deadline: January 31, 2022</div><div style="text-align: justif
 y;">&nbsp;</div><div style="text-align: justify;">All information: <a href=
 "https://www.uibk.ac.at/geographie/summerschool/2022/" target="_blank" rel=
 "noopener"></a><a href="https://www.uibk.ac.at/geographie/summerschool/2022
 /" target="_blank" rel="noopener">https://www.uibk.ac.at/geographie/summers
 chool/2022/</a></div>
DTSTAMP:20260421T201501Z
DTSTART;TZID=UTC;VALUE=DATE:20220918
DTEND;TZID=UTC;VALUE=DATE:20220925
SEQUENCE:0
TRANSP:OPAQUE
END:VEVENT
END:VCALENDAR