BEGIN:VCALENDAR
VERSION:2.0
PRODID:-//jEvents 2.0 for Joomla//EN
CALSCALE:GREGORIAN
METHOD:PUBLISH
BEGIN:VEVENT
UID:bd630f9e0b7da7b3d00aaef99608e1ba
CATEGORIES:Polar Online Events
CREATED:20220121T082022
SUMMARY:ALLEA Event | Climate Sustainability in the Academic System
LOCATION:Online
DESCRIPTION:Please find below the warm invitation to ALLEA’s upcoming virtual panel dis
 cussion “Climate Sustainability in the Academic System – the Why and the Ho
 w” (https://allea.org/climate-sustainability-in-the-academic-system-the-why
 -and-the-how/?cn-reloaded=1) on  1 February 2022, 15-17h (CET) via Zoom.\nF
 ollowed by a panel discussion the ALLEA working group Climate Sustainabilit
 y in the Academic System will present a preview of the report which will be
  released this year.\nOur Speaker, Professor Astrid Eichhorn (University of
  Southern Denmark), who is also Chair of the ALLEA working group hosting th
 e event, will be joined on the panel by\n\n - Dr Nina Marsh (Head of the st
 aff unit Internal Audit &amp; Sustainability Management at the Alexander vo
 n Humboldt-Foundation),\n - Professor Carly McLachlan (Director of Tyndall 
 Manchester, University of Manchester and Associate Director of the ESRC Cen
 tre for Climate Change and Social Transformation)\n - Henriette Stoeber (Po
 licy Analyst at the European University Association)Participants will also 
 have the opportunity to exchange ideas and best-practice examples during th
 ree break-out sessions on the topics of "Universities &amp; University Netw
 orks," "Students &amp; Individual Researchers," and "Funding Organizations.
 "\nPlease <a href="https://us06web.zoom.us/meeting/register/tZckdeusrDsjGNF
 kvn5KNn7MQQSkNPX9lHyk" target="_blank" rel="noopener" data-saferedirecturl=
 "https://www.google.com/url?q=https://us06web.zoom.us/meeting/register/tZck
 deusrDsjGNFkvn5KNn7MQQSkNPX9lHyk&amp;source=gmail&amp;ust=1642839303207000&
 amp;usg=AOvVaw1X7c3dQ8hqi9xvm0wyIJVM">register here</a> to participate.\n
X-ALT-DESC;FMTTYPE=text/html:<p style="text-align: justify;">Please find below the warm invitation to AL
 LEA’s upcoming virtual panel discussion <a href="https://allea.org/climate-
 sustainability-in-the-academic-system-the-why-and-the-how/?cn-reloaded=1" t
 arget="_blank" rel="noopener" data-saferedirecturl="https://www.google.com/
 url?q=https://allea.org/climate-sustainability-in-the-academic-system-the-w
 hy-and-the-how/?cn-reloaded%3D1&amp;source=gmail&amp;ust=1642839303207000&a
 mp;usg=AOvVaw3aQa9qa47VJdQuoydA8i--">“Climate Sustainability in the Academi
 c System – the Why and the How”</a> on <strong> 1 February 2022, 15-17h (CE
 T)</strong> via Zoom.</p><p style="text-align: justify;">Followed by a pane
 l discussion the ALLEA working group Climate Sustainability in the Academic
  System will present a preview of the report which will be released this ye
 ar.</p><p style="text-align: justify;">Our Speaker, Professor Astrid Eichho
 rn (University of Southern Denmark), who is also Chair of the ALLEA working
  group hosting the event, will be joined on the panel by</p><ul style="text
 -align: justify;"><li>Dr Nina Marsh (Head of the staff unit Internal Audit 
 &amp; Sustainability Management at the Alexander von Humboldt-Foundation),<
 /li><li>Professor Carly McLachlan (Director of Tyndall Manchester, Universi
 ty of Manchester and Associate Director of the ESRC Centre for Climate Chan
 ge and Social Transformation)</li><li>Henriette Stoeber (Policy Analyst at 
 the European University Association)</li></ul><p style="text-align: justify
 ;">Participants will also have the opportunity to exchange ideas and best-p
 ractice examples during three break-out sessions on the topics of "Universi
 ties &amp; University Networks," "Students &amp; Individual Researchers," a
 nd "Funding Organizations."</p><p style="text-align: justify;">Please <a hr
 ef="https://us06web.zoom.us/meeting/register/tZckdeusrDsjGNFkvn5KNn7MQQSkNP
 X9lHyk" target="_blank" rel="noopener" data-saferedirecturl="https://www.go
 ogle.com/url?q=https://us06web.zoom.us/meeting/register/tZckdeusrDsjGNFkvn5
 KNn7MQQSkNPX9lHyk&amp;source=gmail&amp;ust=1642839303207000&amp;usg=AOvVaw1
 X7c3dQ8hqi9xvm0wyIJVM">register here</a> to participate.</p>
DTSTAMP:20260421T000543Z
DTSTART;TZID=UTC;VALUE=DATE:20220201
DTEND;TZID=UTC;VALUE=DATE:20220202
SEQUENCE:0
TRANSP:OPAQUE
END:VEVENT
END:VCALENDAR