BEGIN:VCALENDAR
VERSION:2.0
PRODID:-//jEvents 2.0 for Joomla//EN
CALSCALE:GREGORIAN
METHOD:PUBLISH
BEGIN:VEVENT
UID:4a3cbf1227b37165cd34ddd6a6fe6ccf
CATEGORIES:Polar Online Events
CREATED:20220114T085650
SUMMARY:OCEANS: Tipping Elements, Irreversibility, and Abrupt Change
LOCATION:Online
DESCRIPTION:<p style="text-align: justify;">Join AIMES, Earth Commission and WCRP for t
 he fifth&nbsp;webinar in a <a href="https://tippingpointsseries.confetti.ev
 ents/">series </a>that&nbsp;aims to advance the knowledge about tipping ele
 ments, irreversibility, and abrupt changes in the Earth system. This novel&
 nbsp;event will include presentations&nbsp;on ocean tipping points from wor
 ld leading researchers. <a href="https://tipping-series-ocean.confetti.even
 ts/" target="_blank" rel="noopener">Register to be kept up to date</a>.</p>
 <div class="header-info" style="text-align: justify;"><div class="header-lo
 go"><p class="header-details"><strong>OCEANS: Tipping Elements, Irreversibi
 lity, and Abrupt Change - Join the discussion on ocean tipping points with 
 world leading researchers.<br /><span class="header-date" itemprop="startDa
 te">11 February 13:30 - 15:00</span></strong></p></div></div><p style="text
 -align: justify;">Helene Hewitt and Didier Swingedouw will moderate the eve
 nt.</p><ul style="text-align: justify;"><li dir="ltr"><strong>Ocean tipping
  points - an overview</strong>&nbsp;– Christoph Heinze</li><li dir="ltr"><s
 trong>Recent insights on AMOC&nbsp;</strong>– Stefan Rahmstorf</li><li dir=
 "ltr"><strong>Q&amp;A/ Discussion</strong></li></ul><p style="text-align: j
 ustify;">The talks will be followed by 20 minutes of formal discussions and
 , for those who wish to stay on, a further 25 minutes of informal discussio
 ns on the topic.</p><p style="text-align: justify;"><a href="https://tippin
 gpointsseries.confetti.events/">Overview of the full series.</a></p>
DTSTAMP:20260420T230724Z
DTSTART;TZID=UTC;VALUE=DATE:20220211
DTEND;TZID=UTC;VALUE=DATE:20220212
SEQUENCE:0
TRANSP:OPAQUE
END:VEVENT
END:VCALENDAR