BEGIN:VCALENDAR
VERSION:2.0
PRODID:-//jEvents 2.0 for Joomla//EN
CALSCALE:GREGORIAN
METHOD:PUBLISH
BEGIN:VEVENT
UID:0f8a64668105885d8ba1657288aadabe
CATEGORIES:Polar Online Events
CREATED:20220114T085302
SUMMARY:Tipping Elements Discussion Series - Ice Sheets
LOCATION:Online
DESCRIPTION:Date and time: Tue, January 25, 2022 - 4:00 PM – 5:30 PM CET\nThis discussi
 on series aims to advance the knowledge about tipping elements, irreversibi
 lity, and abrupt changes in the Earth system. It supports efforts to increa
 se consistency in treatment of tipping elements in the scientific community
 , develop a research agenda, and design joint experiments and ideas for a T
 ipping Element Model Intercomparison Project (TipMip).\nThis discussion ser
 ies is a joint activity of the Analysis, Integration, and Modeling of the E
 arth System (AIMES) (https://aimesproject.org/) global research project of 
 Future Earth, the <a href="https://earthcommission.org/" target="_blank" re
 l="nofollow noopener noreferrer">Earth Commission</a> Working Group 1 Earth
  and Human Systems Intercomparison Modelling Project (EHSMIP) under the Glo
 bal Commons Alliance and the Safe Landing Climates Light House Activity of 
 World Climate Research Program (WCRP). (https://www.wcrp-climate.org/safe-l
 anding-climates)\nThis event will focus on the ice sheets:\n\n - Introducti
 on and moderation – Heiko Goelzer and Hannah Liddy (10min)\n - Projections 
 from the Greenland and Antarctic ice sheets: insights from IPCC AR6 – Sophi
 e Nowicki (20min)\n - Beyond gradual change: Tipping points in Greenland an
 d Antarctica – Ricarda Winkelmann (20min)\n - Questions and discussion (20m
 in)The final 20min has been reserved for informal discussions on the resear
 ch agenda and the development of a <a href="https://forms.office.com/r/rV6h
 WH1anE" target="_blank" rel="nofollow noopener noreferrer">Tipping Element 
 Model Intercomparison Project (TipMip)</a>.\nThe event will be recorded.\nR
 egistration and more information (https://www.eventbrite.co.uk/e/tipping-el
 ements-discussion-series-ice-sheets-tickets-195061884347)\n(Note that this 
 event was originally scheuled for November. If you signed up in November, t
 here is no need to do so again.)\n
X-ALT-DESC;FMTTYPE=text/html:<p class="js-date-time-second-line" style="text-align: justify;"><strong>Da
 te and time: Tue, January 25, 2022 - 4:00 PM – 5:30 PM CET</strong></p><div
  class="structured-content-rich-text structured-content__module l-align-lef
 t l-mar-vert-6 l-sm-mar-vert-4 text-body-medium"><p style="text-align: just
 ify;">This discussion series aims to advance the knowledge about tipping el
 ements, irreversibility, and abrupt changes in the Earth system. It support
 s efforts to increase consistency in treatment of tipping elements in the s
 cientific community, develop a research agenda, and design joint experiment
 s and ideas for a Tipping Element Model Intercomparison Project (TipMip).</
 p><p style="text-align: justify;">This discussion series is a joint activit
 y of the <a href="https://aimesproject.org/" target="_blank" rel="nofollow 
 noopener noreferrer">Analysis, Integration, and Modeling of the Earth Syste
 m (AIMES)</a> global research project of Future Earth, the <a href="https:/
 /earthcommission.org/" target="_blank" rel="nofollow noopener noreferrer">E
 arth Commission</a> Working Group 1 Earth and Human Systems Intercomparison
  Modelling Project (EHSMIP) under the Global Commons Alliance and the <a hr
 ef="https://www.wcrp-climate.org/safe-landing-climates" target="_blank" rel
 ="nofollow noopener noreferrer">Safe Landing Climates Light House Activity 
 of World Climate Research Program (WCRP).</a></p><p style="text-align: just
 ify;">This event will focus on the ice sheets:</p><ul style="text-align: ju
 stify;"><li><strong>Introduction and moderation</strong> – Heiko Goelzer an
 d Hannah Liddy (10min)</li><li><strong>Projections from the Greenland and A
 ntarctic ice sheets: insights from IPCC AR6</strong> – Sophie Nowicki (20mi
 n)</li><li><strong>Beyond gradual change: Tipping points in Greenland and A
 ntarctica</strong> – Ricarda Winkelmann (20min)</li><li>Questions and discu
 ssion (20min)</li></ul><p style="text-align: justify;">The final 20min has 
 been reserved for informal discussions on the research agenda and the devel
 opment of a <a href="https://forms.office.com/r/rV6hWH1anE" target="_blank"
  rel="nofollow noopener noreferrer">Tipping Element Model Intercomparison P
 roject (TipMip)</a>.</p><p style="text-align: justify;">The event will be r
 ecorded.</p><p style="text-align: justify;"><strong><a href="https://www.ev
 entbrite.co.uk/e/tipping-elements-discussion-series-ice-sheets-tickets-1950
 61884347" target="_blank" rel="noopener">Registration and more information<
 /a></strong></p><p>(Note that this event was originally scheuled for Novemb
 er. If you signed up in November, there is no need to do so again.)</p></di
 v>
DTSTAMP:20260421T035302Z
DTSTART;TZID=UTC;VALUE=DATE:20220125
DTEND;TZID=UTC;VALUE=DATE:20220126
SEQUENCE:0
TRANSP:OPAQUE
END:VEVENT
END:VCALENDAR