BEGIN:VCALENDAR
VERSION:2.0
PRODID:-//jEvents 2.0 for Joomla//EN
CALSCALE:GREGORIAN
METHOD:PUBLISH
BEGIN:VEVENT
UID:e53b358432c7e6d27069d9f3d34575bf
CATEGORIES:Polar Online Events
CREATED:20220114T084704
SUMMARY:Tipping Elements, Irreversibility and Abrupt Change - Permafrost
LOCATION:Online
DESCRIPTION:Discussion series of discussions on tipping elements, irreversibility, and 
 abrupt change in the Earth system, focus on permafrost.Mon, January 17, 202
 2 - 4:00 PM – 5:30 PM CET\nThis discussion series aims to advance the knowl
 edge about tipping elements, irreversibility, and abrupt changes in the Ear
 th system. It supports efforts to increase consistency in treatment of tipp
 ing elements in the scientific community, develop a research agenda, and de
 sign joint experiments and ideas for a Tipping Element Model Intercompariso
 n Project (TipMip).\nThis discussion series is a joint activity of the Anal
 ysis, Integration, and Modeling of the Earth System (AIMES) (https://aimesp
 roject.org/) global research project of Future Earth, the <a href="https://
 earthcommission.org/" target="_blank" rel="nofollow noopener noreferrer">Ea
 rth Commission</a> Working Group 1 Earth and Human Systems Intercomparison 
 Modelling Project (EHSMIP) under the Global Commons Alliance and the Safe L
 anding Climates Light House Activity of World Climate Research Program (WCR
 P). (https://www.wcrp-climate.org/safe-landing-climates)\nThe events (60-90
 min each) will be held monthly and are open to the public.\nThis event in t
 he series focuses on permafrost.\n\n - Introduction and objectives of the w
 ebinar – Victor Brovkin and Claire Treat (5min)\n - Permafrost and climate 
 change – what are we observing ? – Hanne Hvidtfeld Christiansen (20min)\n -
  The Permafrost Carbon Feedback and potential tipping points - Gustaf Hugel
 ius (20min)\n - Questions and moderated discussion (20min)The final 25min h
 ave been reserved for informal discussions on the research agenda and the d
 evelopment of a Tipping Element Model Intercomparison Project (TipMip).\n<a
  href="https://www.eventbrite.co.uk/e/tipping-elements-irreversibility-and-
 abrupt-change-permafrost-tickets-218016702827?aff=erelpanelorg" target="_bl
 ank" rel="noopener">Registration and more information</a>\n
X-ALT-DESC;FMTTYPE=text/html:<div class="g-cell g-cell-10-12 g-cell-md-1-1"><div class="has-user-generat
 ed-content"><div class="text-body-medium" data-automation="listing-event-de
 scription"><strong>Discussion series of discussions on tipping elements, ir
 reversibility, and abrupt change in the Earth system, focus on permafrost.<
 /strong></div><div><p class="js-date-time-second-line"><strong>Mon, January
  17, 2022 - 4:00 PM – 5:30 PM CET</strong></p></div></div></div><div class=
 "structured-content-rich-text structured-content__module l-align-left l-mar
 -vert-6 l-sm-mar-vert-4 text-body-medium"><p>This discussion series aims to
  advance the knowledge about tipping elements, irreversibility, and abrupt 
 changes in the Earth system. It supports efforts to increase consistency in
  treatment of tipping elements in the scientific community, develop a resea
 rch agenda, and design joint experiments and ideas for a Tipping Element Mo
 del Intercomparison Project (TipMip).</p><p>This discussion series is a joi
 nt activity of the <a href="https://aimesproject.org/" target="_blank" rel=
 "nofollow noopener noreferrer">Analysis, Integration, and Modeling of the E
 arth System (AIMES)</a> global research project of Future Earth, the <a hre
 f="https://earthcommission.org/" target="_blank" rel="nofollow noopener nor
 eferrer">Earth Commission</a> Working Group 1 Earth and Human Systems Inter
 comparison Modelling Project (EHSMIP) under the Global Commons Alliance and
  the <a href="https://www.wcrp-climate.org/safe-landing-climates" target="_
 blank" rel="nofollow noopener noreferrer">Safe Landing Climates Light House
  Activity of World Climate Research Program (WCRP).</a></p><p>The events (6
 0-90min each) will be held monthly and are open to the public.</p><p>This e
 vent in the series focuses on permafrost.</p><ul><li><strong>Introduction a
 nd objectives of the webinar</strong> – Victor Brovkin and Claire Treat (5m
 in)</li><li><strong>Permafrost and climate change – what are we observing ?
  </strong>– Hanne Hvidtfeld Christiansen (20min)</li><li><strong>The Permaf
 rost Carbon Feedback and potential tipping points</strong> - Gustaf Hugeliu
 s (20min)</li><li>Questions and moderated discussion (20min)</li></ul><p>Th
 e final 25min have been reserved for informal discussions on the research a
 genda and the development of a Tipping Element Model Intercomparison Projec
 t (TipMip).</p><p><a href="https://www.eventbrite.co.uk/e/tipping-elements-
 irreversibility-and-abrupt-change-permafrost-tickets-218016702827?aff=erelp
 anelorg" target="_blank" rel="noopener">Registration and more information</
 a></p></div>
DTSTAMP:20260421T022533Z
DTSTART;TZID=UTC;VALUE=DATE:20220117
DTEND;TZID=UTC;VALUE=DATE:20220118
SEQUENCE:0
TRANSP:OPAQUE
END:VEVENT
END:VCALENDAR