BEGIN:VCALENDAR
VERSION:2.0
PRODID:-//jEvents 2.0 for Joomla//EN
CALSCALE:GREGORIAN
METHOD:PUBLISH
BEGIN:VEVENT
UID:a7335704a49cbb1ffe08287ac48fe28b
CATEGORIES:Polar Conferences, Meetings and Events
CREATED:20220110T091114
SUMMARY:Antarctic RINGS international workshop
LOCATION:Tromsø\, Norway
DESCRIPTION:SCAR Action Group RINGS ( (https://www.scar.org/science/rings/about/)<a hre
 f="https://www.scar.org/science/rings/about/">https://www.scar.org/science/
 rings/about/</a>) will organize a 4-day workshop from 27-30 June 2022 in Tr
 omsø, Norway. The primary goal of this workshop is to generate synergies an
 d international cooperation to develop more accurate and complete reference
  bed topography data for robust assessments of ice discharge from all aroun
 d Antarctica. The secondary goal is to discuss relevant science plans for t
 he ice sheet’s marginal zone.\nWe welcome both Action Group members and non
 -members from multiple disciplines related to RINGS. We uphold SCAR’s value
 s of diversity and inclusion and strongly encourage Early Career Researcher
 s to attend the workshop. Full information about this workshop is available
  at:\n (https://www.scar.org/scar-news/rings-news/rings-workshop-june2022/)
 <a href="https://www.scar.org/scar-news/rings-news/rings-workshop-june2022/
 ">https://www.scar.org/scar-news/rings-news/rings-workshop-june2022/</a>\nT
 he workshop was originally planned in March but postponed due to pandemic. 
 We hope recently improving pandemic situations will allow all interested tr
 avel to Norway in June. New registration is required even if you registered
  for the planned March workshop. To broaden the community, we offer online 
 participation to talk and poster sessions this time. However, discussion se
 ssions are for onsite participants only.\nRegistration deadline for onsite 
 participation: 10 April (your early registration helps us greatly and secur
 es your spot!)\nRegistration deadline for online participation: 25 June (if
  you present poster, please register by 1 June)\n
X-ALT-DESC;FMTTYPE=text/html:<p>SCAR Action Group RINGS (<a href="https://www.scar.org/science/rings/abo
 ut/" data-saferedirecturl="https://www.google.com/url?q=https://www.scar.or
 g/science/rings/about/&amp;source=gmail&amp;ust=1646229976438000&amp;usg=AO
 vVaw3Q8iEmwxNbnKHum6YfDX03"></a><a href="https://www.scar.org/science/rings
 /about/">https://www.scar.org/science/rings/about/</a>) will organize a 4-d
 ay workshop from <strong>27-30 June 2022 </strong>in Tromsø, Norway. The pr
 imary goal of this workshop is to generate synergies and international coop
 eration to develop more accurate and complete reference bed topography data
  for robust assessments of ice discharge from all around Antarctica. The se
 condary goal is to discuss relevant science plans for the ice sheet’s margi
 nal zone.</p><p>We welcome both Action Group members and non-members from m
 ultiple disciplines related to RINGS. We uphold SCAR’s values of diversity 
 and inclusion and strongly encourage Early Career Researchers to attend the
  workshop. Full information about this workshop is available at:</p><p><a h
 ref="https://www.scar.org/scar-news/rings-news/rings-workshop-june2022/" da
 ta-saferedirecturl="https://www.google.com/url?q=https://www.scar.org/scar-
 news/rings-news/rings-workshop-june2022/&amp;source=gmail&amp;ust=164622997
 6438000&amp;usg=AOvVaw2-Lng-CbaxBDCqmRFivrEv"></a><a href="https://www.scar
 .org/scar-news/rings-news/rings-workshop-june2022/">https://www.scar.org/sc
 ar-news/rings-news/rings-workshop-june2022/</a></p><p>The workshop was orig
 inally planned in March but postponed due to pandemic. We hope recently imp
 roving pandemic situations will allow all interested travel to Norway in Ju
 ne. New registration is required even if you registered for the planned Mar
 ch workshop. To broaden the community, we offer online participation to tal
 k and poster sessions this time. However, discussion sessions are for onsit
 e participants only.</p><p><strong>Registration deadline for onsite partici
 pation: 10 April</strong> (your early registration helps us greatly and sec
 ures your spot!)</p><p><strong>Registration deadline for online participati
 on: 25 June</strong> (if you present poster, please register by 1 June)</p>
DTSTAMP:20260420T200741Z
DTSTART;TZID=UTC;VALUE=DATE:20220627
DTEND;TZID=UTC;VALUE=DATE:20220701
SEQUENCE:0
TRANSP:OPAQUE
END:VEVENT
END:VCALENDAR