BEGIN:VCALENDAR
VERSION:2.0
PRODID:-//jEvents 2.0 for Joomla//EN
CALSCALE:GREGORIAN
METHOD:PUBLISH
BEGIN:VEVENT
UID:2cc03d91d1991bf45c28c3b9cc4086b7
CATEGORIES:Field and Summer Schools
CREATED:20170115T170506
SUMMARY:2017 Glacial Seismology Training School
LOCATION:Fort Collins\, Colorado\, USA
DESCRIPTION:A training school focused on exploring glacial seismology will be held from
  11-17 June 2017 on the campus of Colorado State University, Fort Collins, 
 Colorado, USA. The program will include lectures and practical exercises ai
 med at current and emergent seismological studies of glacial dynamics, stru
 cture, seismogenic processes, and seismic observables. While primarily aime
 d at graduate students and early career scientists, all interested parties 
 are encouraged to apply regardless of career or experience level. There is 
 no registration fee, and participants will be provided with food and lodgin
 g for the duration of the training school. Funding for additional travel ex
 penses, including airfare, may also be available for both US and non-US par
 ticipants.\nFinancial support for the training school is provided by the Na
 tional Science Foundation (NSF) through the Antarctica Network (ANET) compo
 nent of the Polar Earth Observing Network (POLENET) project and by the Scie
 ntific Community on Antarctic Research (SCAR) through the Solid Earth Respo
 nses and influences on Cryospheric Evolution (SERCE) program.\nThe deadline
  to apply is 31 January 2017. For more information on the school and how to
  apply, visit www.polenet.org (http://www.polenet.org/) and click on the "T
 raining School Information and Applications" link.\nSincerely,\nPOLENET/SER
 CE Glacial Seismology Training School Organizing Committee\n
X-ALT-DESC;FMTTYPE=text/html:<p>A training school focused on exploring glacial seismology will be held f
 rom 11-17 June 2017 on the campus of Colorado State University, Fort Collin
 s, Colorado, USA. The program will include lectures and practical exercises
  aimed at current and emergent seismological studies of glacial dynamics, s
 tructure, seismogenic processes, and seismic observables. While primarily a
 imed at graduate students and early career scientists, all interested parti
 es are encouraged to apply regardless of career or experience level. There 
 is no registration fee, and participants will be provided with food and lod
 ging for the duration of the training school. Funding for additional travel
  expenses, including airfare, may also be available for both US and non-US 
 participants.</p><p>Financial support for the training school is provided b
 y the National Science Foundation (NSF) through the Antarctica Network (ANE
 T) component of the Polar Earth Observing Network (POLENET) project and by 
 the Scientific Community on Antarctic Research (SCAR) through the Solid Ear
 th Responses and influences on Cryospheric Evolution (SERCE) program.</p><p
 ><strong>The deadline to apply is 31 January 2017</strong>. For more inform
 ation on the school and how to apply, visit <a href="http://www.polenet.org
 /">www.polenet.org</a> and click on the "Training School Information and Ap
 plications" link.</p><p>Sincerely,</p><p>POLENET/SERCE Glacial Seismology T
 raining School Organizing Committee</p>
DTSTAMP:20260424T065251Z
DTSTART;TZID=UTC;VALUE=DATE:20170611
DTEND;TZID=UTC;VALUE=DATE:20170618
SEQUENCE:0
TRANSP:OPAQUE
END:VEVENT
END:VCALENDAR